BEGIN:VCALENDAR
VERSION:2.0
PRODID:-//UM//UM*Events//EN
CALSCALE:GREGORIAN
BEGIN:VTIMEZONE
TZID:America/Detroit
TZURL:http://tzurl.org/zoneinfo/America/Detroit
X-LIC-LOCATION:America/Detroit
BEGIN:DAYLIGHT
TZOFFSETFROM:-0500
TZOFFSETTO:-0400
TZNAME:EDT
DTSTART:20070311T020000
RRULE:FREQ=YEARLY;BYMONTH=3;BYDAY=2SU
END:DAYLIGHT
BEGIN:STANDARD
TZOFFSETFROM:-0400
TZOFFSETTO:-0500
TZNAME:EST
DTSTART:20071104T020000
RRULE:FREQ=YEARLY;BYMONTH=11;BYDAY=1SU
END:STANDARD
END:VTIMEZONE
BEGIN:VEVENT
DTSTAMP:20100715T195744
DTSTART;TZID=America/Detroit:20100718T083000
DTEND;TZID=America/Detroit:20100718T190000
SUMMARY:Exhibition:Tour de France: Travel & Topography in France 1700-1900
DESCRIPTION:The Audubon Room currently displays maps\, atlases and books related to cartography\, travel\, and the geography of France\, drawing on the University of Michigan Library's extensive holdings of French materials in the Map Library.\n\nOpen during Audubon Room hours\; see http://www.lib.umich.edu/audubon-room
UID:2614-919357@events.umich.edu
URL:https://events.umich.edu/event/2614
CLASS:PUBLIC
STATUS:CONFIRMED
CATEGORIES:visual arts
LOCATION:Hatcher Graduate Library - Audubon Room
CONTACT:
END:VEVENT
BEGIN:VEVENT
DTSTAMP:20100614T131024
DTSTART;TZID=America/Detroit:20100718T100000
DTEND;TZID=America/Detroit:20100718T163000
SUMMARY:Exhibition:Fabulous Flamingos! - A Whimsical Garden Display
DESCRIPTION:The flamingos have landed – at Matthaei! On display are dozens of pink flamingo  lawn ornaments imaginatively themed and decorated by U-M Art School students\,  community members\, and Ann Arbor Public School students\; fantastic topiary  creatures such as Nessie the garden serpent and others creatively grown and  decorated by our expert horticulturists\; perennial garden favorites like whirligigs and  gnomes\; lush seasonal plantings\; and more. A must-see garden! While you're  visiting Matthaei\, be sure to vote for your favorite flamingo June 19 through July  15. Voting cards and ballot box located in the lobby at Matthaei. Best in Show  Flamingos announced on Saturday\, July 17\, 2 pm. Gardens and trails at Matthaei  are free and open 7 days a week. Display opens June 19 and continues through the  summer at Matthaei Botanical Gardens\, 1800 N. Dixboro Rd.\, Ann Arbor. For more  information visit our website: www.mbgna.umich.edu or call 734-647-7600.
UID:1664-916384@events.umich.edu
URL:https://events.umich.edu/event/1664
CLASS:PUBLIC
STATUS:CONFIRMED
CATEGORIES:
LOCATION:
CONTACT:
END:VEVENT
BEGIN:VEVENT
DTSTAMP:20100712T161704
DTSTART;TZID=America/Detroit:20100718T110000
DTEND;TZID=America/Detroit:20100718T170000
SUMMARY:Exhibition:School of Art & Design Alumni Exhibition
DESCRIPTION:over 140 works in all media by the School of Art & Design's talented alumni.
UID:2379-919709@events.umich.edu
URL:https://events.umich.edu/event/2379
CLASS:PUBLIC
STATUS:CONFIRMED
CATEGORIES:visual arts
LOCATION:Art and Architecture Building - Slusser Gallery
CONTACT:
END:VEVENT
BEGIN:VEVENT
DTSTAMP:20100628T102042
DTSTART;TZID=America/Detroit:20100718T140000
SUMMARY:Presentation:Guided Tour
DESCRIPTION:
UID:415-910522@events.umich.edu
URL:https://events.umich.edu/event/415
CLASS:PUBLIC
STATUS:CONFIRMED
CATEGORIES:multicultural,visual arts
LOCATION:Museum of Art
CONTACT:
END:VEVENT
BEGIN:VEVENT
DTSTAMP:20100718T030002
DTSTART;TZID=America/Detroit:20100718T160000
SUMMARY:Other:Music for Violin and Organ: Tapani Yriola\, violin and David Troiano\, organ
DESCRIPTION:Part of the Ann Arbor Summer Festival International Organ Series  PROGRAM:  Veracini - Sonata Prima (Duo)\;Bach - Neumeister Chorales (Organ)\; Handel - Sonata in D Op. 1\, No. 13 (Duo)\; Marcello - Sonata di Organa\; Bach - Allemanda (from Partita in B Minor)\;\, Salonen - Variations on a Finnish Chorale\; Kuulo - Chanson san parole\; Jarnefelt - Berceuse\; Sibelius - Rondino Op. 81\, No. 2    Tickets available at the door or at the Ann Arbor Summer Festival Ticket Office  734-764-2538.
UID:2031-918019@events.umich.edu
URL:https://events.umich.edu/event/2031
CLASS:PUBLIC
STATUS:CONFIRMED
CATEGORIES:music
LOCATION:Earl V. Moore Building - Blanche Anderson Moore Hall
CONTACT:
END:VEVENT
BEGIN:VEVENT
DTSTAMP:20100706T155220
DTSTART;TZID=America/Detroit:20100718T180000
DTEND;TZID=America/Detroit:20100718T200000
SUMMARY:Performance:Music in the Arb - Featuring The Dorkestra
DESCRIPTION:All invited to the first in a series of free eclectic concerts held in the amphitheater in  Nichols Arboretum. Tonight's concert features The Dorkestra\, a local band that  weaves jazz\, African\, classical\, Latin\, and funk influences among others into a  repertoire of originals and standards. Free. For more information visit our website at  www.mbgna.umich.edu or call 734-647-7600.
UID:1293-914172@events.umich.edu
URL:https://events.umich.edu/event/1293
CLASS:PUBLIC
STATUS:CONFIRMED
CATEGORIES:music
LOCATION:Nichols Arboretum - Amphitheater
CONTACT:
END:VEVENT
END:VCALENDAR