BEGIN:VCALENDAR
VERSION:2.0
PRODID:-//UM//UM*Events//EN
CALSCALE:GREGORIAN
BEGIN:VTIMEZONE
TZID:America/Detroit
TZURL:http://tzurl.org/zoneinfo/America/Detroit
X-LIC-LOCATION:America/Detroit
BEGIN:DAYLIGHT
TZOFFSETFROM:-0500
TZOFFSETTO:-0400
TZNAME:EDT
DTSTART:20070311T020000
RRULE:FREQ=YEARLY;BYMONTH=3;BYDAY=2SU
END:DAYLIGHT
BEGIN:STANDARD
TZOFFSETFROM:-0400
TZOFFSETTO:-0500
TZNAME:EST
DTSTART:20071104T020000
RRULE:FREQ=YEARLY;BYMONTH=11;BYDAY=1SU
END:STANDARD
END:VTIMEZONE
BEGIN:VEVENT
DTSTAMP:20100715T195744
DTSTART;TZID=America/Detroit:20100726T083000
DTEND;TZID=America/Detroit:20100726T190000
SUMMARY:Exhibition:Tour de France: Travel & Topography in France 1700-1900
DESCRIPTION:The Audubon Room currently displays maps\, atlases and books related to cartography\, travel\, and the geography of France\, drawing on the University of Michigan Library's extensive holdings of French materials in the Map Library.\n\nOpen during Audubon Room hours\; see http://www.lib.umich.edu/audubon-room
UID:2614-919365@events.umich.edu
URL:https://events.umich.edu/event/2614
CLASS:PUBLIC
STATUS:CONFIRMED
CATEGORIES:visual arts
LOCATION:Hatcher Graduate Library - Audubon Room
CONTACT:
END:VEVENT
BEGIN:VEVENT
DTSTAMP:20100614T131024
DTSTART;TZID=America/Detroit:20100726T100000
DTEND;TZID=America/Detroit:20100726T163000
SUMMARY:Exhibition:Fabulous Flamingos! - A Whimsical Garden Display
DESCRIPTION:The flamingos have landed – at Matthaei! On display are dozens of pink flamingo  lawn ornaments imaginatively themed and decorated by U-M Art School students\,  community members\, and Ann Arbor Public School students\; fantastic topiary  creatures such as Nessie the garden serpent and others creatively grown and  decorated by our expert horticulturists\; perennial garden favorites like whirligigs and  gnomes\; lush seasonal plantings\; and more. A must-see garden! While you're  visiting Matthaei\, be sure to vote for your favorite flamingo June 19 through July  15. Voting cards and ballot box located in the lobby at Matthaei. Best in Show  Flamingos announced on Saturday\, July 17\, 2 pm. Gardens and trails at Matthaei  are free and open 7 days a week. Display opens June 19 and continues through the  summer at Matthaei Botanical Gardens\, 1800 N. Dixboro Rd.\, Ann Arbor. For more  information visit our website: www.mbgna.umich.edu or call 734-647-7600.
UID:1664-916392@events.umich.edu
URL:https://events.umich.edu/event/1664
CLASS:PUBLIC
STATUS:CONFIRMED
CATEGORIES:
LOCATION:
CONTACT:
END:VEVENT
BEGIN:VEVENT
DTSTAMP:20100712T161704
DTSTART;TZID=America/Detroit:20100726T110000
DTEND;TZID=America/Detroit:20100726T170000
SUMMARY:Exhibition:School of Art & Design Alumni Exhibition
DESCRIPTION:over 140 works in all media by the School of Art & Design's talented alumni.
UID:2379-919717@events.umich.edu
URL:https://events.umich.edu/event/2379
CLASS:PUBLIC
STATUS:CONFIRMED
CATEGORIES:visual arts
LOCATION:Art and Architecture Building - Slusser Gallery
CONTACT:
END:VEVENT
BEGIN:VEVENT
DTSTAMP:20101111T175614
DTSTART;TZID=America/Detroit:20100726T180000
DTEND;TZID=America/Detroit:20100726T200000
SUMMARY:Other:UMove Class: Intro to Technique
DESCRIPTION:Each class session will focus specifically on a new technique and build on the  previous sessions. Techniques include: Introduction to footwork and climbing  technique\; weight shifting and hip movement\; fundamental footwork: foot switches  and smearing\; sit starts\, mantles and one-armed mantles\; back-stepping and  flagging\; sidepulls\, underclings\, slopers and crimpers\; heel hooks\; reading  sequences and working problems. Summer sessions of this course will be four  weeks long with topics tailored to student interest.
UID:3031-910167@events.umich.edu
URL:https://events.umich.edu/event/3031
CLASS:PUBLIC
STATUS:CONFIRMED
CATEGORIES:
LOCATION:Intramural Sports Building - MRock
CONTACT:
END:VEVENT
BEGIN:VEVENT
DTSTAMP:20100720T181133
DTSTART;TZID=America/Detroit:20100726T200000
SUMMARY:Performance:Danny Brit
DESCRIPTION:Danny Britt and his band Red Dawg have been favorites for years in Austin's vibrant nightclub scene. Danny writes and sings\, and his music can sound like Willie Nelson\, like the Eagles\, or like Southern-fried modern folk -- it's pretty hard to put this guy in a box! He grew up in south central Kentucky playing everything from bluegrass to rock to classical music. Moving to Austin in 1980\, Danny got a master's degree in progressive country music during a stint as Jerry Jeff Walker's road manager\, and he's been making music with the Austin spirit ever since. Danny has toured with the likes of Guy Clark\, Chris Smither\, Chris Wall\, Greg Trooper\, and the original Dixie Chicks\, and his fame extends as far as Belgium and Italy. Come and hear some classic sounds from the Live Music Capital of the World!
UID:59-909892@events.umich.edu
URL:https://events.umich.edu/event/59
CLASS:PUBLIC
STATUS:CONFIRMED
CATEGORIES:music
LOCATION:
CONTACT:
END:VEVENT
END:VCALENDAR