BEGIN:VCALENDAR
VERSION:2.0
PRODID:-//UM//UM*Events//EN
CALSCALE:GREGORIAN
BEGIN:VTIMEZONE
TZID:America/Detroit
TZURL:http://tzurl.org/zoneinfo/America/Detroit
X-LIC-LOCATION:America/Detroit
BEGIN:DAYLIGHT
TZOFFSETFROM:-0500
TZOFFSETTO:-0400
TZNAME:EDT
DTSTART:20070311T020000
RRULE:FREQ=YEARLY;BYMONTH=3;BYDAY=2SU
END:DAYLIGHT
BEGIN:STANDARD
TZOFFSETFROM:-0400
TZOFFSETTO:-0500
TZNAME:EST
DTSTART:20071104T020000
RRULE:FREQ=YEARLY;BYMONTH=11;BYDAY=1SU
END:STANDARD
END:VTIMEZONE
BEGIN:VEVENT
DTSTAMP:20100715T195744
DTSTART;TZID=America/Detroit:20100728T083000
DTEND;TZID=America/Detroit:20100728T190000
SUMMARY:Exhibition:Tour de France: Travel & Topography in France 1700-1900
DESCRIPTION:The Audubon Room currently displays maps\, atlases and books related to cartography\, travel\, and the geography of France\, drawing on the University of Michigan Library's extensive holdings of French materials in the Map Library.\n\nOpen during Audubon Room hours\; see http://www.lib.umich.edu/audubon-room
UID:2614-919367@events.umich.edu
URL:https://events.umich.edu/event/2614
CLASS:PUBLIC
STATUS:CONFIRMED
CATEGORIES:visual arts
LOCATION:Hatcher Graduate Library - Audubon Room
CONTACT:
END:VEVENT
BEGIN:VEVENT
DTSTAMP:20100614T131024
DTSTART;TZID=America/Detroit:20100728T100000
DTEND;TZID=America/Detroit:20100728T163000
SUMMARY:Exhibition:Fabulous Flamingos! - A Whimsical Garden Display
DESCRIPTION:The flamingos have landed – at Matthaei! On display are dozens of pink flamingo  lawn ornaments imaginatively themed and decorated by U-M Art School students\,  community members\, and Ann Arbor Public School students\; fantastic topiary  creatures such as Nessie the garden serpent and others creatively grown and  decorated by our expert horticulturists\; perennial garden favorites like whirligigs and  gnomes\; lush seasonal plantings\; and more. A must-see garden! While you're  visiting Matthaei\, be sure to vote for your favorite flamingo June 19 through July  15. Voting cards and ballot box located in the lobby at Matthaei. Best in Show  Flamingos announced on Saturday\, July 17\, 2 pm. Gardens and trails at Matthaei  are free and open 7 days a week. Display opens June 19 and continues through the  summer at Matthaei Botanical Gardens\, 1800 N. Dixboro Rd.\, Ann Arbor. For more  information visit our website: www.mbgna.umich.edu or call 734-647-7600.
UID:1664-916394@events.umich.edu
URL:https://events.umich.edu/event/1664
CLASS:PUBLIC
STATUS:CONFIRMED
CATEGORIES:
LOCATION:
CONTACT:
END:VEVENT
BEGIN:VEVENT
DTSTAMP:20100712T161704
DTSTART;TZID=America/Detroit:20100728T110000
DTEND;TZID=America/Detroit:20100728T170000
SUMMARY:Exhibition:School of Art & Design Alumni Exhibition
DESCRIPTION:over 140 works in all media by the School of Art & Design's talented alumni.
UID:2379-919719@events.umich.edu
URL:https://events.umich.edu/event/2379
CLASS:PUBLIC
STATUS:CONFIRMED
CATEGORIES:visual arts
LOCATION:Art and Architecture Building - Slusser Gallery
CONTACT:
END:VEVENT
BEGIN:VEVENT
DTSTAMP:20101111T175701
DTSTART;TZID=America/Detroit:20100728T180000
DTEND;TZID=America/Detroit:20100728T200000
SUMMARY:Other:UMove Class: Rock Climbing 101
DESCRIPTION:The Introduction to Movement on Rock class is a eight week long course covering  the basics of indoor rock climbing movement and balance. This course is geared  towards beginner and novice climbers\, no experience required. The fundamental  purpose of the course is to introduce students to rock climbing in a safe manner\,  while providing instruction on proper knot tying\, belaying\, rope management\, and  basic rock climbing technique.
UID:3029-913720@events.umich.edu
URL:https://events.umich.edu/event/3029
CLASS:PUBLIC
STATUS:CONFIRMED
CATEGORIES:
LOCATION:
CONTACT:
END:VEVENT
BEGIN:VEVENT
DTSTAMP:20100720T181426
DTSTART;TZID=America/Detroit:20100728T200000
SUMMARY:Performance:Punch Brothers
DESCRIPTION:The Punch Brothers -- mandolinist Chris Thile\, fiddler Gabe Witcher\, guitarist Chris Eldridge (son of bluegrass great Ben Eldridge)\, banjoist Noam Pikelny\, and bassist Paul Kowert -- are a groundbreaking acoustic quintet that\, in the words of The New York Times\, \"expands the frontier of an emerging style of what might be called American country-classical chamber music.\" They might have added modern jazz and alternative rock to that description\, and really there's almost no music that these young geniuses can't incorporate into the acoustic format. The Punch Brothers have recently released the new album \"Antifogmatic.\" Explains Chris Thile: \"Antifogmatic is an old term for a bracing beverage\, generally rum or whiskey\, that a person would have before going out to work in rough weather to stave off any ill effects. This batch of tunes could be used in much the same way\, and includes some characters who would probably benefit mightily\, if temporarily\, from a good antifogmatic.\" Check it out for yourself\, and step out onto the leading creative edge of new acoustic music!
UID:1521-914605@events.umich.edu
URL:https://events.umich.edu/event/1521
CLASS:PUBLIC
STATUS:CONFIRMED
CATEGORIES:music
LOCATION:
CONTACT:
END:VEVENT
END:VCALENDAR