BEGIN:VCALENDAR
VERSION:2.0
PRODID:-//UM//UM*Events//EN
CALSCALE:GREGORIAN
BEGIN:VTIMEZONE
TZID:America/Detroit
TZURL:http://tzurl.org/zoneinfo/America/Detroit
X-LIC-LOCATION:America/Detroit
BEGIN:DAYLIGHT
TZOFFSETFROM:-0500
TZOFFSETTO:-0400
TZNAME:EDT
DTSTART:20070311T020000
RRULE:FREQ=YEARLY;BYMONTH=3;BYDAY=2SU
END:DAYLIGHT
BEGIN:STANDARD
TZOFFSETFROM:-0400
TZOFFSETTO:-0500
TZNAME:EST
DTSTART:20071104T020000
RRULE:FREQ=YEARLY;BYMONTH=11;BYDAY=1SU
END:STANDARD
END:VTIMEZONE
BEGIN:VEVENT
DTSTAMP:20100715T195744
DTSTART;TZID=America/Detroit:20100730T083000
DTEND;TZID=America/Detroit:20100730T190000
SUMMARY:Exhibition:Tour de France: Travel & Topography in France 1700-1900
DESCRIPTION:The Audubon Room currently displays maps\, atlases and books related to cartography\, travel\, and the geography of France\, drawing on the University of Michigan Library's extensive holdings of French materials in the Map Library.\n\nOpen during Audubon Room hours\; see http://www.lib.umich.edu/audubon-room
UID:2614-919369@events.umich.edu
URL:https://events.umich.edu/event/2614
CLASS:PUBLIC
STATUS:CONFIRMED
CATEGORIES:visual arts
LOCATION:Hatcher Graduate Library - Audubon Room
CONTACT:
END:VEVENT
BEGIN:VEVENT
DTSTAMP:20100614T131024
DTSTART;TZID=America/Detroit:20100730T100000
DTEND;TZID=America/Detroit:20100730T163000
SUMMARY:Exhibition:Fabulous Flamingos! - A Whimsical Garden Display
DESCRIPTION:The flamingos have landed – at Matthaei! On display are dozens of pink flamingo  lawn ornaments imaginatively themed and decorated by U-M Art School students\,  community members\, and Ann Arbor Public School students\; fantastic topiary  creatures such as Nessie the garden serpent and others creatively grown and  decorated by our expert horticulturists\; perennial garden favorites like whirligigs and  gnomes\; lush seasonal plantings\; and more. A must-see garden! While you're  visiting Matthaei\, be sure to vote for your favorite flamingo June 19 through July  15. Voting cards and ballot box located in the lobby at Matthaei. Best in Show  Flamingos announced on Saturday\, July 17\, 2 pm. Gardens and trails at Matthaei  are free and open 7 days a week. Display opens June 19 and continues through the  summer at Matthaei Botanical Gardens\, 1800 N. Dixboro Rd.\, Ann Arbor. For more  information visit our website: www.mbgna.umich.edu or call 734-647-7600.
UID:1664-916396@events.umich.edu
URL:https://events.umich.edu/event/1664
CLASS:PUBLIC
STATUS:CONFIRMED
CATEGORIES:
LOCATION:
CONTACT:
END:VEVENT
BEGIN:VEVENT
DTSTAMP:20100712T161704
DTSTART;TZID=America/Detroit:20100730T110000
DTEND;TZID=America/Detroit:20100730T170000
SUMMARY:Exhibition:School of Art & Design Alumni Exhibition
DESCRIPTION:over 140 works in all media by the School of Art & Design's talented alumni.
UID:2379-919721@events.umich.edu
URL:https://events.umich.edu/event/2379
CLASS:PUBLIC
STATUS:CONFIRMED
CATEGORIES:visual arts
LOCATION:Art and Architecture Building - Slusser Gallery
CONTACT:
END:VEVENT
BEGIN:VEVENT
DTSTAMP:20100622T100530
DTSTART;TZID=America/Detroit:20100730T130000
DTEND;TZID=America/Detroit:20100730T153000
SUMMARY:Workshop / Seminar:Ann Arbor Art Center Workshops
DESCRIPTION:If you've always wanted to try to draw and paint but never knew where to start\, this is the course for you! You will explore the fundamental principles of drawing and painting and how to transition from drawing into painting in the inspiring environment of the Museum. Lab fee includes basic painting materials. Please bring 11 x 14 inch or larger drawing pad\; HB\, 4B\, or 6B drawing pencils\; and kneaded eraser to the first class. All levels welcome. 6-week workshop: Fridays\, July 9-August 20. No class on July 23.
UID:1544-915338@events.umich.edu
URL:https://events.umich.edu/event/1544
CLASS:PUBLIC
STATUS:CONFIRMED
CATEGORIES:visual arts
LOCATION:Museum of Art
CONTACT:
END:VEVENT
BEGIN:VEVENT
DTSTAMP:20100621T164958
DTSTART;TZID=America/Detroit:20100730T130000
DTEND;TZID=America/Detroit:20100730T170000
SUMMARY:Lecture / Discussion:Copyright Camp
DESCRIPTION:Are you interested in how copyright affects your professional life? Do you miss the fun and welcoming atmosphere of summer camp? Join us at Copyright Camp\, where we'll provide a  forum to discuss copyright and how it affects you on a daily basis. Copyright Camp will be an unconference-style event with an introductory plenary talk by Jessica Litman\, Michigan Law  professor and author of \"Digital Copyright.\"\n\nThis event is free and open to the public\, but space is limited. Go to  http://copyrightcamp.org for more information and to register.
UID:786-912514@events.umich.edu
URL:https://events.umich.edu/event/786
CLASS:PUBLIC
STATUS:CONFIRMED
CATEGORIES:
LOCATION:Hatcher Graduate Library - Gallery in Room 100
CONTACT:
END:VEVENT
BEGIN:VEVENT
DTSTAMP:20101111T175701
DTSTART;TZID=America/Detroit:20100730T180000
DTEND;TZID=America/Detroit:20100730T200000
SUMMARY:Other:UMove Class: Rock Climbing 101
DESCRIPTION:The Introduction to Movement on Rock class is a eight week long course covering  the basics of indoor rock climbing movement and balance. This course is geared  towards beginner and novice climbers\, no experience required. The fundamental  purpose of the course is to introduce students to rock climbing in a safe manner\,  while providing instruction on proper knot tying\, belaying\, rope management\, and  basic rock climbing technique.
UID:3029-913721@events.umich.edu
URL:https://events.umich.edu/event/3029
CLASS:PUBLIC
STATUS:CONFIRMED
CATEGORIES:
LOCATION:
CONTACT:
END:VEVENT
BEGIN:VEVENT
DTSTAMP:20100720T181533
DTSTART;TZID=America/Detroit:20100730T200000
SUMMARY:Performance:Finvarra's Wren
DESCRIPTION:Why not celebrate a midsummer night with the Irish\, Scottish\, English\, and Celtic-American folk music of Finvarra's Wren? This five-piece Detroit-based group offers traditional and contemporary songs\, punctuated with wonderfully inventive arrangements of jigs\, reels\, and hornpipes\, all rendered on red-hot fiddle\, whistles\, uilleann pipes\, button accordion\, and concertina. Wren Band members have won Irish music competitions all over the Midwest and in Ireland itself\, and the legendary Jean Ritchie says simply that \"Finvarra's Wren is lovely!\" Fabulous guest musicians tend to show up at any Finvarra's Wren show\, and Irish step dancing is often on the menu as well.
UID:2599-919303@events.umich.edu
URL:https://events.umich.edu/event/2599
CLASS:PUBLIC
STATUS:CONFIRMED
CATEGORIES:music
LOCATION:
CONTACT:
END:VEVENT
BEGIN:VEVENT
DTSTAMP:20101111T175640
DTSTART;TZID=America/Detroit:20100730T200000
DTEND;TZID=America/Detroit:20100730T093000
SUMMARY:Class / Instruction:M-Tango Beginner's Boot Camp July-August Series
DESCRIPTION:Beginner's Bootcamp: Our intensive beginner's bootcamp in Argentine tango will prepare you to join the social dance floor quickly. We cover walking in parallel and crossed systems\, cruzadas\, and molinetes\, in both open and close embrace. The bootcamp is extremely popular and space is limited\, so register soon! Note: due to the intensive nature of the bootcamp\, you must register for the entire series.
UID:681-912344@events.umich.edu
URL:https://events.umich.edu/event/681
CLASS:PUBLIC
STATUS:CONFIRMED
CATEGORIES:multicultural
LOCATION:Mason Hall - 3427
CONTACT:
END:VEVENT
END:VCALENDAR