BEGIN:VCALENDAR
VERSION:2.0
PRODID:-//UM//UM*Events//EN
CALSCALE:GREGORIAN
BEGIN:VTIMEZONE
TZID:America/Detroit
TZURL:http://tzurl.org/zoneinfo/America/Detroit
X-LIC-LOCATION:America/Detroit
BEGIN:DAYLIGHT
TZOFFSETFROM:-0500
TZOFFSETTO:-0400
TZNAME:EDT
DTSTART:20070311T020000
RRULE:FREQ=YEARLY;BYMONTH=3;BYDAY=2SU
END:DAYLIGHT
BEGIN:STANDARD
TZOFFSETFROM:-0400
TZOFFSETTO:-0500
TZNAME:EST
DTSTART:20071104T020000
RRULE:FREQ=YEARLY;BYMONTH=11;BYDAY=1SU
END:STANDARD
END:VTIMEZONE
BEGIN:VEVENT
DTSTAMP:20100715T195744
DTSTART;TZID=America/Detroit:20100807T083000
DTEND;TZID=America/Detroit:20100807T190000
SUMMARY:Exhibition:Tour de France: Travel & Topography in France 1700-1900
DESCRIPTION:The Audubon Room currently displays maps\, atlases and books related to cartography\, travel\, and the geography of France\, drawing on the University of Michigan Library's extensive holdings of French materials in the Map Library.\n\nOpen during Audubon Room hours\; see http://www.lib.umich.edu/audubon-room
UID:2614-919377@events.umich.edu
URL:https://events.umich.edu/event/2614
CLASS:PUBLIC
STATUS:CONFIRMED
CATEGORIES:visual arts
LOCATION:Hatcher Graduate Library - Audubon Room
CONTACT:
END:VEVENT
BEGIN:VEVENT
DTSTAMP:20100614T131024
DTSTART;TZID=America/Detroit:20100807T100000
DTEND;TZID=America/Detroit:20100807T163000
SUMMARY:Exhibition:Fabulous Flamingos! - A Whimsical Garden Display
DESCRIPTION:The flamingos have landed – at Matthaei! On display are dozens of pink flamingo  lawn ornaments imaginatively themed and decorated by U-M Art School students\,  community members\, and Ann Arbor Public School students\; fantastic topiary  creatures such as Nessie the garden serpent and others creatively grown and  decorated by our expert horticulturists\; perennial garden favorites like whirligigs and  gnomes\; lush seasonal plantings\; and more. A must-see garden! While you're  visiting Matthaei\, be sure to vote for your favorite flamingo June 19 through July  15. Voting cards and ballot box located in the lobby at Matthaei. Best in Show  Flamingos announced on Saturday\, July 17\, 2 pm. Gardens and trails at Matthaei  are free and open 7 days a week. Display opens June 19 and continues through the  summer at Matthaei Botanical Gardens\, 1800 N. Dixboro Rd.\, Ann Arbor. For more  information visit our website: www.mbgna.umich.edu or call 734-647-7600.
UID:1664-916404@events.umich.edu
URL:https://events.umich.edu/event/1664
CLASS:PUBLIC
STATUS:CONFIRMED
CATEGORIES:
LOCATION:
CONTACT:
END:VEVENT
BEGIN:VEVENT
DTSTAMP:20101111T175659
DTSTART;TZID=America/Detroit:20100807T170000
SUMMARY:Lecture / Discussion:Turning Point: Japanese Studio Ceramics in the Mid-20th Century
DESCRIPTION:In the postwar period\, ceramic artists from around the world\, but especially from the West\, visited Japan to apprentice with studio potters. Michigan artists John and Susanne Stephenson\, Marie Woo\, and Georgette Zirbes studied natural and non-glazed ware technique with potters Takahashi Rakusai III and Kaneshige TÃ´yÃ´\, who themselves revived the great tradition of Momoyama period (1583–1615) ceramics. After returning to Michigan\, these artists were instrumental in disseminating the age-old techniques in schools and in the pottery community at large. Hear about their experience of living in traditional pottery towns and working closely with Japanese potters. A short film of ShÃ´ji Hamada's demonstration in Ann Arbor in 1967 will also be presented.
UID:982-913630@events.umich.edu
URL:https://events.umich.edu/event/982
CLASS:PUBLIC
STATUS:CONFIRMED
CATEGORIES:multicultural,visual arts
LOCATION:Museum of Art
CONTACT:
END:VEVENT
BEGIN:VEVENT
DTSTAMP:20100720T182021
DTSTART;TZID=America/Detroit:20100807T200000
SUMMARY:Performance:J. D. Souther
DESCRIPTION:J.D. Souther released several critically acclaimed country-rock albums in Los Angeles in the 1970s and 1980s. As a songwriter\, he's worked with artists from India.Arie to Warren Zevon (and\, in between\, Brooks & Dunn\, Jimmy Buffett\, the Dixie chicks\, Don Henley\, Bonnie Raitt\, George Strait\, and Brian Wilson\, just to name a few). But what even industry insiders didn't know was that J.D. had been listening to and performing jazz of various kinds since the age of 12. So it came as a great surprise when he assembled a group of the top jazz players in Nashville (which has had an excellent jazz scene for decades) and released \"If the World Was You\,\" his first album in 25 years. The album sounds by turns like a classic New Orleans nightspot\, like a Miles Davis album\, and like a Buena Vista Social Club session\, with all these jazz styles applied to J.D.'s superb country- and blues-tinged songcraft. It's a real revelation\, it's been getting critical raves\, and it's already spawned a new live album. And it's hard to imagine a better place than The Ark to hear this intimate and expressive music.
UID:2373-918969@events.umich.edu
URL:https://events.umich.edu/event/2373
CLASS:PUBLIC
STATUS:CONFIRMED
CATEGORIES:music
LOCATION:
CONTACT:
END:VEVENT
END:VCALENDAR