BEGIN:VCALENDAR
VERSION:2.0
PRODID:-//UM//UM*Events//EN
CALSCALE:GREGORIAN
BEGIN:VTIMEZONE
TZID:America/Detroit
TZURL:http://tzurl.org/zoneinfo/America/Detroit
X-LIC-LOCATION:America/Detroit
BEGIN:DAYLIGHT
TZOFFSETFROM:-0500
TZOFFSETTO:-0400
TZNAME:EDT
DTSTART:20070311T020000
RRULE:FREQ=YEARLY;BYMONTH=3;BYDAY=2SU
END:DAYLIGHT
BEGIN:STANDARD
TZOFFSETFROM:-0400
TZOFFSETTO:-0500
TZNAME:EST
DTSTART:20071104T020000
RRULE:FREQ=YEARLY;BYMONTH=11;BYDAY=1SU
END:STANDARD
END:VTIMEZONE
BEGIN:VEVENT
DTSTAMP:20100715T195744
DTSTART;TZID=America/Detroit:20100812T083000
DTEND;TZID=America/Detroit:20100812T190000
SUMMARY:Exhibition:Tour de France: Travel & Topography in France 1700-1900
DESCRIPTION:The Audubon Room currently displays maps\, atlases and books related to cartography\, travel\, and the geography of France\, drawing on the University of Michigan Library's extensive holdings of French materials in the Map Library.\n\nOpen during Audubon Room hours\; see http://www.lib.umich.edu/audubon-room
UID:2614-919382@events.umich.edu
URL:https://events.umich.edu/event/2614
CLASS:PUBLIC
STATUS:CONFIRMED
CATEGORIES:visual arts
LOCATION:Hatcher Graduate Library - Audubon Room
CONTACT:
END:VEVENT
BEGIN:VEVENT
DTSTAMP:20100614T131024
DTSTART;TZID=America/Detroit:20100812T100000
DTEND;TZID=America/Detroit:20100812T163000
SUMMARY:Exhibition:Fabulous Flamingos! - A Whimsical Garden Display
DESCRIPTION:The flamingos have landed – at Matthaei! On display are dozens of pink flamingo  lawn ornaments imaginatively themed and decorated by U-M Art School students\,  community members\, and Ann Arbor Public School students\; fantastic topiary  creatures such as Nessie the garden serpent and others creatively grown and  decorated by our expert horticulturists\; perennial garden favorites like whirligigs and  gnomes\; lush seasonal plantings\; and more. A must-see garden! While you're  visiting Matthaei\, be sure to vote for your favorite flamingo June 19 through July  15. Voting cards and ballot box located in the lobby at Matthaei. Best in Show  Flamingos announced on Saturday\, July 17\, 2 pm. Gardens and trails at Matthaei  are free and open 7 days a week. Display opens June 19 and continues through the  summer at Matthaei Botanical Gardens\, 1800 N. Dixboro Rd.\, Ann Arbor. For more  information visit our website: www.mbgna.umich.edu or call 734-647-7600.
UID:1664-916409@events.umich.edu
URL:https://events.umich.edu/event/1664
CLASS:PUBLIC
STATUS:CONFIRMED
CATEGORIES:
LOCATION:
CONTACT:
END:VEVENT
BEGIN:VEVENT
DTSTAMP:20101111T175811
DTSTART;TZID=America/Detroit:20100812T160000
DTEND;TZID=America/Detroit:20100812T180000
SUMMARY:Other:UMove Class: Rock Climbing 101
DESCRIPTION:The Introduction to Movement on Rock class is a eight week long course covering  the basics of indoor rock climbing movement and balance. This course is geared  towards beginner and novice climbers\, no experience required. The fundamental  purpose of the course is to introduce students to rock climbing in a safe manner\,  while providing instruction on proper knot tying\, belaying\, rope management\, and  basic rock climbing technique.
UID:3030-918721@events.umich.edu
URL:https://events.umich.edu/event/3030
CLASS:PUBLIC
STATUS:CONFIRMED
CATEGORIES:
LOCATION:Intramural Sports Building - MRock
CONTACT:
END:VEVENT
BEGIN:VEVENT
DTSTAMP:20100720T182348
DTSTART;TZID=America/Detroit:20100812T200000
SUMMARY:Performance:Danny Schmidt & Carrie Elkin
DESCRIPTION:Tonight's pair of young songwriters are standouts in the highly competitive scene in Austin\, Texas. Carrie Elkin\, who calls herself a troubadour in the most classic fashion\, has ridden a gypsy breeze of serendipity around the U.S.\, finally settling in Austin. Carrie was recently chosen as a Falcon Ridge Folk Festival Emerging Artist. With the vocal fire of Patty Griffin and the lyrical rawness of Iris DeMent\, she has gained fans across the pond as well as at home: \"Her voice is simply revelatory\" says the venerable English music magazine Folkwax. Carrie comes to The Ark with a just-completed new CD.\n\nWinner of the prestigious Kerrville New Folk award in 2007\, Danny Schmidt writes songs with a lyrical complexity that has drawn comparisons to Townes Van Zandt and Leonard Cohen. \"He is perhaps the best new songwriter I've heard in the last 15 years\,\" raves Rich Warren of Sing Out!\, and Marilyn Rea Beyer of Boston's WUMB radio describes his music this way: \"The songs are fascinating and intriguing\, even mysterious. The singing is warm and unassuming\, letting the stories lead him. The melodies are captivating.\" Danny has recently released his debut album on the Red House label\, \"Instead the Forest Rose to Sing.\"
UID:446-910546@events.umich.edu
URL:https://events.umich.edu/event/446
CLASS:PUBLIC
STATUS:CONFIRMED
CATEGORIES:music
LOCATION:
CONTACT:
END:VEVENT
END:VCALENDAR