BEGIN:VCALENDAR
VERSION:2.0
PRODID:-//UM//UM*Events//EN
CALSCALE:GREGORIAN
BEGIN:VTIMEZONE
TZID:America/Detroit
TZURL:http://tzurl.org/zoneinfo/America/Detroit
X-LIC-LOCATION:America/Detroit
BEGIN:DAYLIGHT
TZOFFSETFROM:-0500
TZOFFSETTO:-0400
TZNAME:EDT
DTSTART:20070311T020000
RRULE:FREQ=YEARLY;BYMONTH=3;BYDAY=2SU
END:DAYLIGHT
BEGIN:STANDARD
TZOFFSETFROM:-0400
TZOFFSETTO:-0500
TZNAME:EST
DTSTART:20071104T020000
RRULE:FREQ=YEARLY;BYMONTH=11;BYDAY=1SU
END:STANDARD
END:VTIMEZONE
BEGIN:VEVENT
DTSTAMP:20100715T195744
DTSTART;TZID=America/Detroit:20100815T083000
DTEND;TZID=America/Detroit:20100815T190000
SUMMARY:Exhibition:Tour de France: Travel & Topography in France 1700-1900
DESCRIPTION:The Audubon Room currently displays maps\, atlases and books related to cartography\, travel\, and the geography of France\, drawing on the University of Michigan Library's extensive holdings of French materials in the Map Library.\n\nOpen during Audubon Room hours\; see http://www.lib.umich.edu/audubon-room
UID:2614-919385@events.umich.edu
URL:https://events.umich.edu/event/2614
CLASS:PUBLIC
STATUS:CONFIRMED
CATEGORIES:visual arts
LOCATION:Hatcher Graduate Library - Audubon Room
CONTACT:
END:VEVENT
BEGIN:VEVENT
DTSTAMP:20100614T131024
DTSTART;TZID=America/Detroit:20100815T100000
DTEND;TZID=America/Detroit:20100815T163000
SUMMARY:Exhibition:Fabulous Flamingos! - A Whimsical Garden Display
DESCRIPTION:The flamingos have landed – at Matthaei! On display are dozens of pink flamingo  lawn ornaments imaginatively themed and decorated by U-M Art School students\,  community members\, and Ann Arbor Public School students\; fantastic topiary  creatures such as Nessie the garden serpent and others creatively grown and  decorated by our expert horticulturists\; perennial garden favorites like whirligigs and  gnomes\; lush seasonal plantings\; and more. A must-see garden! While you're  visiting Matthaei\, be sure to vote for your favorite flamingo June 19 through July  15. Voting cards and ballot box located in the lobby at Matthaei. Best in Show  Flamingos announced on Saturday\, July 17\, 2 pm. Gardens and trails at Matthaei  are free and open 7 days a week. Display opens June 19 and continues through the  summer at Matthaei Botanical Gardens\, 1800 N. Dixboro Rd.\, Ann Arbor. For more  information visit our website: www.mbgna.umich.edu or call 734-647-7600.
UID:1664-916412@events.umich.edu
URL:https://events.umich.edu/event/1664
CLASS:PUBLIC
STATUS:CONFIRMED
CATEGORIES:
LOCATION:
CONTACT:
END:VEVENT
BEGIN:VEVENT
DTSTAMP:20101111T175855
DTSTART;TZID=America/Detroit:20100815T140000
SUMMARY:Presentation:Guided Tour
DESCRIPTION:The exhibition is comprised of 44 prints that illustrate Sister Corita's signature work beginning in the 1960s\, which broke free from the more traditionally religious or Biblical imagery to works that encompassed a wider concept of spirituality. Inspired by media and advertising\, she began her evocative use\, reuse\, and re-contextualization of everyday phrases and images to create art that addressed contemporary issues ranging from poverty\, materiality\, and environmental degradation to inequality\, social injustice\, and war. Sister Corita: The Joyous Revolutionary explores the artist's work chronologically and thematically\, from her early religious pieces and Abstract Expressionist-inspired works of the late 1950s to the popular “Love” stamp created for the United States Postal Service.
UID:2773-921258@events.umich.edu
URL:https://events.umich.edu/event/2773
CLASS:PUBLIC
STATUS:CONFIRMED
CATEGORIES:social justice,visual arts
LOCATION:Museum of Art
CONTACT:
END:VEVENT
BEGIN:VEVENT
DTSTAMP:20100720T182509
DTSTART;TZID=America/Detroit:20100815T193000
SUMMARY:Performance:John Lee Hooker Jr.
DESCRIPTION:Says John Lee Hooker Jr.: \"If I tried to fill my father's shoes\, I'd get cramps in my feet just trying to take one step.\" John Lee Hooker Jr. is no clone of the late\, great\, and lamented Detroit bluesman\, but instead he's something that's needed much more: an artist who carries forward the sardonic and funky sound and vision of Johnny \"Guitar\" Watson and other blues-based R&B artists of the 1970s and 1980s. John Jr. says that his sound is two parts R&B\, one part jazz and downhome blues. It all adds up to an evening of great urban sounds and an artist who\, whether he admits it or not\, has some of the charisma of his famous father. John's latest album\, \"All Odds Are Against Me\,\" garnered a Grammy nomination\, and his current tour has been burning up blues stages around the world -- with one show turning into a new release\, \"Live in Istanbul\, Turkey.\"
UID:1545-915342@events.umich.edu
URL:https://events.umich.edu/event/1545
CLASS:PUBLIC
STATUS:CONFIRMED
CATEGORIES:music
LOCATION:
CONTACT:
END:VEVENT
END:VCALENDAR