BEGIN:VCALENDAR
VERSION:2.0
PRODID:-//UM//UM*Events//EN
CALSCALE:GREGORIAN
BEGIN:VTIMEZONE
TZID:America/Detroit
TZURL:http://tzurl.org/zoneinfo/America/Detroit
X-LIC-LOCATION:America/Detroit
BEGIN:DAYLIGHT
TZOFFSETFROM:-0500
TZOFFSETTO:-0400
TZNAME:EDT
DTSTART:20070311T020000
RRULE:FREQ=YEARLY;BYMONTH=3;BYDAY=2SU
END:DAYLIGHT
BEGIN:STANDARD
TZOFFSETFROM:-0400
TZOFFSETTO:-0500
TZNAME:EST
DTSTART:20071104T020000
RRULE:FREQ=YEARLY;BYMONTH=11;BYDAY=1SU
END:STANDARD
END:VTIMEZONE
BEGIN:VEVENT
DTSTAMP:20100902T204041
DTSTART;TZID=America/Detroit:20100902T070000
SUMMARY:Exhibition:Habaghdad
DESCRIPTION:Cuban national Brayan Collazzo's exhibit features photographs of the devastated buildings of Habana\, Cuba. All that remains of many are the shells of the building creating surreal spaces resmbling a war torn (Baghdad) site.
UID:3476-913568@events.umich.edu
URL:https://events.umich.edu/event/3476
CLASS:PUBLIC
STATUS:CONFIRMED
CATEGORIES:visual arts
LOCATION:Michigan Union - Art Lounge
CONTACT:
END:VEVENT
BEGIN:VEVENT
DTSTAMP:20100902T203826
DTSTART;TZID=America/Detroit:20100902T070000
DTEND;TZID=America/Detroit:20100902T020000
SUMMARY:Exhibition:How Does Eastern Market Make Detroit a \"Cool City\"?
DESCRIPTION:When the state-funded Cool Cities Initiative\, which sponsored 2 UM students' internships\, offered grant money for special projects\, Oliver and Emma collaborated on a winning grant proposal for a project called “Know Your Farmer” that incorporated each intern's work. Emma posted Oliver's photographs on Eastern Market's Facebook page\, allowing fans to vote on their favorite pictures and contribute stories they had about particular farmers. This exhibit features the top five photographs as voted by Eastern Market Corporation fans\, Oliver's descriptions of the farmers\, and a few select quotations from the fans' comments.
UID:3475-921666@events.umich.edu
URL:https://events.umich.edu/event/3475
CLASS:PUBLIC
STATUS:CONFIRMED
CATEGORIES:literary arts,visual arts
LOCATION:Michigan Union - Wall Gallery
CONTACT:
END:VEVENT
BEGIN:VEVENT
DTSTAMP:20100715T195744
DTSTART;TZID=America/Detroit:20100902T083000
DTEND;TZID=America/Detroit:20100902T190000
SUMMARY:Exhibition:Tour de France: Travel & Topography in France 1700-1900
DESCRIPTION:The Audubon Room currently displays maps\, atlases and books related to cartography\, travel\, and the geography of France\, drawing on the University of Michigan Library's extensive holdings of French materials in the Map Library.\n\nOpen during Audubon Room hours\; see http://www.lib.umich.edu/audubon-room
UID:2614-919403@events.umich.edu
URL:https://events.umich.edu/event/2614
CLASS:PUBLIC
STATUS:CONFIRMED
CATEGORIES:visual arts
LOCATION:Hatcher Graduate Library - Audubon Room
CONTACT:
END:VEVENT
BEGIN:VEVENT
DTSTAMP:20100614T131024
DTSTART;TZID=America/Detroit:20100902T100000
DTEND;TZID=America/Detroit:20100902T163000
SUMMARY:Exhibition:Fabulous Flamingos! - A Whimsical Garden Display
DESCRIPTION:The flamingos have landed – at Matthaei! On display are dozens of pink flamingo  lawn ornaments imaginatively themed and decorated by U-M Art School students\,  community members\, and Ann Arbor Public School students\; fantastic topiary  creatures such as Nessie the garden serpent and others creatively grown and  decorated by our expert horticulturists\; perennial garden favorites like whirligigs and  gnomes\; lush seasonal plantings\; and more. A must-see garden! While you're  visiting Matthaei\, be sure to vote for your favorite flamingo June 19 through July  15. Voting cards and ballot box located in the lobby at Matthaei. Best in Show  Flamingos announced on Saturday\, July 17\, 2 pm. Gardens and trails at Matthaei  are free and open 7 days a week. Display opens June 19 and continues through the  summer at Matthaei Botanical Gardens\, 1800 N. Dixboro Rd.\, Ann Arbor. For more  information visit our website: www.mbgna.umich.edu or call 734-647-7600.
UID:1664-916430@events.umich.edu
URL:https://events.umich.edu/event/1664
CLASS:PUBLIC
STATUS:CONFIRMED
CATEGORIES:
LOCATION:
CONTACT:
END:VEVENT
BEGIN:VEVENT
DTSTAMP:20100817T114436
DTSTART;TZID=America/Detroit:20100902T100000
SUMMARY:Exhibition:On Beauty and the Everyday: The Prints of James McNeill Whistler
DESCRIPTION:UMMA's rare and important collection of James McNeill Whistler works on paper represents  one of the finest holdings of Whistler's graphic output in North America. This major exhibition  features more than 100 works of art from UMMA's Whistler collection\, which covers the  artist's entire career in Europe\, ranging from his student days and exposure to the vanguard  artistic movements of the 19th century to the groundbreaking and atmospheric lithographs  and etchings of his mature style. It is the first exhibition devoted to Whistler's works at  UMMA since 1994.\n\nNearly all of the Whistler works came to the Museum through the bequest of Margaret  Watson Parker\, an early collector of both Whistler's prints as well as Japanese art. The  exhibition explores Whistler's illustrious life and career\; his artistic themes and concerns\,  including portraiture and his well-known series from England\, Italy\, and France\; the interests  and legacy of early-20th-century Whistler collector Margaret Watson Parker\; and the tools  and techniques that Whistler employed as a printmaker.
UID:3291-921148@events.umich.edu
URL:https://events.umich.edu/event/3291
CLASS:PUBLIC
STATUS:CONFIRMED
CATEGORIES:visual arts
LOCATION:Museum of Art
CONTACT:
END:VEVENT
BEGIN:VEVENT
DTSTAMP:20101111T175654
DTSTART;TZID=America/Detroit:20100902T100000
SUMMARY:Exhibition:UMMA Projects: Jakob Kolding
DESCRIPTION:UMMA is pleased to present the first solo exhibition in a North American museum of Berlin- based artist Jakob Kolding. Kolding's work revolves around the experience of life in the  contemporary built environment\, particularly the relationships and contradictions that emerge  between how architectural spaces are planned and how they are actively used. His collages\,  drawings\, posters\, and mixed-media sculptures incorporate a wide range of source material\,  sampling and mixing the visual idiom of modernist art and architecture\, the language of  sociological inquiry\, and such popular cultural forms as hip-hop and electronic music\,  skateboarding\, and soccer. Kolding's dynamic compositions encourage us to actively question  the relationship between space and behavior\, and to imagine forms of self-expression that  use the built environment in creative new ways.
UID:3292-913226@events.umich.edu
URL:https://events.umich.edu/event/3292
CLASS:PUBLIC
STATUS:CONFIRMED
CATEGORIES:visual arts
LOCATION:Museum of Art
CONTACT:
END:VEVENT
BEGIN:VEVENT
DTSTAMP:20101111T175616
DTSTART;TZID=America/Detroit:20100902T100000
DTEND;TZID=America/Detroit:20100902T150000
SUMMARY:Reception / Open House:University Health Service Open House
DESCRIPTION:Learn about the services available to students\, faculty and staff.  Free chair massage\, tours of the facility\, print materials\, and snacks.
UID:336-910380@events.umich.edu
URL:https://events.umich.edu/event/336
CLASS:PUBLIC
STATUS:CONFIRMED
CATEGORIES:welcome week
LOCATION:
CONTACT:
END:VEVENT
BEGIN:VEVENT
DTSTAMP:20100617T194048
DTSTART;TZID=America/Detroit:20100902T153000
DTEND;TZID=America/Detroit:20100902T164500
SUMMARY:Reception / Open House:LSA Freshman Welcome
DESCRIPTION:Join other students\, parents\, and the Dean at this event welcoming you into the College of Literature\, Science\, and the Arts (LSA)\, U-M's oldest and largest college.  Whether you think your major will be “Perpetually Undecided” or you've known what you want to do since you were a 4-year-old\, LSA is the place to make it happen.  Learn what the next four years will hold: the LSA student government President will recount what he wished he'd known in his first year\; hear from some alumni and top faculty\, including the Dean of LSA\; and be entertained by some of campus' favorite student groups.  And you'll walk away with a free t-shirt.  Space is limited!
UID:1008-913654@events.umich.edu
URL:https://events.umich.edu/event/1008
CLASS:PUBLIC
STATUS:CONFIRMED
CATEGORIES:welcome week
LOCATION:Hill Auditorium
CONTACT:
END:VEVENT
BEGIN:VEVENT
DTSTAMP:20100603T084735
DTSTART;TZID=America/Detroit:20100902T193000
DTEND;TZID=America/Detroit:20100902T203000
SUMMARY:Rally / Mass Meeting:Learn S'more About Outdoor Adventures
DESCRIPTION:Stop by Outdoor Adventures after the New Student Convocation to make a s'more  or two and learn more about what Outdoor Adventures has to offer!\n\n*Free Event*\n\nOutdoor Adventures  |  336 Hill Street  |  734.764.3967
UID:2299-918816@events.umich.edu
URL:https://events.umich.edu/event/2299
CLASS:PUBLIC
STATUS:CONFIRMED
CATEGORIES:welcome week
LOCATION:
CONTACT:
END:VEVENT
BEGIN:VEVENT
DTSTAMP:20100702T135037
DTSTART;TZID=America/Detroit:20100902T200000
DTEND;TZID=America/Detroit:20100902T230000
SUMMARY:Fair / Festival:ARTSCAPADE!
DESCRIPTION:This festive annual Welcome Week event introduces new UM students to the lively  arts scene at Michigan. Explore the galleries of the newly renovated and expanded  Museum of Art and enjoy the \"Passport to the Arts\" activity which features games  related to each of the arts offered on campus. Prizes and student performances\,  including performances by the bands Lightning Love\, Fair Herald\, and Groove round  out this exciting event.\n\nConsponsored by UMMA and Arts at Michigan\,  with support from the University of  Michigan Credit Union.
UID:2185-918543@events.umich.edu
URL:https://events.umich.edu/event/2185
CLASS:PUBLIC
STATUS:CONFIRMED
CATEGORIES:welcome week
LOCATION:Museum of Art
CONTACT:
END:VEVENT
BEGIN:VEVENT
DTSTAMP:20101111T175906
DTSTART;TZID=America/Detroit:20100902T200000
DTEND;TZID=America/Detroit:20100902T230000
SUMMARY:Fair / Festival:Artscapade!
DESCRIPTION:This festive annual Welcome Week event introduces new UM students to the lively arts scene at  Michigan. The \"Passport to the Arts\" activity\, which features games related to each of the arts  offered on campus\, has become a favorite. Student performances and prizes round out this  exciting event that typically draws 3\,500 – 4\,000 students.
UID:3294-921903@events.umich.edu
URL:https://events.umich.edu/event/3294
CLASS:PUBLIC
STATUS:CONFIRMED
CATEGORIES:welcome week
LOCATION:Museum of Art
CONTACT:
END:VEVENT
BEGIN:VEVENT
DTSTAMP:20101111T175815
DTSTART;TZID=America/Detroit:20100902T213000
DTEND;TZID=America/Detroit:20100902T223000
SUMMARY:Social / Informal Gathering:Late Night Cru
DESCRIPTION:A Rockin' Band\, fun people\, and YOU!... Come get a taste of God's presence here at U- M! A chance to make friends and explore what a relationship with God in Jesus Christ is  like. Join us to experience God in a caring community\, and find out what Cru is all  about. Sponsored by Campus Crusade for Christ.
UID:2338-918942@events.umich.edu
URL:https://events.umich.edu/event/2338
CLASS:PUBLIC
STATUS:CONFIRMED
CATEGORIES:religious,spiritual,welcome week
LOCATION:Angell Hall - Auditorium B
CONTACT:
END:VEVENT
END:VCALENDAR