BEGIN:VCALENDAR
VERSION:2.0
PRODID:-//UM//UM*Events//EN
CALSCALE:GREGORIAN
BEGIN:VTIMEZONE
TZID:America/Detroit
TZURL:http://tzurl.org/zoneinfo/America/Detroit
X-LIC-LOCATION:America/Detroit
BEGIN:DAYLIGHT
TZOFFSETFROM:-0500
TZOFFSETTO:-0400
TZNAME:EDT
DTSTART:20070311T020000
RRULE:FREQ=YEARLY;BYMONTH=3;BYDAY=2SU
END:DAYLIGHT
BEGIN:STANDARD
TZOFFSETFROM:-0400
TZOFFSETTO:-0500
TZNAME:EST
DTSTART:20071104T020000
RRULE:FREQ=YEARLY;BYMONTH=11;BYDAY=1SU
END:STANDARD
END:VTIMEZONE
BEGIN:VEVENT
DTSTAMP:20100902T204041
DTSTART;TZID=America/Detroit:20100903T070000
SUMMARY:Exhibition:Habaghdad
DESCRIPTION:Cuban national Brayan Collazzo's exhibit features photographs of the devastated buildings of Habana\, Cuba. All that remains of many are the shells of the building creating surreal spaces resmbling a war torn (Baghdad) site.
UID:3476-913569@events.umich.edu
URL:https://events.umich.edu/event/3476
CLASS:PUBLIC
STATUS:CONFIRMED
CATEGORIES:visual arts
LOCATION:Michigan Union - Art Lounge
CONTACT:
END:VEVENT
BEGIN:VEVENT
DTSTAMP:20100902T203826
DTSTART;TZID=America/Detroit:20100903T070000
DTEND;TZID=America/Detroit:20100903T020000
SUMMARY:Exhibition:How Does Eastern Market Make Detroit a \"Cool City\"?
DESCRIPTION:When the state-funded Cool Cities Initiative\, which sponsored 2 UM students' internships\, offered grant money for special projects\, Oliver and Emma collaborated on a winning grant proposal for a project called “Know Your Farmer” that incorporated each intern's work. Emma posted Oliver's photographs on Eastern Market's Facebook page\, allowing fans to vote on their favorite pictures and contribute stories they had about particular farmers. This exhibit features the top five photographs as voted by Eastern Market Corporation fans\, Oliver's descriptions of the farmers\, and a few select quotations from the fans' comments.
UID:3475-921667@events.umich.edu
URL:https://events.umich.edu/event/3475
CLASS:PUBLIC
STATUS:CONFIRMED
CATEGORIES:literary arts,visual arts
LOCATION:Michigan Union - Wall Gallery
CONTACT:
END:VEVENT
BEGIN:VEVENT
DTSTAMP:20100715T195744
DTSTART;TZID=America/Detroit:20100903T083000
DTEND;TZID=America/Detroit:20100903T190000
SUMMARY:Exhibition:Tour de France: Travel & Topography in France 1700-1900
DESCRIPTION:The Audubon Room currently displays maps\, atlases and books related to cartography\, travel\, and the geography of France\, drawing on the University of Michigan Library's extensive holdings of French materials in the Map Library.\n\nOpen during Audubon Room hours\; see http://www.lib.umich.edu/audubon-room
UID:2614-919404@events.umich.edu
URL:https://events.umich.edu/event/2614
CLASS:PUBLIC
STATUS:CONFIRMED
CATEGORIES:visual arts
LOCATION:Hatcher Graduate Library - Audubon Room
CONTACT:
END:VEVENT
BEGIN:VEVENT
DTSTAMP:20100614T131024
DTSTART;TZID=America/Detroit:20100903T100000
DTEND;TZID=America/Detroit:20100903T163000
SUMMARY:Exhibition:Fabulous Flamingos! - A Whimsical Garden Display
DESCRIPTION:The flamingos have landed – at Matthaei! On display are dozens of pink flamingo  lawn ornaments imaginatively themed and decorated by U-M Art School students\,  community members\, and Ann Arbor Public School students\; fantastic topiary  creatures such as Nessie the garden serpent and others creatively grown and  decorated by our expert horticulturists\; perennial garden favorites like whirligigs and  gnomes\; lush seasonal plantings\; and more. A must-see garden! While you're  visiting Matthaei\, be sure to vote for your favorite flamingo June 19 through July  15. Voting cards and ballot box located in the lobby at Matthaei. Best in Show  Flamingos announced on Saturday\, July 17\, 2 pm. Gardens and trails at Matthaei  are free and open 7 days a week. Display opens June 19 and continues through the  summer at Matthaei Botanical Gardens\, 1800 N. Dixboro Rd.\, Ann Arbor. For more  information visit our website: www.mbgna.umich.edu or call 734-647-7600.
UID:1664-916431@events.umich.edu
URL:https://events.umich.edu/event/1664
CLASS:PUBLIC
STATUS:CONFIRMED
CATEGORIES:
LOCATION:
CONTACT:
END:VEVENT
BEGIN:VEVENT
DTSTAMP:20100817T114436
DTSTART;TZID=America/Detroit:20100903T100000
SUMMARY:Exhibition:On Beauty and the Everyday: The Prints of James McNeill Whistler
DESCRIPTION:UMMA's rare and important collection of James McNeill Whistler works on paper represents  one of the finest holdings of Whistler's graphic output in North America. This major exhibition  features more than 100 works of art from UMMA's Whistler collection\, which covers the  artist's entire career in Europe\, ranging from his student days and exposure to the vanguard  artistic movements of the 19th century to the groundbreaking and atmospheric lithographs  and etchings of his mature style. It is the first exhibition devoted to Whistler's works at  UMMA since 1994.\n\nNearly all of the Whistler works came to the Museum through the bequest of Margaret  Watson Parker\, an early collector of both Whistler's prints as well as Japanese art. The  exhibition explores Whistler's illustrious life and career\; his artistic themes and concerns\,  including portraiture and his well-known series from England\, Italy\, and France\; the interests  and legacy of early-20th-century Whistler collector Margaret Watson Parker\; and the tools  and techniques that Whistler employed as a printmaker.
UID:3291-921149@events.umich.edu
URL:https://events.umich.edu/event/3291
CLASS:PUBLIC
STATUS:CONFIRMED
CATEGORIES:visual arts
LOCATION:Museum of Art
CONTACT:
END:VEVENT
BEGIN:VEVENT
DTSTAMP:20100628T082559
DTSTART;TZID=America/Detroit:20100903T100000
DTEND;TZID=America/Detroit:20100903T110000
SUMMARY:Reception / Open House:Pre-Health Student Orientation
DESCRIPTION:Gather tips for successful preparation for medical school and other health profession programs. Learn about resources and services available to you through the perspectives of academic advisors\, career counselors\, and students.
UID:673-912334@events.umich.edu
URL:https://events.umich.edu/event/673
CLASS:PUBLIC
STATUS:CONFIRMED
CATEGORIES:welcome week
LOCATION:Modern Languages Building - Auditorium #3
CONTACT:
END:VEVENT
BEGIN:VEVENT
DTSTAMP:20101111T175654
DTSTART;TZID=America/Detroit:20100903T100000
SUMMARY:Exhibition:UMMA Projects: Jakob Kolding
DESCRIPTION:UMMA is pleased to present the first solo exhibition in a North American museum of Berlin- based artist Jakob Kolding. Kolding's work revolves around the experience of life in the  contemporary built environment\, particularly the relationships and contradictions that emerge  between how architectural spaces are planned and how they are actively used. His collages\,  drawings\, posters\, and mixed-media sculptures incorporate a wide range of source material\,  sampling and mixing the visual idiom of modernist art and architecture\, the language of  sociological inquiry\, and such popular cultural forms as hip-hop and electronic music\,  skateboarding\, and soccer. Kolding's dynamic compositions encourage us to actively question  the relationship between space and behavior\, and to imagine forms of self-expression that  use the built environment in creative new ways.
UID:3292-913227@events.umich.edu
URL:https://events.umich.edu/event/3292
CLASS:PUBLIC
STATUS:CONFIRMED
CATEGORIES:visual arts
LOCATION:Museum of Art
CONTACT:
END:VEVENT
BEGIN:VEVENT
DTSTAMP:20100723T143646
DTSTART;TZID=America/Detroit:20100903T150000
DTEND;TZID=America/Detroit:20100903T200000
SUMMARY:Exercise / Fitness:Wilderness Experience #1: Backpacking
DESCRIPTION:Spend a weekend hiking the Sleeping Bear Dunes National Lakeshore! The park  was established primarily for its outstanding natural features\, including forests\,  beaches\, dune formations\, and ancient glacial phenomena on the shores of Lake  Michigan. We will leave Friday afternoon and camp at a front-country site Friday  night. On Saturday\, we will hike a 6.8 mile stretch of the dunes. Saturday night we  will camp in a backcountry site well away from roads of any kind\, and appreciate the  night just within the forest high above the dunes of Lake Michigan.  On Sunday\, we  will hike 3.8 miles and depart for Ann Arbor in the early afternoon. This short trip is  sure to relax and entertain you as you learn to appreciate the natural beauty in the  park\, and enjoy the unique environment.
UID:3032-915047@events.umich.edu
URL:https://events.umich.edu/event/3032
CLASS:PUBLIC
STATUS:CONFIRMED
CATEGORIES:
LOCATION:
CONTACT:
END:VEVENT
BEGIN:VEVENT
DTSTAMP:20101111T175602
DTSTART;TZID=America/Detroit:20100903T190000
DTEND;TZID=America/Detroit:20100903T220000
SUMMARY:Ceremony / Service:First Shabbat Dinner
DESCRIPTION:Join us for a gourmet Shabbat dinner every Friday night at no charge.  Come for services (7:00) or dinner (8:00) or both.  Dress however you like.
UID:123-909383@events.umich.edu
URL:https://events.umich.edu/event/123
CLASS:PUBLIC
STATUS:CONFIRMED
CATEGORIES:Welcome Week
LOCATION:Hillel (Mandell L Berman Center)
CONTACT:
END:VEVENT
BEGIN:VEVENT
DTSTAMP:20101111T175848
DTSTART;TZID=America/Detroit:20100903T190000
SUMMARY:Rally / Mass Meeting:New Encounter
DESCRIPTION:You've heard that college is supposed to be a life-changing period full of new experiences. Whether you've never stepped foot into a church or are actively looking for a Christian community\, come experience a new encounter with God with other students on campus! We invite people of all backgrounds and denominations for a night of worship and fellowship. The event is hosted by ACCESS\, a student organization comprised of students at Harvest Mission Community Church. Rides will be provided afterwards to Meijer Mania.
UID:2921-920743@events.umich.edu
URL:https://events.umich.edu/event/2921
CLASS:PUBLIC
STATUS:CONFIRMED
CATEGORIES:welcome week
LOCATION:Angell Hall - Auditorium A
CONTACT:
END:VEVENT
BEGIN:VEVENT
DTSTAMP:20100726T135418
DTSTART;TZID=America/Detroit:20100903T210000
DTEND;TZID=America/Detroit:20100903T000000
SUMMARY:Recreational / Games:Salsa Dance
DESCRIPTION:The Salsa is “hot!”  Learn to salsa dance with a professional instructor and dance the night away!  Great music!  Great food!  Great time!  Questions?  Call 663-0557 or email stmarys@umich.edu.  All are welcome!
UID:1065-913730@events.umich.edu
URL:https://events.umich.edu/event/1065
CLASS:PUBLIC
STATUS:CONFIRMED
CATEGORIES:multicultural,welcome week
LOCATION:
CONTACT:
END:VEVENT
END:VCALENDAR