BEGIN:VCALENDAR
VERSION:2.0
PRODID:-//UM//UM*Events//EN
CALSCALE:GREGORIAN
BEGIN:VTIMEZONE
TZID:America/Detroit
TZURL:http://tzurl.org/zoneinfo/America/Detroit
X-LIC-LOCATION:America/Detroit
BEGIN:DAYLIGHT
TZOFFSETFROM:-0500
TZOFFSETTO:-0400
TZNAME:EDT
DTSTART:20070311T020000
RRULE:FREQ=YEARLY;BYMONTH=3;BYDAY=2SU
END:DAYLIGHT
BEGIN:STANDARD
TZOFFSETFROM:-0400
TZOFFSETTO:-0500
TZNAME:EST
DTSTART:20071104T020000
RRULE:FREQ=YEARLY;BYMONTH=11;BYDAY=1SU
END:STANDARD
END:VTIMEZONE
BEGIN:VEVENT
DTSTAMP:20100902T204041
DTSTART;TZID=America/Detroit:20100905T070000
SUMMARY:Exhibition:Habaghdad
DESCRIPTION:Cuban national Brayan Collazzo's exhibit features photographs of the devastated buildings of Habana\, Cuba. All that remains of many are the shells of the building creating surreal spaces resmbling a war torn (Baghdad) site.
UID:3476-913571@events.umich.edu
URL:https://events.umich.edu/event/3476
CLASS:PUBLIC
STATUS:CONFIRMED
CATEGORIES:visual arts
LOCATION:Michigan Union - Art Lounge
CONTACT:
END:VEVENT
BEGIN:VEVENT
DTSTAMP:20100902T203826
DTSTART;TZID=America/Detroit:20100905T070000
DTEND;TZID=America/Detroit:20100905T020000
SUMMARY:Exhibition:How Does Eastern Market Make Detroit a \"Cool City\"?
DESCRIPTION:When the state-funded Cool Cities Initiative\, which sponsored 2 UM students' internships\, offered grant money for special projects\, Oliver and Emma collaborated on a winning grant proposal for a project called “Know Your Farmer” that incorporated each intern's work. Emma posted Oliver's photographs on Eastern Market's Facebook page\, allowing fans to vote on their favorite pictures and contribute stories they had about particular farmers. This exhibit features the top five photographs as voted by Eastern Market Corporation fans\, Oliver's descriptions of the farmers\, and a few select quotations from the fans' comments.
UID:3475-921669@events.umich.edu
URL:https://events.umich.edu/event/3475
CLASS:PUBLIC
STATUS:CONFIRMED
CATEGORIES:visual arts,literary arts
LOCATION:Michigan Union - Wall Gallery
CONTACT:
END:VEVENT
BEGIN:VEVENT
DTSTAMP:20100715T195744
DTSTART;TZID=America/Detroit:20100905T083000
DTEND;TZID=America/Detroit:20100905T190000
SUMMARY:Exhibition:Tour de France: Travel & Topography in France 1700-1900
DESCRIPTION:The Audubon Room currently displays maps\, atlases and books related to cartography\, travel\, and the geography of France\, drawing on the University of Michigan Library's extensive holdings of French materials in the Map Library.\n\nOpen during Audubon Room hours\; see http://www.lib.umich.edu/audubon-room
UID:2614-919406@events.umich.edu
URL:https://events.umich.edu/event/2614
CLASS:PUBLIC
STATUS:CONFIRMED
CATEGORIES:visual arts
LOCATION:Hatcher Graduate Library - Audubon Room
CONTACT:
END:VEVENT
BEGIN:VEVENT
DTSTAMP:20100706T105236
DTSTART;TZID=America/Detroit:20100905T083000
DTEND;TZID=America/Detroit:20100905T220000
SUMMARY:Ceremony / Service:Weekend Masses at St. Mary's
DESCRIPTION:Wonder who else is Catholic and where they go every Sunday?  Come meet them today!  Experience liturgy at St. Mary Student Parish\, where worship is inviting and focused on serving students and others who are part of the UM community.  Our Mass schedule today is 8:30 am\, 10 am\, and 10:10am\, Noon\, 2 pm (in Spanish)\, 5 pm\, 7 pm\, and 9 pm.\n\nQuestions?  Call 663-0557 or email stmarys@umich.edu.  All are welcome!
UID:1147-914612@events.umich.edu
URL:https://events.umich.edu/event/1147
CLASS:PUBLIC
STATUS:CONFIRMED
CATEGORIES:spiritual,religious
LOCATION:
CONTACT:
END:VEVENT
BEGIN:VEVENT
DTSTAMP:20101111T175651
DTSTART;TZID=America/Detroit:20100905T093000
DTEND;TZID=America/Detroit:20100905T113000
SUMMARY:Ceremony / Service:Sunday Celebration
DESCRIPTION:The school year is about to begin! No matter your background\, come kick off this season with new expectations and hope. Join us at 9:00 or 11:15am to experience church in a fresh way as we worship and seek God together. We meet at the Transformation Center\, across the street from the Rackham Auditorium and the Power Center.\n \nCurious? Check out our website at www.hmcc.net to learn more about who we are and what we value. 
UID:1088-912924@events.umich.edu
URL:https://events.umich.edu/event/1088
CLASS:PUBLIC
STATUS:CONFIRMED
CATEGORIES:religious,free food,spiritual,welcome to michigan,welcome week
LOCATION:
CONTACT:
END:VEVENT
BEGIN:VEVENT
DTSTAMP:20100614T131024
DTSTART;TZID=America/Detroit:20100905T100000
DTEND;TZID=America/Detroit:20100905T163000
SUMMARY:Exhibition:Fabulous Flamingos! - A Whimsical Garden Display
DESCRIPTION:The flamingos have landed – at Matthaei! On display are dozens of pink flamingo  lawn ornaments imaginatively themed and decorated by U-M Art School students\,  community members\, and Ann Arbor Public School students\; fantastic topiary  creatures such as Nessie the garden serpent and others creatively grown and  decorated by our expert horticulturists\; perennial garden favorites like whirligigs and  gnomes\; lush seasonal plantings\; and more. A must-see garden! While you're  visiting Matthaei\, be sure to vote for your favorite flamingo June 19 through July  15. Voting cards and ballot box located in the lobby at Matthaei. Best in Show  Flamingos announced on Saturday\, July 17\, 2 pm. Gardens and trails at Matthaei  are free and open 7 days a week. Display opens June 19 and continues through the  summer at Matthaei Botanical Gardens\, 1800 N. Dixboro Rd.\, Ann Arbor. For more  information visit our website: www.mbgna.umich.edu or call 734-647-7600.
UID:1664-916433@events.umich.edu
URL:https://events.umich.edu/event/1664
CLASS:PUBLIC
STATUS:CONFIRMED
CATEGORIES:
LOCATION:
CONTACT:
END:VEVENT
BEGIN:VEVENT
DTSTAMP:20100817T114436
DTSTART;TZID=America/Detroit:20100905T100000
SUMMARY:Exhibition:On Beauty and the Everyday: The Prints of James McNeill Whistler
DESCRIPTION:UMMA's rare and important collection of James McNeill Whistler works on paper represents  one of the finest holdings of Whistler's graphic output in North America. This major exhibition  features more than 100 works of art from UMMA's Whistler collection\, which covers the  artist's entire career in Europe\, ranging from his student days and exposure to the vanguard  artistic movements of the 19th century to the groundbreaking and atmospheric lithographs  and etchings of his mature style. It is the first exhibition devoted to Whistler's works at  UMMA since 1994.\n\nNearly all of the Whistler works came to the Museum through the bequest of Margaret  Watson Parker\, an early collector of both Whistler's prints as well as Japanese art. The  exhibition explores Whistler's illustrious life and career\; his artistic themes and concerns\,  including portraiture and his well-known series from England\, Italy\, and France\; the interests  and legacy of early-20th-century Whistler collector Margaret Watson Parker\; and the tools  and techniques that Whistler employed as a printmaker.
UID:3291-921151@events.umich.edu
URL:https://events.umich.edu/event/3291
CLASS:PUBLIC
STATUS:CONFIRMED
CATEGORIES:visual arts
LOCATION:Museum of Art
CONTACT:
END:VEVENT
BEGIN:VEVENT
DTSTAMP:20101111T175654
DTSTART;TZID=America/Detroit:20100905T100000
SUMMARY:Exhibition:UMMA Projects: Jakob Kolding
DESCRIPTION:UMMA is pleased to present the first solo exhibition in a North American museum of Berlin- based artist Jakob Kolding. Kolding's work revolves around the experience of life in the  contemporary built environment\, particularly the relationships and contradictions that emerge  between how architectural spaces are planned and how they are actively used. His collages\,  drawings\, posters\, and mixed-media sculptures incorporate a wide range of source material\,  sampling and mixing the visual idiom of modernist art and architecture\, the language of  sociological inquiry\, and such popular cultural forms as hip-hop and electronic music\,  skateboarding\, and soccer. Kolding's dynamic compositions encourage us to actively question  the relationship between space and behavior\, and to imagine forms of self-expression that  use the built environment in creative new ways.
UID:3292-913229@events.umich.edu
URL:https://events.umich.edu/event/3292
CLASS:PUBLIC
STATUS:CONFIRMED
CATEGORIES:visual arts
LOCATION:Museum of Art
CONTACT:
END:VEVENT
BEGIN:VEVENT
DTSTAMP:20101111T175700
DTSTART;TZID=America/Detroit:20100905T110000
DTEND;TZID=America/Detroit:20100905T140000
SUMMARY:Exercise / Fitness:Rec Sports Expo
DESCRIPTION:Rec Sports Expo  11am-2pm Palmer Field  The Rec Sports Expo is an opportunity for new students to learn about our programs  and services. Our staff will be on hand to talk about specific programs\, answer any  questions about our facilities\, provide student employment options\, and just chat  about what we offer. It also provides our 42 Club Sports a chance to recruit new  students\, and our other programs (Intramurals\, Outdoor Adventures\, and Challenge  Program) to highlight their upcoming events. Food and t-shirts will be free to  everyone who comes to join the fun and see what's available for you within Rec  Sports. Department of Recreational Sports ”¢ www.recsports.umich.edu
UID:1005-913653@events.umich.edu
URL:https://events.umich.edu/event/1005
CLASS:PUBLIC
STATUS:CONFIRMED
CATEGORIES:welcome week
LOCATION:Central Campus Recreation Building (Bell Pool)
CONTACT:
END:VEVENT
BEGIN:VEVENT
DTSTAMP:20100706T105254
DTSTART;TZID=America/Detroit:20100905T140000
DTEND;TZID=America/Detroit:20100905T150000
SUMMARY:Ceremony / Service:Spanish Mass at St. Mary's
DESCRIPTION:Habla Espanol?  Join the Hispanic/Latino community who worship at St. Mary  Student Parish every Sunday.  There will be a special Pan Dulce (Mexican style  sweets!) after the Mass. Questions?  Call 663-0557 or email stmarys@umich.edu.   A great opportunity to practice your Spanish!  Todos estan bienvenidos!
UID:2618-919427@events.umich.edu
URL:https://events.umich.edu/event/2618
CLASS:PUBLIC
STATUS:CONFIRMED
CATEGORIES:spiritual,religious
LOCATION:
CONTACT:
END:VEVENT
BEGIN:VEVENT
DTSTAMP:20150717T155625
DTSTART;TZID=America/Detroit:20100905T180000
SUMMARY:Social / Informal Gathering:College Kick-off BBQ
DESCRIPTION:Looking to meet more people and get plugged into a community? Don't miss out on this opportunity to connect with other students – there will be plenty of FREE FOOD\, various sports\, and good times to go around. Rides will be provided at the roundabout in front of Stockwell\, the front of Bursley\, and behind South Quad on Monroe Street at 5:45 PM. \n\nThis event is hosted by Access\, a student organization from Harvest Mission Community Church (www.hmcc.net) and is open to all students.
UID:877-913335@events.umich.edu
URL:https://events.umich.edu/event/877
CLASS:PUBLIC
STATUS:CONFIRMED
CATEGORIES:WelcometoMichigan,frisbee,picnic,sports,free food,welcome to michigan,bbq,welcome week
LOCATION:
CONTACT:
END:VEVENT
BEGIN:VEVENT
DTSTAMP:20100706T120657
DTSTART;TZID=America/Detroit:20100905T180000
DTEND;TZID=America/Detroit:20100905T210000
SUMMARY:Performance:Shakespeare in the Arb
DESCRIPTION:All U-M students invited to free student-only Welcome Week performances of  Shakespeare in the Arb. This season's play is \"A Midsummer Night's Dream\,\"  directed by LSA/Residential College professor Kate Mendeloff. Sun.\, Sept. 5 and  Mon.\, Sept. 6 (Labor Day). One performance each night. Performances start at 6  p.m. near the Washington Hts. entrance to the Arb. Please bring your U-M student  ID.
UID:1838-916669@events.umich.edu
URL:https://events.umich.edu/event/1838
CLASS:PUBLIC
STATUS:CONFIRMED
CATEGORIES:welcome week,theater
LOCATION:Nichols Arboretum
CONTACT:
END:VEVENT
BEGIN:VEVENT
DTSTAMP:20100402T124303
DTSTART;TZID=America/Detroit:20100905T180000
DTEND;TZID=America/Detroit:20100905T200000
SUMMARY:Social / Informal Gathering:Taste of Michigan
DESCRIPTION:Get a flavor for some of Michigan's best! Stop by to get free samples of some of the amazing local restaurants around campus. Members of the Greek Community and LSA Student Government will be present to allow you the opportunity to ask questions. While you are there\, experience the talent of a variety of student performances and enter for a chance to win great prizes.
UID:2481-919155@events.umich.edu
URL:https://events.umich.edu/event/2481
CLASS:PUBLIC
STATUS:CONFIRMED
CATEGORIES:greek life,welcome week
LOCATION:
CONTACT:
END:VEVENT
BEGIN:VEVENT
DTSTAMP:20100726T135646
DTSTART;TZID=America/Detroit:20100905T210000
DTEND;TZID=America/Detroit:20100905T000000
SUMMARY:Ceremony / Service:Candlelight Mass of the Holy Spirit
DESCRIPTION:Join us for a special Sunday Night Candlelight Mass of the Holy Spirit\, asking for the guidance of the Spirit in this new academic year.  Receive a candle that will be blessed for the year ahead – one that you can use for moments of prayer or peace throughout the semester.  Mass will be followed by cards\, games and socializing.  We'll have refreshments too!\n\nQuestions?  Call 663-0557 or email stmarys@umich.edu.
UID:2150-918500@events.umich.edu
URL:https://events.umich.edu/event/2150
CLASS:PUBLIC
STATUS:CONFIRMED
CATEGORIES:welcome week
LOCATION:
CONTACT:
END:VEVENT
END:VCALENDAR