BEGIN:VCALENDAR
VERSION:2.0
PRODID:-//UM//UM*Events//EN
CALSCALE:GREGORIAN
BEGIN:VTIMEZONE
TZID:America/Detroit
TZURL:http://tzurl.org/zoneinfo/America/Detroit
X-LIC-LOCATION:America/Detroit
BEGIN:DAYLIGHT
TZOFFSETFROM:-0500
TZOFFSETTO:-0400
TZNAME:EDT
DTSTART:20070311T020000
RRULE:FREQ=YEARLY;BYMONTH=3;BYDAY=2SU
END:DAYLIGHT
BEGIN:STANDARD
TZOFFSETFROM:-0400
TZOFFSETTO:-0500
TZNAME:EST
DTSTART:20071104T020000
RRULE:FREQ=YEARLY;BYMONTH=11;BYDAY=1SU
END:STANDARD
END:VTIMEZONE
BEGIN:VEVENT
DTSTAMP:20100902T204041
DTSTART;TZID=America/Detroit:20100906T070000
SUMMARY:Exhibition:Habaghdad
DESCRIPTION:Cuban national Brayan Collazzo's exhibit features photographs of the devastated buildings of Habana\, Cuba. All that remains of many are the shells of the building creating surreal spaces resmbling a war torn (Baghdad) site.
UID:3476-913572@events.umich.edu
URL:https://events.umich.edu/event/3476
CLASS:PUBLIC
STATUS:CONFIRMED
CATEGORIES:visual arts
LOCATION:Michigan Union - Art Lounge
CONTACT:
END:VEVENT
BEGIN:VEVENT
DTSTAMP:20100902T203826
DTSTART;TZID=America/Detroit:20100906T070000
DTEND;TZID=America/Detroit:20100906T020000
SUMMARY:Exhibition:How Does Eastern Market Make Detroit a \"Cool City\"?
DESCRIPTION:When the state-funded Cool Cities Initiative\, which sponsored 2 UM students' internships\, offered grant money for special projects\, Oliver and Emma collaborated on a winning grant proposal for a project called “Know Your Farmer” that incorporated each intern's work. Emma posted Oliver's photographs on Eastern Market's Facebook page\, allowing fans to vote on their favorite pictures and contribute stories they had about particular farmers. This exhibit features the top five photographs as voted by Eastern Market Corporation fans\, Oliver's descriptions of the farmers\, and a few select quotations from the fans' comments.
UID:3475-921670@events.umich.edu
URL:https://events.umich.edu/event/3475
CLASS:PUBLIC
STATUS:CONFIRMED
CATEGORIES:literary arts,visual arts
LOCATION:Michigan Union - Wall Gallery
CONTACT:
END:VEVENT
BEGIN:VEVENT
DTSTAMP:20100715T195744
DTSTART;TZID=America/Detroit:20100906T083000
DTEND;TZID=America/Detroit:20100906T190000
SUMMARY:Exhibition:Tour de France: Travel & Topography in France 1700-1900
DESCRIPTION:The Audubon Room currently displays maps\, atlases and books related to cartography\, travel\, and the geography of France\, drawing on the University of Michigan Library's extensive holdings of French materials in the Map Library.\n\nOpen during Audubon Room hours\; see http://www.lib.umich.edu/audubon-room
UID:2614-919407@events.umich.edu
URL:https://events.umich.edu/event/2614
CLASS:PUBLIC
STATUS:CONFIRMED
CATEGORIES:visual arts
LOCATION:Hatcher Graduate Library - Audubon Room
CONTACT:
END:VEVENT
BEGIN:VEVENT
DTSTAMP:20100614T131024
DTSTART;TZID=America/Detroit:20100906T100000
DTEND;TZID=America/Detroit:20100906T163000
SUMMARY:Exhibition:Fabulous Flamingos! - A Whimsical Garden Display
DESCRIPTION:The flamingos have landed – at Matthaei! On display are dozens of pink flamingo  lawn ornaments imaginatively themed and decorated by U-M Art School students\,  community members\, and Ann Arbor Public School students\; fantastic topiary  creatures such as Nessie the garden serpent and others creatively grown and  decorated by our expert horticulturists\; perennial garden favorites like whirligigs and  gnomes\; lush seasonal plantings\; and more. A must-see garden! While you're  visiting Matthaei\, be sure to vote for your favorite flamingo June 19 through July  15. Voting cards and ballot box located in the lobby at Matthaei. Best in Show  Flamingos announced on Saturday\, July 17\, 2 pm. Gardens and trails at Matthaei  are free and open 7 days a week. Display opens June 19 and continues through the  summer at Matthaei Botanical Gardens\, 1800 N. Dixboro Rd.\, Ann Arbor. For more  information visit our website: www.mbgna.umich.edu or call 734-647-7600.
UID:1664-916434@events.umich.edu
URL:https://events.umich.edu/event/1664
CLASS:PUBLIC
STATUS:CONFIRMED
CATEGORIES:
LOCATION:
CONTACT:
END:VEVENT
BEGIN:VEVENT
DTSTAMP:20100702T144412
DTSTART;TZID=America/Detroit:20100906T120000
DTEND;TZID=America/Detroit:20100906T140000
SUMMARY:Social / Informal Gathering:Kick-Off BBQ at Hillel
DESCRIPTION:Enjoy some delicious BBQ while shmoozing with fellow first-years\, and ask any questions about U-M and life on campus to upperclassmen.
UID:1150-913993@events.umich.edu
URL:https://events.umich.edu/event/1150
CLASS:PUBLIC
STATUS:CONFIRMED
CATEGORIES:welcome week
LOCATION:Hillel (Mandell L Berman Center)
CONTACT:
END:VEVENT
BEGIN:VEVENT
DTSTAMP:20100706T102348
DTSTART;TZID=America/Detroit:20100906T130000
DTEND;TZID=America/Detroit:20100906T160000
SUMMARY:Fair / Festival:Gayz Craze!
DESCRIPTION:Gayz Craze is the most fabulous Welcome Week event on campus! Hosted by the LGBT Commission of the Michigan Student Assembly\, Gayz Craze promotes a welcoming environment for Lesbian Gay Bisexual Transgender and all similarly identified and allied students. Anyone from incoming freshman to grad students are invited to come share food\, stories\, and amazing performances by UofM's own students. Come and meet new friends and find a student org that is a perfect match for you. We'll have t-shirts\, yard games\, dancing\, food\, and great people from all over campus!
UID:2917-921700@events.umich.edu
URL:https://events.umich.edu/event/2917
CLASS:PUBLIC
STATUS:CONFIRMED
CATEGORIES:multicultural,welcome week
LOCATION:
CONTACT:
END:VEVENT
BEGIN:VEVENT
DTSTAMP:20100706T103304
DTSTART;TZID=America/Detroit:20100906T170000
DTEND;TZID=America/Detroit:20100906T190000
SUMMARY:Social / Informal Gathering:Cook-Out in the Courtyard at St. Mary's
DESCRIPTION:Looking for a barbecue on Labor Day?  Come join us and other students for a late afternoon cook-out in the courtyard.  FREE FOOD!\n\nQuestions?  Call 663-0557 or email stmarys@umich.edu.
UID:215-910166@events.umich.edu
URL:https://events.umich.edu/event/215
CLASS:PUBLIC
STATUS:CONFIRMED
CATEGORIES:welcome week
LOCATION:
CONTACT:
END:VEVENT
BEGIN:VEVENT
DTSTAMP:20100323T153730
DTSTART;TZID=America/Detroit:20100906T170000
DTEND;TZID=America/Detroit:20100906T200000
SUMMARY:Meeting:Panhellenic Association Sorority Forum
DESCRIPTION:Meet women from 15 Panhellenic chapters and learn about formal recruitment
UID:1724-915745@events.umich.edu
URL:https://events.umich.edu/event/1724
CLASS:PUBLIC
STATUS:CONFIRMED
CATEGORIES:greek life,welcome week
LOCATION:Michigan Union - Ballroom
CONTACT:
END:VEVENT
BEGIN:VEVENT
DTSTAMP:20100706T120657
DTSTART;TZID=America/Detroit:20100906T180000
DTEND;TZID=America/Detroit:20100906T210000
SUMMARY:Performance:Shakespeare in the Arb
DESCRIPTION:All U-M students invited to free student-only Welcome Week performances of  Shakespeare in the Arb. This season's play is \"A Midsummer Night's Dream\,\"  directed by LSA/Residential College professor Kate Mendeloff. Sun.\, Sept. 5 and  Mon.\, Sept. 6 (Labor Day). One performance each night. Performances start at 6  p.m. near the Washington Hts. entrance to the Arb. Please bring your U-M student  ID.
UID:1838-916670@events.umich.edu
URL:https://events.umich.edu/event/1838
CLASS:PUBLIC
STATUS:CONFIRMED
CATEGORIES:theater,welcome week
LOCATION:Nichols Arboretum
CONTACT:
END:VEVENT
END:VCALENDAR