BEGIN:VCALENDAR
VERSION:2.0
PRODID:-//UM//UM*Events//EN
CALSCALE:GREGORIAN
BEGIN:VTIMEZONE
TZID:America/Detroit
TZURL:http://tzurl.org/zoneinfo/America/Detroit
X-LIC-LOCATION:America/Detroit
BEGIN:DAYLIGHT
TZOFFSETFROM:-0500
TZOFFSETTO:-0400
TZNAME:EDT
DTSTART:20070311T020000
RRULE:FREQ=YEARLY;BYMONTH=3;BYDAY=2SU
END:DAYLIGHT
BEGIN:STANDARD
TZOFFSETFROM:-0400
TZOFFSETTO:-0500
TZNAME:EST
DTSTART:20071104T020000
RRULE:FREQ=YEARLY;BYMONTH=11;BYDAY=1SU
END:STANDARD
END:VTIMEZONE
BEGIN:VEVENT
DTSTAMP:20100831T093405
DTSTART;TZID=America/Detroit:20100907T000000
SUMMARY:Exercise / Fitness:UMove Fitness
DESCRIPTION:Fall registration is open now for the School of Kinesiology's UMove Fitness program  and most classes on the UMove fall schedule will be available for a half- hour “tasting.” Feel free to drop-in and sample a class and meet the instructor.  Classes are open to UM students\, faculty and staff and others affiliated with the  UM.
UID:3440-909616@events.umich.edu
URL:https://events.umich.edu/event/3440
CLASS:PUBLIC
STATUS:CONFIRMED
CATEGORIES:
LOCATION:
CONTACT:
END:VEVENT
BEGIN:VEVENT
DTSTAMP:20100902T204041
DTSTART;TZID=America/Detroit:20100907T070000
SUMMARY:Exhibition:Habaghdad
DESCRIPTION:Cuban national Brayan Collazzo's exhibit features photographs of the devastated buildings of Habana\, Cuba. All that remains of many are the shells of the building creating surreal spaces resmbling a war torn (Baghdad) site.
UID:3476-913573@events.umich.edu
URL:https://events.umich.edu/event/3476
CLASS:PUBLIC
STATUS:CONFIRMED
CATEGORIES:visual arts
LOCATION:Michigan Union - Art Lounge
CONTACT:
END:VEVENT
BEGIN:VEVENT
DTSTAMP:20100902T203826
DTSTART;TZID=America/Detroit:20100907T070000
DTEND;TZID=America/Detroit:20100907T020000
SUMMARY:Exhibition:How Does Eastern Market Make Detroit a \"Cool City\"?
DESCRIPTION:When the state-funded Cool Cities Initiative\, which sponsored 2 UM students' internships\, offered grant money for special projects\, Oliver and Emma collaborated on a winning grant proposal for a project called “Know Your Farmer” that incorporated each intern's work. Emma posted Oliver's photographs on Eastern Market's Facebook page\, allowing fans to vote on their favorite pictures and contribute stories they had about particular farmers. This exhibit features the top five photographs as voted by Eastern Market Corporation fans\, Oliver's descriptions of the farmers\, and a few select quotations from the fans' comments.
UID:3475-921671@events.umich.edu
URL:https://events.umich.edu/event/3475
CLASS:PUBLIC
STATUS:CONFIRMED
CATEGORIES:literary arts,visual arts
LOCATION:Michigan Union - Wall Gallery
CONTACT:
END:VEVENT
BEGIN:VEVENT
DTSTAMP:20100715T195744
DTSTART;TZID=America/Detroit:20100907T083000
DTEND;TZID=America/Detroit:20100907T190000
SUMMARY:Exhibition:Tour de France: Travel & Topography in France 1700-1900
DESCRIPTION:The Audubon Room currently displays maps\, atlases and books related to cartography\, travel\, and the geography of France\, drawing on the University of Michigan Library's extensive holdings of French materials in the Map Library.\n\nOpen during Audubon Room hours\; see http://www.lib.umich.edu/audubon-room
UID:2614-919408@events.umich.edu
URL:https://events.umich.edu/event/2614
CLASS:PUBLIC
STATUS:CONFIRMED
CATEGORIES:visual arts
LOCATION:Hatcher Graduate Library - Audubon Room
CONTACT:
END:VEVENT
BEGIN:VEVENT
DTSTAMP:20100614T131024
DTSTART;TZID=America/Detroit:20100907T100000
DTEND;TZID=America/Detroit:20100907T163000
SUMMARY:Exhibition:Fabulous Flamingos! - A Whimsical Garden Display
DESCRIPTION:The flamingos have landed – at Matthaei! On display are dozens of pink flamingo  lawn ornaments imaginatively themed and decorated by U-M Art School students\,  community members\, and Ann Arbor Public School students\; fantastic topiary  creatures such as Nessie the garden serpent and others creatively grown and  decorated by our expert horticulturists\; perennial garden favorites like whirligigs and  gnomes\; lush seasonal plantings\; and more. A must-see garden! While you're  visiting Matthaei\, be sure to vote for your favorite flamingo June 19 through July  15. Voting cards and ballot box located in the lobby at Matthaei. Best in Show  Flamingos announced on Saturday\, July 17\, 2 pm. Gardens and trails at Matthaei  are free and open 7 days a week. Display opens June 19 and continues through the  summer at Matthaei Botanical Gardens\, 1800 N. Dixboro Rd.\, Ann Arbor. For more  information visit our website: www.mbgna.umich.edu or call 734-647-7600.
UID:1664-916435@events.umich.edu
URL:https://events.umich.edu/event/1664
CLASS:PUBLIC
STATUS:CONFIRMED
CATEGORIES:
LOCATION:
CONTACT:
END:VEVENT
BEGIN:VEVENT
DTSTAMP:20100817T114436
DTSTART;TZID=America/Detroit:20100907T100000
SUMMARY:Exhibition:On Beauty and the Everyday: The Prints of James McNeill Whistler
DESCRIPTION:UMMA's rare and important collection of James McNeill Whistler works on paper represents  one of the finest holdings of Whistler's graphic output in North America. This major exhibition  features more than 100 works of art from UMMA's Whistler collection\, which covers the  artist's entire career in Europe\, ranging from his student days and exposure to the vanguard  artistic movements of the 19th century to the groundbreaking and atmospheric lithographs  and etchings of his mature style. It is the first exhibition devoted to Whistler's works at  UMMA since 1994.\n\nNearly all of the Whistler works came to the Museum through the bequest of Margaret  Watson Parker\, an early collector of both Whistler's prints as well as Japanese art. The  exhibition explores Whistler's illustrious life and career\; his artistic themes and concerns\,  including portraiture and his well-known series from England\, Italy\, and France\; the interests  and legacy of early-20th-century Whistler collector Margaret Watson Parker\; and the tools  and techniques that Whistler employed as a printmaker.
UID:3291-921152@events.umich.edu
URL:https://events.umich.edu/event/3291
CLASS:PUBLIC
STATUS:CONFIRMED
CATEGORIES:visual arts
LOCATION:Museum of Art
CONTACT:
END:VEVENT
BEGIN:VEVENT
DTSTAMP:20101111T175654
DTSTART;TZID=America/Detroit:20100907T100000
SUMMARY:Exhibition:UMMA Projects: Jakob Kolding
DESCRIPTION:UMMA is pleased to present the first solo exhibition in a North American museum of Berlin- based artist Jakob Kolding. Kolding's work revolves around the experience of life in the  contemporary built environment\, particularly the relationships and contradictions that emerge  between how architectural spaces are planned and how they are actively used. His collages\,  drawings\, posters\, and mixed-media sculptures incorporate a wide range of source material\,  sampling and mixing the visual idiom of modernist art and architecture\, the language of  sociological inquiry\, and such popular cultural forms as hip-hop and electronic music\,  skateboarding\, and soccer. Kolding's dynamic compositions encourage us to actively question  the relationship between space and behavior\, and to imagine forms of self-expression that  use the built environment in creative new ways.
UID:3292-913230@events.umich.edu
URL:https://events.umich.edu/event/3292
CLASS:PUBLIC
STATUS:CONFIRMED
CATEGORIES:visual arts
LOCATION:Museum of Art
CONTACT:
END:VEVENT
BEGIN:VEVENT
DTSTAMP:20100830T120011
DTSTART;TZID=America/Detroit:20100907T163000
DTEND;TZID=America/Detroit:20100907T194500
SUMMARY:Performance:\"A Lady Alone\" one-woman play\, exhibit reception
DESCRIPTION:U-M's Office of Medical Student Education is hosting an exhibit\, “Changing the Face of Medicine: Celebrating America's Women Physicians.\" Along with the exhibit\, which opened August 30th in the Biomedical Science Research Building (BSRB)\, U-M will host a September 7th performance of “A Lady Alone.” The one-woman play tells the story of Elizabeth Blackwell\, the first woman to graduate from medical school. The play will be performed at 4:30 p.m. in the BSRB auditorium\, followed by a reception and then a repeat performance at 6:30 p.m. The performances and exhibit are free and open to the public.
UID:3431-916657@events.umich.edu
URL:https://events.umich.edu/event/3431
CLASS:PUBLIC
STATUS:CONFIRMED
CATEGORIES:literary arts
LOCATION:Taubman Biomedical Science Research Building - Auditorium/Lobby
CONTACT:
END:VEVENT
BEGIN:VEVENT
DTSTAMP:20100702T125731
DTSTART;TZID=America/Detroit:20100907T163000
DTEND;TZID=America/Detroit:20100907T183000
SUMMARY:Reception / Open House:Spectrum Center Open House and Community Welcome
DESCRIPTION:The Spectrum Center community welcomes you (back) to U-M. Its going to be a great  year- full of amazing events and speakers. The Spectrum Center celebrates its 40th  Anniversary starting in Jan 2011 and in Feb 2011 U-M will host the Midwest BLGTA  College Conference. Come learn about the lesbian\, gay\, bisexual\, transgender\, queer\,  ally and similarly-identified community at our Open House and Community Welcome.  All are welcome.
UID:213-910165@events.umich.edu
URL:https://events.umich.edu/event/213
CLASS:PUBLIC
STATUS:CONFIRMED
CATEGORIES:multicultural,welcome week
LOCATION:Michigan Union - 3200
CONTACT:
END:VEVENT
BEGIN:VEVENT
DTSTAMP:20101111T175627
DTSTART;TZID=America/Detroit:20100907T170000
DTEND;TZID=America/Detroit:20100907T174500
SUMMARY:Ceremony / Service:Daily Mass at St. Mary Student Parish
DESCRIPTION:Take a break on the first day of class and come to Mass with your friends.  Every  week\, daily Masses are 5:10 - 5:45 pm Monday through Thursday and 12:10 -  12:45 pm on Fridays.  Questions?  Call 663-0557 or email stmarys@umich.edu.
UID:665-911319@events.umich.edu
URL:https://events.umich.edu/event/665
CLASS:PUBLIC
STATUS:CONFIRMED
CATEGORIES:religious,spiritual
LOCATION:
CONTACT:
END:VEVENT
BEGIN:VEVENT
DTSTAMP:20101111T175635
DTSTART;TZID=America/Detroit:20100907T180000
SUMMARY:Rally / Mass Meeting:Panhellenic Association Recruitment Mass Meeting
DESCRIPTION:If you are registered for Panhellenic formal recruitment or are interested in joining a Panhellenic sorority come to the mass meeting earn about the formal recruitment process. Last Names A-L at 6pm and M-Z at 8pm
UID:534-911748@events.umich.edu
URL:https://events.umich.edu/event/534
CLASS:PUBLIC
STATUS:CONFIRMED
CATEGORIES:greek life
LOCATION:Michigan Union - Ballroom
CONTACT:
END:VEVENT
BEGIN:VEVENT
DTSTAMP:20100817T120544
DTSTART;TZID=America/Detroit:20100907T193000
SUMMARY:Film Screening:Film: Wizard of Oz (1939)
DESCRIPTION:This year the Residential College selected this classic as its “summer reads” book.  In the  film\, based on the popular L. Frank Baum stories\, Dorothy and her dog Toto are caught in a  tornado's path and somehow end up in the Land of Oz. Well\, you know the story–it's about  having a heart\, a brain\, and courage\, vital ingredients in crafting a life worth living. \"Over  the Rainbow\" (music and lyrics by Harold Arlen and E. Y. “Yip” Harburg) won the Oscar for  Best Music Song.  If you've never seen it\, it's time you did.  And if you've seen it lots of  times\, this is a good time to add another viewing to your life list.\n\nThis event is part of the LSA Theme Semester “What Makes Life Worth Living?” For more  details\, please visit the website at http://wmlwl.com/
UID:3295-913680@events.umich.edu
URL:https://events.umich.edu/event/3295
CLASS:PUBLIC
STATUS:CONFIRMED
CATEGORIES:
LOCATION:Museum of Art - Helmut Stern Auditorium
CONTACT:
END:VEVENT
BEGIN:VEVENT
DTSTAMP:20100720T191223
DTSTART;TZID=America/Detroit:20100907T200000
SUMMARY:Performance:Chris Knight
DESCRIPTION:Labeling Chris Knight has never been easy. \"Americana\" just sounds too distant\, too souvenir-shop-like\, for this tough\, unpretentious performer. Trying to capture in words the grace and gutsy power of his music has been a hard task in itself. Yet critics and fans alike have taken a ride with Knight though a vivid landscape of stark musical honesty. On his album \"The Jealous Kind\,\" wrote Angie Glover of the Nashville Rage\, \"Knight keeps true to his Kentucky roots by weaving urban tales from the dark side.\" \"When I first heard Chris at a songwriter's night at The Bluebird Cafe\,\" remembers producer Frank Liddell\, \"I thought I was hearing John Prine and Steve Earle rolled into one. Here was this coal mine inspector from rural Kentucky who was writing these incredible songs.\" Come to the show and pick up the recently released \"Trailer II\,\" the second batch of legendary songs recorded in the summer of 1996 in Chris's singlewide trailer outside of his hometown of Slaughters\, Kentucky.
UID:779-913120@events.umich.edu
URL:https://events.umich.edu/event/779
CLASS:PUBLIC
STATUS:CONFIRMED
CATEGORIES:music
LOCATION:
CONTACT:
END:VEVENT
END:VCALENDAR