BEGIN:VCALENDAR
VERSION:2.0
PRODID:-//UM//UM*Events//EN
CALSCALE:GREGORIAN
BEGIN:VTIMEZONE
TZID:America/Detroit
TZURL:http://tzurl.org/zoneinfo/America/Detroit
X-LIC-LOCATION:America/Detroit
BEGIN:DAYLIGHT
TZOFFSETFROM:-0500
TZOFFSETTO:-0400
TZNAME:EDT
DTSTART:20070311T020000
RRULE:FREQ=YEARLY;BYMONTH=3;BYDAY=2SU
END:DAYLIGHT
BEGIN:STANDARD
TZOFFSETFROM:-0400
TZOFFSETTO:-0500
TZNAME:EST
DTSTART:20071104T020000
RRULE:FREQ=YEARLY;BYMONTH=11;BYDAY=1SU
END:STANDARD
END:VTIMEZONE
BEGIN:VEVENT
DTSTAMP:20101111T175735
DTSTART;TZID=America/Detroit:20100909T000000
SUMMARY:Ceremony / Service:Rosh HaShanna 2nd Day Services and Dinner
DESCRIPTION:Please see Hillel's website for details.
UID:1822-915984@events.umich.edu
URL:https://events.umich.edu/event/1822
CLASS:PUBLIC
STATUS:CONFIRMED
CATEGORIES:welcome week
LOCATION:
CONTACT:
END:VEVENT
BEGIN:VEVENT
DTSTAMP:20100702T154639
DTSTART;TZID=America/Detroit:20100909T000000
SUMMARY:Ceremony / Service:Rosh HaShanna 2nd Night
DESCRIPTION:
UID:646-911300@events.umich.edu
URL:https://events.umich.edu/event/646
CLASS:PUBLIC
STATUS:CONFIRMED
CATEGORIES:welcome week
LOCATION:Hillel (Mandell L Berman Center)
CONTACT:
END:VEVENT
BEGIN:VEVENT
DTSTAMP:20100831T093405
DTSTART;TZID=America/Detroit:20100909T000000
SUMMARY:Exercise / Fitness:UMove Fitness
DESCRIPTION:Fall registration is open now for the School of Kinesiology's UMove Fitness program  and most classes on the UMove fall schedule will be available for a half- hour “tasting.” Feel free to drop-in and sample a class and meet the instructor.  Classes are open to UM students\, faculty and staff and others affiliated with the  UM.
UID:3440-909618@events.umich.edu
URL:https://events.umich.edu/event/3440
CLASS:PUBLIC
STATUS:CONFIRMED
CATEGORIES:
LOCATION:
CONTACT:
END:VEVENT
BEGIN:VEVENT
DTSTAMP:20100902T204041
DTSTART;TZID=America/Detroit:20100909T070000
SUMMARY:Exhibition:Habaghdad
DESCRIPTION:Cuban national Brayan Collazzo's exhibit features photographs of the devastated buildings of Habana\, Cuba. All that remains of many are the shells of the building creating surreal spaces resmbling a war torn (Baghdad) site.
UID:3476-913575@events.umich.edu
URL:https://events.umich.edu/event/3476
CLASS:PUBLIC
STATUS:CONFIRMED
CATEGORIES:visual arts
LOCATION:Michigan Union - Art Lounge
CONTACT:
END:VEVENT
BEGIN:VEVENT
DTSTAMP:20100902T203826
DTSTART;TZID=America/Detroit:20100909T070000
DTEND;TZID=America/Detroit:20100909T020000
SUMMARY:Exhibition:How Does Eastern Market Make Detroit a \"Cool City\"?
DESCRIPTION:When the state-funded Cool Cities Initiative\, which sponsored 2 UM students' internships\, offered grant money for special projects\, Oliver and Emma collaborated on a winning grant proposal for a project called “Know Your Farmer” that incorporated each intern's work. Emma posted Oliver's photographs on Eastern Market's Facebook page\, allowing fans to vote on their favorite pictures and contribute stories they had about particular farmers. This exhibit features the top five photographs as voted by Eastern Market Corporation fans\, Oliver's descriptions of the farmers\, and a few select quotations from the fans' comments.
UID:3475-921673@events.umich.edu
URL:https://events.umich.edu/event/3475
CLASS:PUBLIC
STATUS:CONFIRMED
CATEGORIES:visual arts,literary arts
LOCATION:Michigan Union - Wall Gallery
CONTACT:
END:VEVENT
BEGIN:VEVENT
DTSTAMP:20100715T195744
DTSTART;TZID=America/Detroit:20100909T083000
DTEND;TZID=America/Detroit:20100909T190000
SUMMARY:Exhibition:Tour de France: Travel & Topography in France 1700-1900
DESCRIPTION:The Audubon Room currently displays maps\, atlases and books related to cartography\, travel\, and the geography of France\, drawing on the University of Michigan Library's extensive holdings of French materials in the Map Library.\n\nOpen during Audubon Room hours\; see http://www.lib.umich.edu/audubon-room
UID:2614-919410@events.umich.edu
URL:https://events.umich.edu/event/2614
CLASS:PUBLIC
STATUS:CONFIRMED
CATEGORIES:visual arts
LOCATION:Hatcher Graduate Library - Audubon Room
CONTACT:
END:VEVENT
BEGIN:VEVENT
DTSTAMP:20100614T131024
DTSTART;TZID=America/Detroit:20100909T100000
DTEND;TZID=America/Detroit:20100909T163000
SUMMARY:Exhibition:Fabulous Flamingos! - A Whimsical Garden Display
DESCRIPTION:The flamingos have landed – at Matthaei! On display are dozens of pink flamingo  lawn ornaments imaginatively themed and decorated by U-M Art School students\,  community members\, and Ann Arbor Public School students\; fantastic topiary  creatures such as Nessie the garden serpent and others creatively grown and  decorated by our expert horticulturists\; perennial garden favorites like whirligigs and  gnomes\; lush seasonal plantings\; and more. A must-see garden! While you're  visiting Matthaei\, be sure to vote for your favorite flamingo June 19 through July  15. Voting cards and ballot box located in the lobby at Matthaei. Best in Show  Flamingos announced on Saturday\, July 17\, 2 pm. Gardens and trails at Matthaei  are free and open 7 days a week. Display opens June 19 and continues through the  summer at Matthaei Botanical Gardens\, 1800 N. Dixboro Rd.\, Ann Arbor. For more  information visit our website: www.mbgna.umich.edu or call 734-647-7600.
UID:1664-916437@events.umich.edu
URL:https://events.umich.edu/event/1664
CLASS:PUBLIC
STATUS:CONFIRMED
CATEGORIES:
LOCATION:
CONTACT:
END:VEVENT
BEGIN:VEVENT
DTSTAMP:20100817T114436
DTSTART;TZID=America/Detroit:20100909T100000
SUMMARY:Exhibition:On Beauty and the Everyday: The Prints of James McNeill Whistler
DESCRIPTION:UMMA's rare and important collection of James McNeill Whistler works on paper represents  one of the finest holdings of Whistler's graphic output in North America. This major exhibition  features more than 100 works of art from UMMA's Whistler collection\, which covers the  artist's entire career in Europe\, ranging from his student days and exposure to the vanguard  artistic movements of the 19th century to the groundbreaking and atmospheric lithographs  and etchings of his mature style. It is the first exhibition devoted to Whistler's works at  UMMA since 1994.\n\nNearly all of the Whistler works came to the Museum through the bequest of Margaret  Watson Parker\, an early collector of both Whistler's prints as well as Japanese art. The  exhibition explores Whistler's illustrious life and career\; his artistic themes and concerns\,  including portraiture and his well-known series from England\, Italy\, and France\; the interests  and legacy of early-20th-century Whistler collector Margaret Watson Parker\; and the tools  and techniques that Whistler employed as a printmaker.
UID:3291-921154@events.umich.edu
URL:https://events.umich.edu/event/3291
CLASS:PUBLIC
STATUS:CONFIRMED
CATEGORIES:visual arts
LOCATION:Museum of Art
CONTACT:
END:VEVENT
BEGIN:VEVENT
DTSTAMP:20101111T175654
DTSTART;TZID=America/Detroit:20100909T100000
SUMMARY:Exhibition:UMMA Projects: Jakob Kolding
DESCRIPTION:UMMA is pleased to present the first solo exhibition in a North American museum of Berlin- based artist Jakob Kolding. Kolding's work revolves around the experience of life in the  contemporary built environment\, particularly the relationships and contradictions that emerge  between how architectural spaces are planned and how they are actively used. His collages\,  drawings\, posters\, and mixed-media sculptures incorporate a wide range of source material\,  sampling and mixing the visual idiom of modernist art and architecture\, the language of  sociological inquiry\, and such popular cultural forms as hip-hop and electronic music\,  skateboarding\, and soccer. Kolding's dynamic compositions encourage us to actively question  the relationship between space and behavior\, and to imagine forms of self-expression that  use the built environment in creative new ways.
UID:3292-913232@events.umich.edu
URL:https://events.umich.edu/event/3292
CLASS:PUBLIC
STATUS:CONFIRMED
CATEGORIES:visual arts
LOCATION:Museum of Art
CONTACT:
END:VEVENT
BEGIN:VEVENT
DTSTAMP:20100830T115737
DTSTART;TZID=America/Detroit:20100909T170000
DTEND;TZID=America/Detroit:20100909T183000
SUMMARY:Auditions:Maize Futbol Club Tryouts
DESCRIPTION:Maize Futbol Club invites all individuals capable of playing soccer at a high\, competitive level. Tryouts will be held at Fuller Field #2 directly across from the Michigan Hospital. For more info please view our website or join our group on facebook.
UID:3428-911616@events.umich.edu
URL:https://events.umich.edu/event/3428
CLASS:PUBLIC
STATUS:CONFIRMED
CATEGORIES:
LOCATION:
CONTACT:
END:VEVENT
BEGIN:VEVENT
DTSTAMP:20100708T200043
DTSTART;TZID=America/Detroit:20100909T170000
DTEND;TZID=America/Detroit:20100909T183000
SUMMARY:Lecture / Discussion:Penny Stamps Presents: Temple Grandin
DESCRIPTION:Temple Grandin is a Doctor of Animal Science and professor at Colorado State University\, bestselling author\, and consultant to the livestock industry in animal behavior. Facilities she has designed are located in the United States\, Canada\, Europe\, Mexico\, Australia\, New Zealand\, and other countries. In North America\, almost half of the cattle are handled in a center track restrainer system that she designed for meat plants. Curved chute and race systems she has designed for cattle are used worldwide and her writings on the flight zone and other principles of grazing animal behavior have helped many people to reduce stress on their animals during handling.\n\nAs a person with high-functioning autism\, Grandin is also widely noted for her work in autism advocacy and is the inventor of the hug machine designed to calm hypersensitive persons.
UID:1628-916258@events.umich.edu
URL:https://events.umich.edu/event/1628
CLASS:PUBLIC
STATUS:CONFIRMED
CATEGORIES:multicultural,social justice,visual arts,welcome week
LOCATION:
CONTACT:
END:VEVENT
BEGIN:VEVENT
DTSTAMP:20100825T114635
DTSTART;TZID=America/Detroit:20100909T190000
DTEND;TZID=America/Detroit:20100909T210000
SUMMARY:Lecture / Discussion:Ralph Williams talks about shooting \"Answer This!\"
DESCRIPTION:When  Ralph Williams\, beloved U-M professor\, retired in the Spring of 2009\, Hollywood came knocking. That's right - last summer\, he starred in \"Answer This!\" alongside Chris Gorham (Ugly Betty\, Covert Affairs)\, Nelson Franklin (Scott Pilgrim vs. The World) and Chris Parnell (30 Rock\, SNL).\n\nNow he's back and better than ever! On Thursday\, September 9\, from 7pm to 9pm\, Professor Williams himself will be appearing at the M-Den to give an informal talk on the experience of shooting his first feature film - and at the University he loves so much.
UID:3364-919189@events.umich.edu
URL:https://events.umich.edu/event/3364
CLASS:PUBLIC
STATUS:CONFIRMED
CATEGORIES:film
LOCATION:
CONTACT:
END:VEVENT
BEGIN:VEVENT
DTSTAMP:20101111T175822
DTSTART;TZID=America/Detroit:20100909T190000
DTEND;TZID=America/Detroit:20100909T200000
SUMMARY:Rally / Mass Meeting:U-M Life Sciences Orchestra season kickoff meeting
DESCRIPTION:The Life Sciences Orchestra will kick off its 11th season of blending music and  science with a virtual meeting at https://connect.umms.med.umich.edu/lso2010/  featuring music director Oriol Sans and members of the LSO committee. The  orchestra is open to faculty\, staff\, graduate/professional students and alumni in the  health and biological sciences\, as well as some undergraduate students preparing  for life science careers. The LSO's season will feature a Jan. 23 performance of  Mahler's Symphony No. 2 (\"Resurrection\")  at Hill Auditorium\, with guest conductor  Kenneth Kiesler. An audition and rehearsal schedule\, and online audition signup  sheet\, are available at www.umich.edu/~lsorch.  A chorus will be formed at a later  time for the January performance. All prospective members of the orchestra and  chorus must fill out a webform locate on the LSO web site.
UID:3159-919190@events.umich.edu
URL:https://events.umich.edu/event/3159
CLASS:PUBLIC
STATUS:CONFIRMED
CATEGORIES:music
LOCATION:
CONTACT:
END:VEVENT
BEGIN:VEVENT
DTSTAMP:20100720T191346
DTSTART;TZID=America/Detroit:20100909T200000
SUMMARY:Performance:The Strawbs
DESCRIPTION:The Strawbs started out as a bluegrass and folk trio called the Strawberry Hill Boys in 1967. They went on to become stars of British progressive rock\, but like the Grateful Dead\, they never let folk roots disappear completely from their sound. These days they're rarely heard in these parts\, so don't pass this chance up! This is a band with a huge repertory and the ability to do just about anything that strikes their fancy in concert\, and no two Strawbs shows are the same. Says Canada's Edmonton Sun: \"Hearing the brilliant Strawbs was like a tutorial in UK folk music from the past 40 years.\" Original Strawb Dave Cousins has just released a book of lyrics\, \"Secrets Stories Songs\,\" containing commentary on many Strawbs songs\, and the band has reissued their classic 1967 Copenhagen sessions with Sandy Denny on a box set that's a priceless document of British folk.
UID:2249-917489@events.umich.edu
URL:https://events.umich.edu/event/2249
CLASS:PUBLIC
STATUS:CONFIRMED
CATEGORIES:music
LOCATION:
CONTACT:
END:VEVENT
END:VCALENDAR