BEGIN:VCALENDAR
VERSION:2.0
PRODID:-//UM//UM*Events//EN
CALSCALE:GREGORIAN
BEGIN:VTIMEZONE
TZID:America/Detroit
TZURL:http://tzurl.org/zoneinfo/America/Detroit
X-LIC-LOCATION:America/Detroit
BEGIN:DAYLIGHT
TZOFFSETFROM:-0500
TZOFFSETTO:-0400
TZNAME:EDT
DTSTART:20070311T020000
RRULE:FREQ=YEARLY;BYMONTH=3;BYDAY=2SU
END:DAYLIGHT
BEGIN:STANDARD
TZOFFSETFROM:-0400
TZOFFSETTO:-0500
TZNAME:EST
DTSTART:20071104T020000
RRULE:FREQ=YEARLY;BYMONTH=11;BYDAY=1SU
END:STANDARD
END:VTIMEZONE
BEGIN:VEVENT
DTSTAMP:20100831T093405
DTSTART;TZID=America/Detroit:20100910T000000
SUMMARY:Exercise / Fitness:UMove Fitness
DESCRIPTION:Fall registration is open now for the School of Kinesiology's UMove Fitness program  and most classes on the UMove fall schedule will be available for a half- hour “tasting.” Feel free to drop-in and sample a class and meet the instructor.  Classes are open to UM students\, faculty and staff and others affiliated with the  UM.
UID:3440-909619@events.umich.edu
URL:https://events.umich.edu/event/3440
CLASS:PUBLIC
STATUS:CONFIRMED
CATEGORIES:
LOCATION:
CONTACT:
END:VEVENT
BEGIN:VEVENT
DTSTAMP:20100902T204041
DTSTART;TZID=America/Detroit:20100910T070000
SUMMARY:Exhibition:Habaghdad
DESCRIPTION:Cuban national Brayan Collazzo's exhibit features photographs of the devastated buildings of Habana\, Cuba. All that remains of many are the shells of the building creating surreal spaces resmbling a war torn (Baghdad) site.
UID:3476-913576@events.umich.edu
URL:https://events.umich.edu/event/3476
CLASS:PUBLIC
STATUS:CONFIRMED
CATEGORIES:visual arts
LOCATION:Michigan Union - Art Lounge
CONTACT:
END:VEVENT
BEGIN:VEVENT
DTSTAMP:20100902T203826
DTSTART;TZID=America/Detroit:20100910T070000
DTEND;TZID=America/Detroit:20100910T020000
SUMMARY:Exhibition:How Does Eastern Market Make Detroit a \"Cool City\"?
DESCRIPTION:When the state-funded Cool Cities Initiative\, which sponsored 2 UM students' internships\, offered grant money for special projects\, Oliver and Emma collaborated on a winning grant proposal for a project called “Know Your Farmer” that incorporated each intern's work. Emma posted Oliver's photographs on Eastern Market's Facebook page\, allowing fans to vote on their favorite pictures and contribute stories they had about particular farmers. This exhibit features the top five photographs as voted by Eastern Market Corporation fans\, Oliver's descriptions of the farmers\, and a few select quotations from the fans' comments.
UID:3475-921674@events.umich.edu
URL:https://events.umich.edu/event/3475
CLASS:PUBLIC
STATUS:CONFIRMED
CATEGORIES:visual arts,literary arts
LOCATION:Michigan Union - Wall Gallery
CONTACT:
END:VEVENT
BEGIN:VEVENT
DTSTAMP:20100715T195744
DTSTART;TZID=America/Detroit:20100910T083000
DTEND;TZID=America/Detroit:20100910T190000
SUMMARY:Exhibition:Tour de France: Travel & Topography in France 1700-1900
DESCRIPTION:The Audubon Room currently displays maps\, atlases and books related to cartography\, travel\, and the geography of France\, drawing on the University of Michigan Library's extensive holdings of French materials in the Map Library.\n\nOpen during Audubon Room hours\; see http://www.lib.umich.edu/audubon-room
UID:2614-919411@events.umich.edu
URL:https://events.umich.edu/event/2614
CLASS:PUBLIC
STATUS:CONFIRMED
CATEGORIES:visual arts
LOCATION:Hatcher Graduate Library - Audubon Room
CONTACT:
END:VEVENT
BEGIN:VEVENT
DTSTAMP:20100614T131024
DTSTART;TZID=America/Detroit:20100910T100000
DTEND;TZID=America/Detroit:20100910T163000
SUMMARY:Exhibition:Fabulous Flamingos! - A Whimsical Garden Display
DESCRIPTION:The flamingos have landed – at Matthaei! On display are dozens of pink flamingo  lawn ornaments imaginatively themed and decorated by U-M Art School students\,  community members\, and Ann Arbor Public School students\; fantastic topiary  creatures such as Nessie the garden serpent and others creatively grown and  decorated by our expert horticulturists\; perennial garden favorites like whirligigs and  gnomes\; lush seasonal plantings\; and more. A must-see garden! While you're  visiting Matthaei\, be sure to vote for your favorite flamingo June 19 through July  15. Voting cards and ballot box located in the lobby at Matthaei. Best in Show  Flamingos announced on Saturday\, July 17\, 2 pm. Gardens and trails at Matthaei  are free and open 7 days a week. Display opens June 19 and continues through the  summer at Matthaei Botanical Gardens\, 1800 N. Dixboro Rd.\, Ann Arbor. For more  information visit our website: www.mbgna.umich.edu or call 734-647-7600.
UID:1664-916438@events.umich.edu
URL:https://events.umich.edu/event/1664
CLASS:PUBLIC
STATUS:CONFIRMED
CATEGORIES:
LOCATION:
CONTACT:
END:VEVENT
BEGIN:VEVENT
DTSTAMP:20100817T114436
DTSTART;TZID=America/Detroit:20100910T100000
SUMMARY:Exhibition:On Beauty and the Everyday: The Prints of James McNeill Whistler
DESCRIPTION:UMMA's rare and important collection of James McNeill Whistler works on paper represents  one of the finest holdings of Whistler's graphic output in North America. This major exhibition  features more than 100 works of art from UMMA's Whistler collection\, which covers the  artist's entire career in Europe\, ranging from his student days and exposure to the vanguard  artistic movements of the 19th century to the groundbreaking and atmospheric lithographs  and etchings of his mature style. It is the first exhibition devoted to Whistler's works at  UMMA since 1994.\n\nNearly all of the Whistler works came to the Museum through the bequest of Margaret  Watson Parker\, an early collector of both Whistler's prints as well as Japanese art. The  exhibition explores Whistler's illustrious life and career\; his artistic themes and concerns\,  including portraiture and his well-known series from England\, Italy\, and France\; the interests  and legacy of early-20th-century Whistler collector Margaret Watson Parker\; and the tools  and techniques that Whistler employed as a printmaker.
UID:3291-921155@events.umich.edu
URL:https://events.umich.edu/event/3291
CLASS:PUBLIC
STATUS:CONFIRMED
CATEGORIES:visual arts
LOCATION:Museum of Art
CONTACT:
END:VEVENT
BEGIN:VEVENT
DTSTAMP:20101111T175654
DTSTART;TZID=America/Detroit:20100910T100000
SUMMARY:Exhibition:UMMA Projects: Jakob Kolding
DESCRIPTION:UMMA is pleased to present the first solo exhibition in a North American museum of Berlin- based artist Jakob Kolding. Kolding's work revolves around the experience of life in the  contemporary built environment\, particularly the relationships and contradictions that emerge  between how architectural spaces are planned and how they are actively used. His collages\,  drawings\, posters\, and mixed-media sculptures incorporate a wide range of source material\,  sampling and mixing the visual idiom of modernist art and architecture\, the language of  sociological inquiry\, and such popular cultural forms as hip-hop and electronic music\,  skateboarding\, and soccer. Kolding's dynamic compositions encourage us to actively question  the relationship between space and behavior\, and to imagine forms of self-expression that  use the built environment in creative new ways.
UID:3292-913233@events.umich.edu
URL:https://events.umich.edu/event/3292
CLASS:PUBLIC
STATUS:CONFIRMED
CATEGORIES:visual arts
LOCATION:Museum of Art
CONTACT:
END:VEVENT
BEGIN:VEVENT
DTSTAMP:20101111T175612
DTSTART;TZID=America/Detroit:20100910T150000
SUMMARY:Exercise / Fitness:Wilderness Experience #2: Rock Climbing
DESCRIPTION:Have you ever wanted to try Rock Climbing? Whether you've been to a climbing  gym or not\, there's nothing quite like real rock under your finger tips. Join Outdoor  Adventures as we venture to John Bryan State Park in Western Ohio to scale the  limestone cliffs carved by the Little Miami River.
UID:3034-910085@events.umich.edu
URL:https://events.umich.edu/event/3034
CLASS:PUBLIC
STATUS:CONFIRMED
CATEGORIES:
LOCATION:
CONTACT:
END:VEVENT
BEGIN:VEVENT
DTSTAMP:20100830T115737
DTSTART;TZID=America/Detroit:20100910T170000
DTEND;TZID=America/Detroit:20100910T183000
SUMMARY:Auditions:Maize Futbol Club Tryouts
DESCRIPTION:Maize Futbol Club invites all individuals capable of playing soccer at a high\, competitive level. Tryouts will be held at Fuller Field #2 directly across from the Michigan Hospital. For more info please view our website or join our group on facebook.
UID:3428-911617@events.umich.edu
URL:https://events.umich.edu/event/3428
CLASS:PUBLIC
STATUS:CONFIRMED
CATEGORIES:
LOCATION:
CONTACT:
END:VEVENT
BEGIN:VEVENT
DTSTAMP:20101111T175804
DTSTART;TZID=America/Detroit:20100910T190000
SUMMARY:Meeting:Access
DESCRIPTION:Ever wondered about your purpose in life? At Access\, we believe that college is a crucial time to discover God’s purpose for your life and your impact in the world. Join us Fridays at 7PM to experience God like never before as we dig deep into the Bible\, engage in prayer\, and worship together. Open to students of all backgrounds\, you can discover how relevant the Bible is to our current lives and find hope even in the midst of challenges. \n\nMore information about Access\, a student organization from Harvest Mission Community Church\, can be found at www.hmcc.net 
UID:2042-918024@events.umich.edu
URL:https://events.umich.edu/event/2042
CLASS:PUBLIC
STATUS:CONFIRMED
CATEGORIES:religious,spiritual,student org,welcome to michigan,welcome week
LOCATION:
CONTACT:
END:VEVENT
BEGIN:VEVENT
DTSTAMP:20101111T175617
DTSTART;TZID=America/Detroit:20100910T190000
DTEND;TZID=America/Detroit:20100910T203000
SUMMARY:Meeting:Cru
DESCRIPTION:No matter what your background...Come experience God with hundreds from across  campus! Enjoy a great band playing today's music about God\, great teaching\, and good  humor--plus a chance to hang out and make new friends. The weekly meeting of  Campus Crusade for Christ.
UID:353-910395@events.umich.edu
URL:https://events.umich.edu/event/353
CLASS:PUBLIC
STATUS:CONFIRMED
CATEGORIES:spiritual,religious
LOCATION:Angell Hall - Auditorium B
CONTACT:
END:VEVENT
BEGIN:VEVENT
DTSTAMP:20100720T191709
DTSTART;TZID=America/Detroit:20100910T200000
SUMMARY:Performance:The Spring Standards
DESCRIPTION:Students: Welcome to Ann Arbor and to the Ark\, a world-class club with music for all ages and tastes! Tonight's show is FREE with student ID. The Spring Standards are James Cleare\, James Smith and Heather Robb. With an emphasis on three-part harmony and lots of instrumental switching around\, their range and energy make each live show a unique event. The band's performance setup is unique. They take a drum kit and break it up among the three of them\, and then they set up along the front of the stage. So\, whoever is playing bass (James and James alternate between bass and guitar) is also stepping on a kick drum\, and whoever is playing guitar is also stepping on the high hat (and sometimes playing harmonica too). Heather\, in the middle\, switches among melodica\, keys\, glockenspiel and snare drum\, often playing several instruments at a time. Add in some infectious rock melodies and hints of classic country music\, and you have a band with a style all its own. The Spring Standards have recently released their first full-length album\, Would Things Be Different\, produced by Bryce Goggins (Pavement\, Phish\, Apples in Stereo).?
UID:311-909710@events.umich.edu
URL:https://events.umich.edu/event/311
CLASS:PUBLIC
STATUS:CONFIRMED
CATEGORIES:welcome week,music
LOCATION:
CONTACT:
END:VEVENT
BEGIN:VEVENT
DTSTAMP:20100804T150654
DTSTART;TZID=America/Detroit:20100910T203000
DTEND;TZID=America/Detroit:20100910T010000
SUMMARY:Social / Informal Gathering:Root Beer Pong
DESCRIPTION:The Newman Catholic Student Association is the largest group of Catholic students on campus. We're kicking off the new school year with food\, music\, root beer pong\, and a catchphrase tournament. Stop by to meet new people and find out how you can get involved at St. Mary Student Parish. All are welcome!\n\nQuestions? Call 663- 0557 or email stmarys@umich.edu.
UID:1291-914926@events.umich.edu
URL:https://events.umich.edu/event/1291
CLASS:PUBLIC
STATUS:CONFIRMED
CATEGORIES:welcome week
LOCATION:
CONTACT:
END:VEVENT
END:VCALENDAR