BEGIN:VCALENDAR
VERSION:2.0
PRODID:-//UM//UM*Events//EN
CALSCALE:GREGORIAN
BEGIN:VTIMEZONE
TZID:America/Detroit
TZURL:http://tzurl.org/zoneinfo/America/Detroit
X-LIC-LOCATION:America/Detroit
BEGIN:DAYLIGHT
TZOFFSETFROM:-0500
TZOFFSETTO:-0400
TZNAME:EDT
DTSTART:20070311T020000
RRULE:FREQ=YEARLY;BYMONTH=3;BYDAY=2SU
END:DAYLIGHT
BEGIN:STANDARD
TZOFFSETFROM:-0400
TZOFFSETTO:-0500
TZNAME:EST
DTSTART:20071104T020000
RRULE:FREQ=YEARLY;BYMONTH=11;BYDAY=1SU
END:STANDARD
END:VTIMEZONE
BEGIN:VEVENT
DTSTAMP:20100902T204041
DTSTART;TZID=America/Detroit:20100911T070000
SUMMARY:Exhibition:Habaghdad
DESCRIPTION:Cuban national Brayan Collazzo's exhibit features photographs of the devastated buildings of Habana\, Cuba. All that remains of many are the shells of the building creating surreal spaces resmbling a war torn (Baghdad) site.
UID:3476-913577@events.umich.edu
URL:https://events.umich.edu/event/3476
CLASS:PUBLIC
STATUS:CONFIRMED
CATEGORIES:visual arts
LOCATION:Michigan Union - Art Lounge
CONTACT:
END:VEVENT
BEGIN:VEVENT
DTSTAMP:20100902T203826
DTSTART;TZID=America/Detroit:20100911T070000
DTEND;TZID=America/Detroit:20100911T020000
SUMMARY:Exhibition:How Does Eastern Market Make Detroit a \"Cool City\"?
DESCRIPTION:When the state-funded Cool Cities Initiative\, which sponsored 2 UM students' internships\, offered grant money for special projects\, Oliver and Emma collaborated on a winning grant proposal for a project called “Know Your Farmer” that incorporated each intern's work. Emma posted Oliver's photographs on Eastern Market's Facebook page\, allowing fans to vote on their favorite pictures and contribute stories they had about particular farmers. This exhibit features the top five photographs as voted by Eastern Market Corporation fans\, Oliver's descriptions of the farmers\, and a few select quotations from the fans' comments.
UID:3475-921675@events.umich.edu
URL:https://events.umich.edu/event/3475
CLASS:PUBLIC
STATUS:CONFIRMED
CATEGORIES:literary arts,visual arts
LOCATION:Michigan Union - Wall Gallery
CONTACT:
END:VEVENT
BEGIN:VEVENT
DTSTAMP:20100715T195744
DTSTART;TZID=America/Detroit:20100911T083000
DTEND;TZID=America/Detroit:20100911T190000
SUMMARY:Exhibition:Tour de France: Travel & Topography in France 1700-1900
DESCRIPTION:The Audubon Room currently displays maps\, atlases and books related to cartography\, travel\, and the geography of France\, drawing on the University of Michigan Library's extensive holdings of French materials in the Map Library.\n\nOpen during Audubon Room hours\; see http://www.lib.umich.edu/audubon-room
UID:2614-919412@events.umich.edu
URL:https://events.umich.edu/event/2614
CLASS:PUBLIC
STATUS:CONFIRMED
CATEGORIES:visual arts
LOCATION:Hatcher Graduate Library - Audubon Room
CONTACT:
END:VEVENT
BEGIN:VEVENT
DTSTAMP:20100614T131024
DTSTART;TZID=America/Detroit:20100911T100000
DTEND;TZID=America/Detroit:20100911T163000
SUMMARY:Exhibition:Fabulous Flamingos! - A Whimsical Garden Display
DESCRIPTION:The flamingos have landed – at Matthaei! On display are dozens of pink flamingo  lawn ornaments imaginatively themed and decorated by U-M Art School students\,  community members\, and Ann Arbor Public School students\; fantastic topiary  creatures such as Nessie the garden serpent and others creatively grown and  decorated by our expert horticulturists\; perennial garden favorites like whirligigs and  gnomes\; lush seasonal plantings\; and more. A must-see garden! While you're  visiting Matthaei\, be sure to vote for your favorite flamingo June 19 through July  15. Voting cards and ballot box located in the lobby at Matthaei. Best in Show  Flamingos announced on Saturday\, July 17\, 2 pm. Gardens and trails at Matthaei  are free and open 7 days a week. Display opens June 19 and continues through the  summer at Matthaei Botanical Gardens\, 1800 N. Dixboro Rd.\, Ann Arbor. For more  information visit our website: www.mbgna.umich.edu or call 734-647-7600.
UID:1664-916439@events.umich.edu
URL:https://events.umich.edu/event/1664
CLASS:PUBLIC
STATUS:CONFIRMED
CATEGORIES:
LOCATION:
CONTACT:
END:VEVENT
BEGIN:VEVENT
DTSTAMP:20100817T114436
DTSTART;TZID=America/Detroit:20100911T100000
SUMMARY:Exhibition:On Beauty and the Everyday: The Prints of James McNeill Whistler
DESCRIPTION:UMMA's rare and important collection of James McNeill Whistler works on paper represents  one of the finest holdings of Whistler's graphic output in North America. This major exhibition  features more than 100 works of art from UMMA's Whistler collection\, which covers the  artist's entire career in Europe\, ranging from his student days and exposure to the vanguard  artistic movements of the 19th century to the groundbreaking and atmospheric lithographs  and etchings of his mature style. It is the first exhibition devoted to Whistler's works at  UMMA since 1994.\n\nNearly all of the Whistler works came to the Museum through the bequest of Margaret  Watson Parker\, an early collector of both Whistler's prints as well as Japanese art. The  exhibition explores Whistler's illustrious life and career\; his artistic themes and concerns\,  including portraiture and his well-known series from England\, Italy\, and France\; the interests  and legacy of early-20th-century Whistler collector Margaret Watson Parker\; and the tools  and techniques that Whistler employed as a printmaker.
UID:3291-921156@events.umich.edu
URL:https://events.umich.edu/event/3291
CLASS:PUBLIC
STATUS:CONFIRMED
CATEGORIES:visual arts
LOCATION:Museum of Art
CONTACT:
END:VEVENT
BEGIN:VEVENT
DTSTAMP:20101111T175737
DTSTART;TZID=America/Detroit:20100911T100000
SUMMARY:Exhibition:Out of the Ordinary: Selections from the Bohlen Wood Art and Fusfeld Folk Art Collections
DESCRIPTION:This exhibition\, which runs from September 11 through Spring of 2011\, allows visitors to  explore two extraordinary collections of art–the Robert M. and Lillian Montalto Bohlen  Collection of Wood Art and the Daniel and Harriet Fusfeld Folk Art Collection. The Bohlen  collection presents an astonishing range of contemporary artworks fashioned from wood and  includes works that explores traditional and non-traditional vessel forms as well as works that  are more purely sculptural. The outstanding objects that make up the Fusfeld collection are both  geographically and historically wide-ranging\, including work by early nineteenth-century  itinerant folk portraitists as well as late twentieth-century sculpture and painting by “outsider”  artists from the American South\, Midwest\, and Northeast.
UID:3293-916084@events.umich.edu
URL:https://events.umich.edu/event/3293
CLASS:PUBLIC
STATUS:CONFIRMED
CATEGORIES:visual arts
LOCATION:Museum of Art
CONTACT:
END:VEVENT
BEGIN:VEVENT
DTSTAMP:20101111T175654
DTSTART;TZID=America/Detroit:20100911T100000
SUMMARY:Exhibition:UMMA Projects: Jakob Kolding
DESCRIPTION:UMMA is pleased to present the first solo exhibition in a North American museum of Berlin- based artist Jakob Kolding. Kolding's work revolves around the experience of life in the  contemporary built environment\, particularly the relationships and contradictions that emerge  between how architectural spaces are planned and how they are actively used. His collages\,  drawings\, posters\, and mixed-media sculptures incorporate a wide range of source material\,  sampling and mixing the visual idiom of modernist art and architecture\, the language of  sociological inquiry\, and such popular cultural forms as hip-hop and electronic music\,  skateboarding\, and soccer. Kolding's dynamic compositions encourage us to actively question  the relationship between space and behavior\, and to imagine forms of self-expression that  use the built environment in creative new ways.
UID:3292-913234@events.umich.edu
URL:https://events.umich.edu/event/3292
CLASS:PUBLIC
STATUS:CONFIRMED
CATEGORIES:visual arts
LOCATION:Museum of Art
CONTACT:
END:VEVENT
BEGIN:VEVENT
DTSTAMP:20101111T175749
DTSTART;TZID=America/Detroit:20100911T130000
SUMMARY:Exhibition:Guided Tour
DESCRIPTION:This is one of two new tours that looks at UMMA collections through the lens of a particular  theme. \"Political and Social Expressions in Art\" considers art displaying political and social  issues. Both new tours are offered in conjunction with the UM theme semester \"What Makes Life  Worth Living.\"
UID:3299-916891@events.umich.edu
URL:https://events.umich.edu/event/3299
CLASS:PUBLIC
STATUS:CONFIRMED
CATEGORIES:visual arts
LOCATION:Museum of Art
CONTACT:
END:VEVENT
BEGIN:VEVENT
DTSTAMP:20101111T175646
DTSTART;TZID=America/Detroit:20100911T130000
DTEND;TZID=America/Detroit:20100911T170000
SUMMARY:Conference / Symposium:History of Art 2010 Fall Symposium
DESCRIPTION:This symposium focuses on the publishing\, design\, and distribution of art books and books on  art in a time of rapid change in the publishing industry. The panelists\, drawing on a wide range  of professional experience\, offer a diversity of perspectives as they reflect on both the  challenges and the possibilities of publishing books in which the visual is paramount\, in which  images are integral and design conveys meaning. All propose ways of moving forward in  uncertain\, if exciting\, times. For a complete program schedule please visit:  www.lsa.umich.edu/histart
UID:3298-912688@events.umich.edu
URL:https://events.umich.edu/event/3298
CLASS:PUBLIC
STATUS:CONFIRMED
CATEGORIES:visual arts
LOCATION:Museum of Art - Helmut Stern Auditorium
CONTACT:
END:VEVENT
BEGIN:VEVENT
DTSTAMP:20100712T155149
DTSTART;TZID=America/Detroit:20100911T130000
DTEND;TZID=America/Detroit:20100911T170000
SUMMARY:Conference / Symposium:History of Art 2010 Fall Symposium: The Art Book Today: Print Projects in the Digital Age
DESCRIPTION:This symposium focuses on the publishing\, design and distribution of art books and  books on art in a time of rapid change in the publishing industry. The panelists\,  drawing on a wide range of professional experience\, offer a diversity of perspectives  as they reflect on both the challenges and the possibilities of publishing books in  which the visual is paramount\, in which images are integral and design conveys  meaning. All propose ways of moving forward in uncertain\, if exciting\, times.
UID:1287-914924@events.umich.edu
URL:https://events.umich.edu/event/1287
CLASS:PUBLIC
STATUS:CONFIRMED
CATEGORIES:architecture,film,literary arts,visual arts
LOCATION:Museum of Art - Helmut Stern Auditorium
CONTACT:
END:VEVENT
BEGIN:VEVENT
DTSTAMP:20100903T170614
DTSTART;TZID=America/Detroit:20100911T150000
SUMMARY:Rally / Mass Meeting:North Campus Tailgate
DESCRIPTION:Put on your Maize & Blue and join your fellow Wolverines to cheer on our football team as they face  Notre Dame! Watch the Wolverines take on the Fighting Irish on the big screen. Enjoy free tailgate  food\, inflatables\, giveaways and meet new friends! Don't forget your picnic blanket\, and Go Blue!\n\nGame Kickoff at 3:30pm\n\nAlcoholic beverages and use prohibited
UID:3478-921748@events.umich.edu
URL:https://events.umich.edu/event/3478
CLASS:PUBLIC
STATUS:CONFIRMED
CATEGORIES:welcome week
LOCATION:
CONTACT:
END:VEVENT
BEGIN:VEVENT
DTSTAMP:20100720T191819
DTSTART;TZID=America/Detroit:20100911T200000
SUMMARY:Performance:Billy Bragg
DESCRIPTION:Billy Bragg was recently described by the London Times as a \"national treasure\,\" and with his fabulous reconstructions of unfinished Woody Guthrie songs of a few years back he created a few American national treasures to boot. In more than two decades of performing and stirring people up\, Billy Bragg has become the conscience of British music\, a stalwart guardian of the radical dissenting tradition that stretches back over centuries of political\, cultural\, and social history. His songs\, halfway between folk and punk\, are full of passion\, anger\, and wit\, and he's been called a \"one-man Clash.\" Top it all off with the stream-of-consciousness rants that Billy Bragg delivers live and in person\, and you've got the ingredients for a rare Ark experience.
UID:1401-914346@events.umich.edu
URL:https://events.umich.edu/event/1401
CLASS:PUBLIC
STATUS:CONFIRMED
CATEGORIES:music
LOCATION:
CONTACT:
END:VEVENT
END:VCALENDAR