BEGIN:VCALENDAR
VERSION:2.0
PRODID:-//UM//UM*Events//EN
CALSCALE:GREGORIAN
BEGIN:VTIMEZONE
TZID:America/Detroit
TZURL:http://tzurl.org/zoneinfo/America/Detroit
X-LIC-LOCATION:America/Detroit
BEGIN:DAYLIGHT
TZOFFSETFROM:-0500
TZOFFSETTO:-0400
TZNAME:EDT
DTSTART:20070311T020000
RRULE:FREQ=YEARLY;BYMONTH=3;BYDAY=2SU
END:DAYLIGHT
BEGIN:STANDARD
TZOFFSETFROM:-0400
TZOFFSETTO:-0500
TZNAME:EST
DTSTART:20071104T020000
RRULE:FREQ=YEARLY;BYMONTH=11;BYDAY=1SU
END:STANDARD
END:VTIMEZONE
BEGIN:VEVENT
DTSTAMP:20100902T204041
DTSTART;TZID=America/Detroit:20100912T070000
SUMMARY:Exhibition:Habaghdad
DESCRIPTION:Cuban national Brayan Collazzo's exhibit features photographs of the devastated buildings of Habana\, Cuba. All that remains of many are the shells of the building creating surreal spaces resmbling a war torn (Baghdad) site.
UID:3476-913578@events.umich.edu
URL:https://events.umich.edu/event/3476
CLASS:PUBLIC
STATUS:CONFIRMED
CATEGORIES:visual arts
LOCATION:Michigan Union - Art Lounge
CONTACT:
END:VEVENT
BEGIN:VEVENT
DTSTAMP:20100902T203826
DTSTART;TZID=America/Detroit:20100912T070000
DTEND;TZID=America/Detroit:20100912T020000
SUMMARY:Exhibition:How Does Eastern Market Make Detroit a \"Cool City\"?
DESCRIPTION:When the state-funded Cool Cities Initiative\, which sponsored 2 UM students' internships\, offered grant money for special projects\, Oliver and Emma collaborated on a winning grant proposal for a project called “Know Your Farmer” that incorporated each intern's work. Emma posted Oliver's photographs on Eastern Market's Facebook page\, allowing fans to vote on their favorite pictures and contribute stories they had about particular farmers. This exhibit features the top five photographs as voted by Eastern Market Corporation fans\, Oliver's descriptions of the farmers\, and a few select quotations from the fans' comments.
UID:3475-921676@events.umich.edu
URL:https://events.umich.edu/event/3475
CLASS:PUBLIC
STATUS:CONFIRMED
CATEGORIES:literary arts,visual arts
LOCATION:Michigan Union - Wall Gallery
CONTACT:
END:VEVENT
BEGIN:VEVENT
DTSTAMP:20100706T104826
DTSTART;TZID=America/Detroit:20100912T083000
DTEND;TZID=America/Detroit:20100912T220000
SUMMARY:Ceremony / Service:Passport to Programs and Weekend Masses at St. Mary's
DESCRIPTION:Enjoy our parish hospitality and refreshments after all our Masses:  8:30 am\, 10 am\, and 10:10 am\; Noon\, 2 pm (Spanish)\, and 5 pm\, 7 pm\, and 9 pm (come before the 9 pm Mass).  Learn about all of our programs and activities\, and enjoy the fresh air and a chance to meet other students\, parish members and St. Mary's staff!  It's a great way to meet people interested in the same things you are.  At the 7 pm Mass\, you will hear our undergraduate choir sing contemporary worship music.  Our 9 pm Mass offers a great break from studying.  Come see which Mass feels right for you!  All are welcome!\n\nQuestions?  Call 663-0557 or email stmarys@umich.edu
UID:2370-919702@events.umich.edu
URL:https://events.umich.edu/event/2370
CLASS:PUBLIC
STATUS:CONFIRMED
CATEGORIES:welcome week
LOCATION:
CONTACT:
END:VEVENT
BEGIN:VEVENT
DTSTAMP:20100715T195744
DTSTART;TZID=America/Detroit:20100912T083000
DTEND;TZID=America/Detroit:20100912T190000
SUMMARY:Exhibition:Tour de France: Travel & Topography in France 1700-1900
DESCRIPTION:The Audubon Room currently displays maps\, atlases and books related to cartography\, travel\, and the geography of France\, drawing on the University of Michigan Library's extensive holdings of French materials in the Map Library.\n\nOpen during Audubon Room hours\; see http://www.lib.umich.edu/audubon-room
UID:2614-919413@events.umich.edu
URL:https://events.umich.edu/event/2614
CLASS:PUBLIC
STATUS:CONFIRMED
CATEGORIES:visual arts
LOCATION:Hatcher Graduate Library - Audubon Room
CONTACT:
END:VEVENT
BEGIN:VEVENT
DTSTAMP:20100614T131024
DTSTART;TZID=America/Detroit:20100912T100000
DTEND;TZID=America/Detroit:20100912T163000
SUMMARY:Exhibition:Fabulous Flamingos! - A Whimsical Garden Display
DESCRIPTION:The flamingos have landed – at Matthaei! On display are dozens of pink flamingo  lawn ornaments imaginatively themed and decorated by U-M Art School students\,  community members\, and Ann Arbor Public School students\; fantastic topiary  creatures such as Nessie the garden serpent and others creatively grown and  decorated by our expert horticulturists\; perennial garden favorites like whirligigs and  gnomes\; lush seasonal plantings\; and more. A must-see garden! While you're  visiting Matthaei\, be sure to vote for your favorite flamingo June 19 through July  15. Voting cards and ballot box located in the lobby at Matthaei. Best in Show  Flamingos announced on Saturday\, July 17\, 2 pm. Gardens and trails at Matthaei  are free and open 7 days a week. Display opens June 19 and continues through the  summer at Matthaei Botanical Gardens\, 1800 N. Dixboro Rd.\, Ann Arbor. For more  information visit our website: www.mbgna.umich.edu or call 734-647-7600.
UID:1664-916440@events.umich.edu
URL:https://events.umich.edu/event/1664
CLASS:PUBLIC
STATUS:CONFIRMED
CATEGORIES:
LOCATION:
CONTACT:
END:VEVENT
BEGIN:VEVENT
DTSTAMP:20100817T114436
DTSTART;TZID=America/Detroit:20100912T100000
SUMMARY:Exhibition:On Beauty and the Everyday: The Prints of James McNeill Whistler
DESCRIPTION:UMMA's rare and important collection of James McNeill Whistler works on paper represents  one of the finest holdings of Whistler's graphic output in North America. This major exhibition  features more than 100 works of art from UMMA's Whistler collection\, which covers the  artist's entire career in Europe\, ranging from his student days and exposure to the vanguard  artistic movements of the 19th century to the groundbreaking and atmospheric lithographs  and etchings of his mature style. It is the first exhibition devoted to Whistler's works at  UMMA since 1994.\n\nNearly all of the Whistler works came to the Museum through the bequest of Margaret  Watson Parker\, an early collector of both Whistler's prints as well as Japanese art. The  exhibition explores Whistler's illustrious life and career\; his artistic themes and concerns\,  including portraiture and his well-known series from England\, Italy\, and France\; the interests  and legacy of early-20th-century Whistler collector Margaret Watson Parker\; and the tools  and techniques that Whistler employed as a printmaker.
UID:3291-921157@events.umich.edu
URL:https://events.umich.edu/event/3291
CLASS:PUBLIC
STATUS:CONFIRMED
CATEGORIES:visual arts
LOCATION:Museum of Art
CONTACT:
END:VEVENT
BEGIN:VEVENT
DTSTAMP:20101111T175737
DTSTART;TZID=America/Detroit:20100912T100000
SUMMARY:Exhibition:Out of the Ordinary: Selections from the Bohlen Wood Art and Fusfeld Folk Art Collections
DESCRIPTION:This exhibition\, which runs from September 11 through Spring of 2011\, allows visitors to  explore two extraordinary collections of art–the Robert M. and Lillian Montalto Bohlen  Collection of Wood Art and the Daniel and Harriet Fusfeld Folk Art Collection. The Bohlen  collection presents an astonishing range of contemporary artworks fashioned from wood and  includes works that explores traditional and non-traditional vessel forms as well as works that  are more purely sculptural. The outstanding objects that make up the Fusfeld collection are both  geographically and historically wide-ranging\, including work by early nineteenth-century  itinerant folk portraitists as well as late twentieth-century sculpture and painting by “outsider”  artists from the American South\, Midwest\, and Northeast.
UID:3293-916085@events.umich.edu
URL:https://events.umich.edu/event/3293
CLASS:PUBLIC
STATUS:CONFIRMED
CATEGORIES:visual arts
LOCATION:Museum of Art
CONTACT:
END:VEVENT
BEGIN:VEVENT
DTSTAMP:20101111T175654
DTSTART;TZID=America/Detroit:20100912T100000
SUMMARY:Exhibition:UMMA Projects: Jakob Kolding
DESCRIPTION:UMMA is pleased to present the first solo exhibition in a North American museum of Berlin- based artist Jakob Kolding. Kolding's work revolves around the experience of life in the  contemporary built environment\, particularly the relationships and contradictions that emerge  between how architectural spaces are planned and how they are actively used. His collages\,  drawings\, posters\, and mixed-media sculptures incorporate a wide range of source material\,  sampling and mixing the visual idiom of modernist art and architecture\, the language of  sociological inquiry\, and such popular cultural forms as hip-hop and electronic music\,  skateboarding\, and soccer. Kolding's dynamic compositions encourage us to actively question  the relationship between space and behavior\, and to imagine forms of self-expression that  use the built environment in creative new ways.
UID:3292-913235@events.umich.edu
URL:https://events.umich.edu/event/3292
CLASS:PUBLIC
STATUS:CONFIRMED
CATEGORIES:visual arts
LOCATION:Museum of Art
CONTACT:
END:VEVENT
BEGIN:VEVENT
DTSTAMP:20101111T175600
DTSTART;TZID=America/Detroit:20100912T130000
SUMMARY:Exhibition:Guided Tour
DESCRIPTION:This is one of two new tours that looks at UMMA collections through the lens of a particular theme. \"The Collector's Eye\" considers donors and collectors who have shaped UMMA holdings.  Both new tours are offered in conjunction with the UM theme semester \"What Makes Life Worth  Living.\"
UID:3300-909083@events.umich.edu
URL:https://events.umich.edu/event/3300
CLASS:PUBLIC
STATUS:CONFIRMED
CATEGORIES:visual arts
LOCATION:Museum of Art
CONTACT:
END:VEVENT
BEGIN:VEVENT
DTSTAMP:20101111T175640
DTSTART;TZID=America/Detroit:20100912T150000
DTEND;TZID=America/Detroit:20100912T170000
SUMMARY:Workshop / Seminar:Sports Concussion Workshop: Keeping Your Head in the Game
DESCRIPTION:Michigan NeuroSport Concussion Program and Michigan Athletics presents a Sports  Concussion Workshop: Keeping Your Head in the Game. Keynote speaker is Jeffrey  Kutcher\, M.D.\, director of Michigan NeuroSport\, Michigan Athletics team neurologist  and NCAA\, Big Ten concussion consultant and advisor. Parents\, coaches\, trainers  and athletes can learn about concussion\, how to manage them and safely return to  play. The event is free. Sunday\, Sept. 12 from 3 to 5 p.m. at Detroit Country Day  School\, Performing Arts Center\, 22305 West 13 Mile Road\, Beverly Hills\, Mich. To  register\, call 734-998-7432 or e-mail concussion.registration@umich.edu
UID:3448-912340@events.umich.edu
URL:https://events.umich.edu/event/3448
CLASS:PUBLIC
STATUS:CONFIRMED
CATEGORIES:
LOCATION:
CONTACT:
END:VEVENT
BEGIN:VEVENT
DTSTAMP:20100910T153154
DTSTART;TZID=America/Detroit:20100912T180000
DTEND;TZID=America/Detroit:20100912T200000
SUMMARY:Performance:Music in the Arb - Featuring Ghostlady
DESCRIPTION:Visit the Arb this Sunday afternoon for the last in a series of free summer concerts featuring eclectic music from local bands and performers. Tonight's concert features Ghostlady\, a local band that combines instruments such as farfisa organ\, loop pedal\, guitar\, drums\, and bells into a blend of music they call \"quirk pop.\" This concert is free and begins at 6 pm in the amphitheater in the Arb. For more information or directions visit our website or call 734.647.7600.
UID:3586-918973@events.umich.edu
URL:https://events.umich.edu/event/3586
CLASS:PUBLIC
STATUS:CONFIRMED
CATEGORIES:music
LOCATION:Nichols Arboretum
CONTACT:
END:VEVENT
BEGIN:VEVENT
DTSTAMP:20100702T150419
DTSTART;TZID=America/Detroit:20100912T183000
DTEND;TZID=America/Detroit:20100912T213000
SUMMARY:Reception / Open House:Hillel's Open House
DESCRIPTION:Lots of people\, free snacks\, and an opportunity to learn more about Hillel's 50 groups.
UID:1298-914175@events.umich.edu
URL:https://events.umich.edu/event/1298
CLASS:PUBLIC
STATUS:CONFIRMED
CATEGORIES:welcome week
LOCATION:Hillel (Mandell L Berman Center)
CONTACT:
END:VEVENT
BEGIN:VEVENT
DTSTAMP:20101111T175616
DTSTART;TZID=America/Detroit:20100912T190000
DTEND;TZID=America/Detroit:20100912T200000
SUMMARY:Rally / Mass Meeting:LGBT Commission of MSA mass meeting
DESCRIPTION:
UID:3521-910250@events.umich.edu
URL:https://events.umich.edu/event/3521
CLASS:PUBLIC
STATUS:CONFIRMED
CATEGORIES:
LOCATION:Michigan Union - U-Club
CONTACT:
END:VEVENT
BEGIN:VEVENT
DTSTAMP:20100720T191945
DTSTART;TZID=America/Detroit:20100912T193000
SUMMARY:Performance:Abigail Washburn
DESCRIPTION:In her early 20s\, Abigail Washburn lived in the Chinese city of Chengdu. After coming home she heard Doc Watson play \"Shady Grove\" and immersed herself in American traditional music. A former member of the all-girl old-time group Uncle Earl (and doubtless the spark behind their notorious Kung Fu Clogging video)\, Abigail has made a real splash with her fresh takes on bluegrass and old-time music\, which include songs in Chinese. As a bandleader she assembled an all-star group of musicians that included legendary newgrass innovator Bela Fleck and molded them to fit her vision (gaining Fleck as a husband in the process). Abigail comes to The Ark just back from a China tour and a performance at the 2010 World Expo in Shanghai\, and she's bringing a brand new album\, \"City of Refuge.\"
UID:2486-919182@events.umich.edu
URL:https://events.umich.edu/event/2486
CLASS:PUBLIC
STATUS:CONFIRMED
CATEGORIES:music
LOCATION:
CONTACT:
END:VEVENT
END:VCALENDAR