BEGIN:VCALENDAR
VERSION:2.0
PRODID:-//UM//UM*Events//EN
CALSCALE:GREGORIAN
BEGIN:VTIMEZONE
TZID:America/Detroit
TZURL:http://tzurl.org/zoneinfo/America/Detroit
X-LIC-LOCATION:America/Detroit
BEGIN:DAYLIGHT
TZOFFSETFROM:-0500
TZOFFSETTO:-0400
TZNAME:EDT
DTSTART:20070311T020000
RRULE:FREQ=YEARLY;BYMONTH=3;BYDAY=2SU
END:DAYLIGHT
BEGIN:STANDARD
TZOFFSETFROM:-0400
TZOFFSETTO:-0500
TZNAME:EST
DTSTART:20071104T020000
RRULE:FREQ=YEARLY;BYMONTH=11;BYDAY=1SU
END:STANDARD
END:VTIMEZONE
BEGIN:VEVENT
DTSTAMP:20100902T204041
DTSTART;TZID=America/Detroit:20100913T070000
SUMMARY:Exhibition:Habaghdad
DESCRIPTION:Cuban national Brayan Collazzo's exhibit features photographs of the devastated buildings of Habana\, Cuba. All that remains of many are the shells of the building creating surreal spaces resmbling a war torn (Baghdad) site.
UID:3476-913579@events.umich.edu
URL:https://events.umich.edu/event/3476
CLASS:PUBLIC
STATUS:CONFIRMED
CATEGORIES:visual arts
LOCATION:Michigan Union - Art Lounge
CONTACT:
END:VEVENT
BEGIN:VEVENT
DTSTAMP:20100902T203826
DTSTART;TZID=America/Detroit:20100913T070000
DTEND;TZID=America/Detroit:20100913T020000
SUMMARY:Exhibition:How Does Eastern Market Make Detroit a \"Cool City\"?
DESCRIPTION:When the state-funded Cool Cities Initiative\, which sponsored 2 UM students' internships\, offered grant money for special projects\, Oliver and Emma collaborated on a winning grant proposal for a project called “Know Your Farmer” that incorporated each intern's work. Emma posted Oliver's photographs on Eastern Market's Facebook page\, allowing fans to vote on their favorite pictures and contribute stories they had about particular farmers. This exhibit features the top five photographs as voted by Eastern Market Corporation fans\, Oliver's descriptions of the farmers\, and a few select quotations from the fans' comments.
UID:3475-921677@events.umich.edu
URL:https://events.umich.edu/event/3475
CLASS:PUBLIC
STATUS:CONFIRMED
CATEGORIES:literary arts,visual arts
LOCATION:Michigan Union - Wall Gallery
CONTACT:
END:VEVENT
BEGIN:VEVENT
DTSTAMP:20100715T195744
DTSTART;TZID=America/Detroit:20100913T083000
DTEND;TZID=America/Detroit:20100913T190000
SUMMARY:Exhibition:Tour de France: Travel & Topography in France 1700-1900
DESCRIPTION:The Audubon Room currently displays maps\, atlases and books related to cartography\, travel\, and the geography of France\, drawing on the University of Michigan Library's extensive holdings of French materials in the Map Library.\n\nOpen during Audubon Room hours\; see http://www.lib.umich.edu/audubon-room
UID:2614-919414@events.umich.edu
URL:https://events.umich.edu/event/2614
CLASS:PUBLIC
STATUS:CONFIRMED
CATEGORIES:visual arts
LOCATION:Hatcher Graduate Library - Audubon Room
CONTACT:
END:VEVENT
BEGIN:VEVENT
DTSTAMP:20100614T131024
DTSTART;TZID=America/Detroit:20100913T100000
DTEND;TZID=America/Detroit:20100913T163000
SUMMARY:Exhibition:Fabulous Flamingos! - A Whimsical Garden Display
DESCRIPTION:The flamingos have landed – at Matthaei! On display are dozens of pink flamingo  lawn ornaments imaginatively themed and decorated by U-M Art School students\,  community members\, and Ann Arbor Public School students\; fantastic topiary  creatures such as Nessie the garden serpent and others creatively grown and  decorated by our expert horticulturists\; perennial garden favorites like whirligigs and  gnomes\; lush seasonal plantings\; and more. A must-see garden! While you're  visiting Matthaei\, be sure to vote for your favorite flamingo June 19 through July  15. Voting cards and ballot box located in the lobby at Matthaei. Best in Show  Flamingos announced on Saturday\, July 17\, 2 pm. Gardens and trails at Matthaei  are free and open 7 days a week. Display opens June 19 and continues through the  summer at Matthaei Botanical Gardens\, 1800 N. Dixboro Rd.\, Ann Arbor. For more  information visit our website: www.mbgna.umich.edu or call 734-647-7600.
UID:1664-916441@events.umich.edu
URL:https://events.umich.edu/event/1664
CLASS:PUBLIC
STATUS:CONFIRMED
CATEGORIES:
LOCATION:
CONTACT:
END:VEVENT
BEGIN:VEVENT
DTSTAMP:20100402T123505
DTSTART;TZID=America/Detroit:20100913T110000
DTEND;TZID=America/Detroit:20100913T150000
SUMMARY:Rally / Mass Meeting:Multicultural Greek Council Diag Day
DESCRIPTION:This event is a great opportunity to learn about the Multicultural Greek Council and meet members of its fraternities and sororities.
UID:1223-914786@events.umich.edu
URL:https://events.umich.edu/event/1223
CLASS:PUBLIC
STATUS:CONFIRMED
CATEGORIES:greek life,welcome week
LOCATION:
CONTACT:
END:VEVENT
BEGIN:VEVENT
DTSTAMP:20100824T153847
DTSTART;TZID=America/Detroit:20100913T123000
DTEND;TZID=America/Detroit:20100913T133000
SUMMARY:Lecture / Discussion:Numerus Clausus Exiles: Jewish Students and the Quota System in Interwar Europe
DESCRIPTION:
UID:3361-916907@events.umich.edu
URL:https://events.umich.edu/event/3361
CLASS:PUBLIC
STATUS:CONFIRMED
CATEGORIES:
LOCATION:202 S. Thayer - 2022
CONTACT:
END:VEVENT
BEGIN:VEVENT
DTSTAMP:20100811T103705
DTSTART;TZID=America/Detroit:20100913T160000
DTEND;TZID=America/Detroit:20100913T173000
SUMMARY:Lecture / Discussion:If Ireland can find Peace\, what chance for Israel?
DESCRIPTION:The success of the Irish Peace Process and the healing of historic British-Irish hostilities has made some commentators wonder why it has not yet been possible to apply some of the 'lessons learnt' to the problems of Israel's relations with the Palestinians and its other Arab neighbors. In the last thirty years\, no one has been involved in the Irish Peace Process from so many different perspectives as Lord Alderdice\, and since the Good Friday Agreement of 1998 he has devoted much of his energy to exploring the vexed questions of the Middle East through regular visits to the region and meetings with a remarkable range of participants. In his lecture he will address the value and the limits of 'lessons learnt' from Ireland\, and the problems of implementing them in the Middle East.
UID:3251-920677@events.umich.edu
URL:https://events.umich.edu/event/3251
CLASS:PUBLIC
STATUS:CONFIRMED
CATEGORIES:social justice
LOCATION:Weill Hall (Ford School) - 1120 Annenberg Auditorium
CONTACT:
END:VEVENT
BEGIN:VEVENT
DTSTAMP:20101111T175615
DTSTART;TZID=America/Detroit:20100913T160000
DTEND;TZID=America/Detroit:20100913T180000
SUMMARY:Exercise / Fitness:UMove Class: Rock Climbing 101
DESCRIPTION:The Introduction to Movement on Rock class is a eight week long course covering the  basics of indoor rock climbing\, movement\, and balance. This course is geared toward  beginner and novice climbers\, no experience required. The fundamental purpose of the  course is to introduce students to rock climbing in a safe manner\, while providing  instruction on proper knot tying\, belaying\, rope management\, and basic rock climbing  technique.
UID:3280-910221@events.umich.edu
URL:https://events.umich.edu/event/3280
CLASS:PUBLIC
STATUS:CONFIRMED
CATEGORIES:
LOCATION:Intramural Sports Building - Climbing Wall
CONTACT:
END:VEVENT
BEGIN:VEVENT
DTSTAMP:20101111T175615
DTSTART;TZID=America/Detroit:20100913T163000
DTEND;TZID=America/Detroit:20100913T183000
SUMMARY:Fair / Festival:MLibrary Open House for Grad Students and Faculty
DESCRIPTION:It's YOUR Library.  Come learn about it! Free Food. Meet Your Librarians. Amazing Collections. Library Instruction Info.  Research Help. MLibrary Swag.   See you there!\n\nIf you can't make it\, visit us on Wednesday\, September 15 from 4:30-7 in the  Duderstadt Center during Explorth!
UID:3445-910211@events.umich.edu
URL:https://events.umich.edu/event/3445
CLASS:PUBLIC
STATUS:CONFIRMED
CATEGORIES:
LOCATION:Hatcher Graduate Library - Gallery in Room 100 (enter from Diag)
CONTACT:
END:VEVENT
BEGIN:VEVENT
DTSTAMP:20101111T175643
DTSTART;TZID=America/Detroit:20100913T200000
SUMMARY:Performance:Slide
DESCRIPTION:Ireland's RTÃ‰ radio calls Slide \"the next big thing\,\" and just about every other press outlet in Ireland back them up. The members of Slide have been called traditional musicians with attitude (they themselves call their music \"contemporary & traditional & Irish\")\, and their show\, which includes a generous helping of original tunes\, has both grace and power. They sing\, they write\, and they can play the heck out of instruments of all kinds. Slide has broadened its reach on its Irish home soil\, more or less by popular demand\, since coming together in the pubs of Cork during a 1999 music festival\, and they're familiar faces in Celtic scenes across the European continent and beyond\, but their appearances in North America happen only occasionally. Take this chance to see one of the most creative bands on the Irish scene\, and you can pick up their brand-new album\, Beo Live!
UID:3147-912580@events.umich.edu
URL:https://events.umich.edu/event/3147
CLASS:PUBLIC
STATUS:CONFIRMED
CATEGORIES:music
LOCATION:
CONTACT:
END:VEVENT
END:VCALENDAR