BEGIN:VCALENDAR
VERSION:2.0
PRODID:-//UM//UM*Events//EN
CALSCALE:GREGORIAN
BEGIN:VTIMEZONE
TZID:America/Detroit
TZURL:http://tzurl.org/zoneinfo/America/Detroit
X-LIC-LOCATION:America/Detroit
BEGIN:DAYLIGHT
TZOFFSETFROM:-0500
TZOFFSETTO:-0400
TZNAME:EDT
DTSTART:20070311T020000
RRULE:FREQ=YEARLY;BYMONTH=3;BYDAY=2SU
END:DAYLIGHT
BEGIN:STANDARD
TZOFFSETFROM:-0400
TZOFFSETTO:-0500
TZNAME:EST
DTSTART:20071104T020000
RRULE:FREQ=YEARLY;BYMONTH=11;BYDAY=1SU
END:STANDARD
END:VTIMEZONE
BEGIN:VEVENT
DTSTAMP:20100902T204041
DTSTART;TZID=America/Detroit:20100914T070000
SUMMARY:Exhibition:Habaghdad
DESCRIPTION:Cuban national Brayan Collazzo's exhibit features photographs of the devastated buildings of Habana\, Cuba. All that remains of many are the shells of the building creating surreal spaces resmbling a war torn (Baghdad) site.
UID:3476-913580@events.umich.edu
URL:https://events.umich.edu/event/3476
CLASS:PUBLIC
STATUS:CONFIRMED
CATEGORIES:visual arts
LOCATION:Michigan Union - Art Lounge
CONTACT:
END:VEVENT
BEGIN:VEVENT
DTSTAMP:20100902T203826
DTSTART;TZID=America/Detroit:20100914T070000
DTEND;TZID=America/Detroit:20100914T020000
SUMMARY:Exhibition:How Does Eastern Market Make Detroit a \"Cool City\"?
DESCRIPTION:When the state-funded Cool Cities Initiative\, which sponsored 2 UM students' internships\, offered grant money for special projects\, Oliver and Emma collaborated on a winning grant proposal for a project called “Know Your Farmer” that incorporated each intern's work. Emma posted Oliver's photographs on Eastern Market's Facebook page\, allowing fans to vote on their favorite pictures and contribute stories they had about particular farmers. This exhibit features the top five photographs as voted by Eastern Market Corporation fans\, Oliver's descriptions of the farmers\, and a few select quotations from the fans' comments.
UID:3475-921678@events.umich.edu
URL:https://events.umich.edu/event/3475
CLASS:PUBLIC
STATUS:CONFIRMED
CATEGORIES:visual arts,literary arts
LOCATION:Michigan Union - Wall Gallery
CONTACT:
END:VEVENT
BEGIN:VEVENT
DTSTAMP:20100715T195744
DTSTART;TZID=America/Detroit:20100914T083000
DTEND;TZID=America/Detroit:20100914T190000
SUMMARY:Exhibition:Tour de France: Travel & Topography in France 1700-1900
DESCRIPTION:The Audubon Room currently displays maps\, atlases and books related to cartography\, travel\, and the geography of France\, drawing on the University of Michigan Library's extensive holdings of French materials in the Map Library.\n\nOpen during Audubon Room hours\; see http://www.lib.umich.edu/audubon-room
UID:2614-919415@events.umich.edu
URL:https://events.umich.edu/event/2614
CLASS:PUBLIC
STATUS:CONFIRMED
CATEGORIES:visual arts
LOCATION:Hatcher Graduate Library - Audubon Room
CONTACT:
END:VEVENT
BEGIN:VEVENT
DTSTAMP:20100614T131024
DTSTART;TZID=America/Detroit:20100914T100000
DTEND;TZID=America/Detroit:20100914T163000
SUMMARY:Exhibition:Fabulous Flamingos! - A Whimsical Garden Display
DESCRIPTION:The flamingos have landed – at Matthaei! On display are dozens of pink flamingo  lawn ornaments imaginatively themed and decorated by U-M Art School students\,  community members\, and Ann Arbor Public School students\; fantastic topiary  creatures such as Nessie the garden serpent and others creatively grown and  decorated by our expert horticulturists\; perennial garden favorites like whirligigs and  gnomes\; lush seasonal plantings\; and more. A must-see garden! While you're  visiting Matthaei\, be sure to vote for your favorite flamingo June 19 through July  15. Voting cards and ballot box located in the lobby at Matthaei. Best in Show  Flamingos announced on Saturday\, July 17\, 2 pm. Gardens and trails at Matthaei  are free and open 7 days a week. Display opens June 19 and continues through the  summer at Matthaei Botanical Gardens\, 1800 N. Dixboro Rd.\, Ann Arbor. For more  information visit our website: www.mbgna.umich.edu or call 734-647-7600.
UID:1664-916442@events.umich.edu
URL:https://events.umich.edu/event/1664
CLASS:PUBLIC
STATUS:CONFIRMED
CATEGORIES:
LOCATION:
CONTACT:
END:VEVENT
BEGIN:VEVENT
DTSTAMP:20100817T114436
DTSTART;TZID=America/Detroit:20100914T100000
SUMMARY:Exhibition:On Beauty and the Everyday: The Prints of James McNeill Whistler
DESCRIPTION:UMMA's rare and important collection of James McNeill Whistler works on paper represents  one of the finest holdings of Whistler's graphic output in North America. This major exhibition  features more than 100 works of art from UMMA's Whistler collection\, which covers the  artist's entire career in Europe\, ranging from his student days and exposure to the vanguard  artistic movements of the 19th century to the groundbreaking and atmospheric lithographs  and etchings of his mature style. It is the first exhibition devoted to Whistler's works at  UMMA since 1994.\n\nNearly all of the Whistler works came to the Museum through the bequest of Margaret  Watson Parker\, an early collector of both Whistler's prints as well as Japanese art. The  exhibition explores Whistler's illustrious life and career\; his artistic themes and concerns\,  including portraiture and his well-known series from England\, Italy\, and France\; the interests  and legacy of early-20th-century Whistler collector Margaret Watson Parker\; and the tools  and techniques that Whistler employed as a printmaker.
UID:3291-921158@events.umich.edu
URL:https://events.umich.edu/event/3291
CLASS:PUBLIC
STATUS:CONFIRMED
CATEGORIES:visual arts
LOCATION:Museum of Art
CONTACT:
END:VEVENT
BEGIN:VEVENT
DTSTAMP:20101111T175737
DTSTART;TZID=America/Detroit:20100914T100000
SUMMARY:Exhibition:Out of the Ordinary: Selections from the Bohlen Wood Art and Fusfeld Folk Art Collections
DESCRIPTION:This exhibition\, which runs from September 11 through Spring of 2011\, allows visitors to  explore two extraordinary collections of art–the Robert M. and Lillian Montalto Bohlen  Collection of Wood Art and the Daniel and Harriet Fusfeld Folk Art Collection. The Bohlen  collection presents an astonishing range of contemporary artworks fashioned from wood and  includes works that explores traditional and non-traditional vessel forms as well as works that  are more purely sculptural. The outstanding objects that make up the Fusfeld collection are both  geographically and historically wide-ranging\, including work by early nineteenth-century  itinerant folk portraitists as well as late twentieth-century sculpture and painting by “outsider”  artists from the American South\, Midwest\, and Northeast.
UID:3293-916086@events.umich.edu
URL:https://events.umich.edu/event/3293
CLASS:PUBLIC
STATUS:CONFIRMED
CATEGORIES:visual arts
LOCATION:Museum of Art
CONTACT:
END:VEVENT
BEGIN:VEVENT
DTSTAMP:20101111T175654
DTSTART;TZID=America/Detroit:20100914T100000
SUMMARY:Exhibition:UMMA Projects: Jakob Kolding
DESCRIPTION:UMMA is pleased to present the first solo exhibition in a North American museum of Berlin- based artist Jakob Kolding. Kolding's work revolves around the experience of life in the  contemporary built environment\, particularly the relationships and contradictions that emerge  between how architectural spaces are planned and how they are actively used. His collages\,  drawings\, posters\, and mixed-media sculptures incorporate a wide range of source material\,  sampling and mixing the visual idiom of modernist art and architecture\, the language of  sociological inquiry\, and such popular cultural forms as hip-hop and electronic music\,  skateboarding\, and soccer. Kolding's dynamic compositions encourage us to actively question  the relationship between space and behavior\, and to imagine forms of self-expression that  use the built environment in creative new ways.
UID:3292-913236@events.umich.edu
URL:https://events.umich.edu/event/3292
CLASS:PUBLIC
STATUS:CONFIRMED
CATEGORIES:visual arts
LOCATION:Museum of Art
CONTACT:
END:VEVENT
BEGIN:VEVENT
DTSTAMP:20100902T201723
DTSTART;TZID=America/Detroit:20100914T120000
DTEND;TZID=America/Detroit:20100914T133000
SUMMARY:Lecture / Discussion:Long March in the Temporalization of Time
DESCRIPTION:Since the publication of his book\, Regimes of Historicity: Presentism and Experiences of Time (2003\, translated in six languages)\, which developed the notion of regimes of historicity in order to interrogate our experiences with/of time\, in the past and present\, here and there\, Hartog has undertaken a study of what he calls the long march in the temporalization of time. The questions he asks include: What are the conditions for the temporalization of time? What was necessary to make time become temporal? What kinds of displacements must have occurred in our manner of living\, saying\, and apprehending it?\n\nFrancois Hartog is director of studies at the School of Advanced Studies in Social Sciences\, Paris\, and chair of ancient and modern historiography and a visiting fellow at the U-M Institute for the Humanities.
UID:3465-914192@events.umich.edu
URL:https://events.umich.edu/event/3465
CLASS:PUBLIC
STATUS:CONFIRMED
CATEGORIES:
LOCATION:202 S. Thayer - 2022
CONTACT:
END:VEVENT
BEGIN:VEVENT
DTSTAMP:20100811T103838
DTSTART;TZID=America/Detroit:20100914T160000
DTEND;TZID=America/Detroit:20100914T173000
SUMMARY:Lecture / Discussion:Rediscovering the Caribbean: An Overview of economic\, social and public health issues in the region
DESCRIPTION:Panelists:\n\nAlan Deardorff\, Gerald R. Ford School of Public Policy and Department of Economics\, University of Michigan Susan M. Collins\, Joan and Sanford Weill Dean of Public Policy\, University of Michigan Mark B. Padilla\, School of Public Health\, University of Michigan Susan Waltz\, Gerald R. Ford School of Public Policy\, University of Michigan
UID:3252-912879@events.umich.edu
URL:https://events.umich.edu/event/3252
CLASS:PUBLIC
STATUS:CONFIRMED
CATEGORIES:
LOCATION:Weill Hall (Ford School) - 1120 Annenberg Auditorium
CONTACT:
END:VEVENT
BEGIN:VEVENT
DTSTAMP:20101111T175633
DTSTART;TZID=America/Detroit:20100914T170000
DTEND;TZID=America/Detroit:20100914T180000
SUMMARY:Rally / Mass Meeting:Spectrum Center Mentors
DESCRIPTION:Spectrum Center Mentors is a new program that provides Michigan students with an opportunity to engage in social change and community building. Through-out the school year\, mentors will connect with teens from Ann Arbor's Neutral Zone to build positive relationships and strengthen the LGBTQA community\, while having lots of fun!\n\nFor more information email SpectrumMentors@umich.edu.
UID:3593-911688@events.umich.edu
URL:https://events.umich.edu/event/3593
CLASS:PUBLIC
STATUS:CONFIRMED
CATEGORIES:
LOCATION:Michigan Union
CONTACT:
END:VEVENT
BEGIN:VEVENT
DTSTAMP:20100830T112920
DTSTART;TZID=America/Detroit:20100914T183000
DTEND;TZID=America/Detroit:20100914T193000
SUMMARY:Lecture / Discussion:Free Public Forum: My Aching Shoulder
DESCRIPTION:Shoulder pain can reduce quality of life for people of any age. This free public forum will provide information about prevention\, rehabilitation\, surgical options and exercises for shoulder pain.\n\nYou will hear from U-M medical expert Asheesh Bedi\, M.D.\, Department of Orthopaedic Surgery.\n\nSeating is limited. Please fill out the registration fields below to guarantee your seat at this free\, public forum. If additional seats are needed\, please register each person separately.\n\nHave questions? Call us at (734) 936-4998
UID:3377-912148@events.umich.edu
URL:https://events.umich.edu/event/3377
CLASS:PUBLIC
STATUS:CONFIRMED
CATEGORIES:
LOCATION:
CONTACT:
END:VEVENT
BEGIN:VEVENT
DTSTAMP:20101111T175650
DTSTART;TZID=America/Detroit:20100914T190000
DTEND;TZID=America/Detroit:20100914T200000
SUMMARY:Rally / Mass Meeting:Circle K Mass Meeting
DESCRIPTION:Circle K is an international community service organization and is the collegiate level of  Kiwanis. The mission of the University of Michigan Circle K is to develop leaders with a lifelong  commitment to service. This year\, our goal is to exceed 15\,000 service hours! We sponsor  various service projects with something for everyone everyday. These service projects are all  displayed on our online calendar. Anyone can sign up to do service with us\, whenever you are  free! Come learn more about Circle K at our find your circle themed mass meeting followed by  a service social. Come find your circle with Circle K!
UID:3441-912882@events.umich.edu
URL:https://events.umich.edu/event/3441
CLASS:PUBLIC
STATUS:CONFIRMED
CATEGORIES:
LOCATION:Michigan Union
CONTACT:
END:VEVENT
BEGIN:VEVENT
DTSTAMP:20101111T175605
DTSTART;TZID=America/Detroit:20100914T190000
SUMMARY:Rally / Mass Meeting:Interfraternity Council Recruitment Mass Meeting
DESCRIPTION:Students interested in joining an IFC fraternity should attend this mass meeting to learn about IFC\, the process and meet members of all the IFC chapters.
UID:281-909668@events.umich.edu
URL:https://events.umich.edu/event/281
CLASS:PUBLIC
STATUS:CONFIRMED
CATEGORIES:Welcome Week
LOCATION:Michigan Union - Ballroom
CONTACT:
END:VEVENT
BEGIN:VEVENT
DTSTAMP:20101111T175623
DTSTART;TZID=America/Detroit:20100914T190000
DTEND;TZID=America/Detroit:20100914T210000
SUMMARY:Rally / Mass Meeting:One Spirit
DESCRIPTION:Join us for the school year's first gathering of Catholic LGBTA students.  We meet  on campus bi-monthly for prayer and discussion.  All students are welcome! Questions?  Call 663-0557 or email stmarys@umich.edu.
UID:517-911033@events.umich.edu
URL:https://events.umich.edu/event/517
CLASS:PUBLIC
STATUS:CONFIRMED
CATEGORIES:spiritual,religious
LOCATION:Michigan Union
CONTACT:
END:VEVENT
BEGIN:VEVENT
DTSTAMP:20101111T175720
DTSTART;TZID=America/Detroit:20100914T190000
DTEND;TZID=America/Detroit:20100914T200000
SUMMARY:Rally / Mass Meeting:oSTEM(out in Science\, Technology\, Engineering\, and Mathematics) Mass Meeting
DESCRIPTION:oSTEM(out in Science\, Technology\, Engineering\, and Mathematics)\n\nCome meet us Tuesday\, September 14th at 7:00pm in Dow 1010.  We will have snacks and a presentation on the goals of oSTEM.  Fell free to use the Campus Information Center or e-mail oSTEM- President@umich.edu if you need directions.  Also feel free to visit us at Festifall on Wednesday\, September 8th from 11am-4pm  on the Central Campus Diag and Northfest on Tuesday September 14th from 11am- 3pm on the North Campus Diag. \n\noSTEM - Mass Meeting September 14th\, 2010. Location: DOW 1010 Time: 7:00pm - 8:00pm
UID:3485-914952@events.umich.edu
URL:https://events.umich.edu/event/3485
CLASS:PUBLIC
STATUS:CONFIRMED
CATEGORIES:
LOCATION:Herbert H. Dow  Building - 1010
CONTACT:
END:VEVENT
BEGIN:VEVENT
DTSTAMP:20100902T201924
DTSTART;TZID=America/Detroit:20100914T200000
DTEND;TZID=America/Detroit:20100914T230000
SUMMARY:Exhibition:ArtsBreak
DESCRIPTION:Come explore your creative side and make free crafts at ArtsBreak! Held every Tuesday night\, these drop-in events give you the chance to relieve some stress by making a cool\, totally free craft project. Stop by anytime between 8-11 p.m.\n\nFor the most up-to-date list of projects\, check out our website at: http://www.umich.edu/~uuap.
UID:3466-918974@events.umich.edu
URL:https://events.umich.edu/event/3466
CLASS:PUBLIC
STATUS:CONFIRMED
CATEGORIES:visual arts
LOCATION:Michigan Union - MUG (Ground Floor)
CONTACT:
END:VEVENT
BEGIN:VEVENT
DTSTAMP:20100720T192115
DTSTART;TZID=America/Detroit:20100914T200000
SUMMARY:Performance:Ramblin' Jack Elliott
DESCRIPTION:\"I've heard a lot of wonderful stories about myself\, enviable -- I wish I could've done it\,\" says Ramblin' Jack Elliott (whose nickname comes from his storytelling style). Everybody has a story about this folk legend\, and some of the stories are myths. The truth is that Ramblin' Jack has not only taught but also learned something from everyone he's ever met and made music with. Ramblin' Jack's career has crossed paths with musicians ranging from the singing cowboys he worked with after running away from home in New York\, to Woody Guthrie (much of whose music he transmitted to the world)\, to Arlo Guthrie\, Bob Dylan\, Phil Ochs\, and Tom Russell\, all of whom he mentored or directly influenced. Ramblin' Jack Elliott is a true American treasure whose recent recording work on the Anti- label has brought him a new group of fans who are two or three generations younger than he is. His latest release\, \"A Stranger Here\,\" recently won a Grammy for Best Traditional Blues Album.
UID:138-909410@events.umich.edu
URL:https://events.umich.edu/event/138
CLASS:PUBLIC
STATUS:CONFIRMED
CATEGORIES:music
LOCATION:
CONTACT:
END:VEVENT
END:VCALENDAR