BEGIN:VCALENDAR
VERSION:2.0
PRODID:-//UM//UM*Events//EN
CALSCALE:GREGORIAN
BEGIN:VTIMEZONE
TZID:America/Detroit
TZURL:http://tzurl.org/zoneinfo/America/Detroit
X-LIC-LOCATION:America/Detroit
BEGIN:DAYLIGHT
TZOFFSETFROM:-0500
TZOFFSETTO:-0400
TZNAME:EDT
DTSTART:20070311T020000
RRULE:FREQ=YEARLY;BYMONTH=3;BYDAY=2SU
END:DAYLIGHT
BEGIN:STANDARD
TZOFFSETFROM:-0400
TZOFFSETTO:-0500
TZNAME:EST
DTSTART:20071104T020000
RRULE:FREQ=YEARLY;BYMONTH=11;BYDAY=1SU
END:STANDARD
END:VTIMEZONE
BEGIN:VEVENT
DTSTAMP:20100902T204041
DTSTART;TZID=America/Detroit:20100916T070000
SUMMARY:Exhibition:Habaghdad
DESCRIPTION:Cuban national Brayan Collazzo's exhibit features photographs of the devastated buildings of Habana\, Cuba. All that remains of many are the shells of the building creating surreal spaces resmbling a war torn (Baghdad) site.
UID:3476-913582@events.umich.edu
URL:https://events.umich.edu/event/3476
CLASS:PUBLIC
STATUS:CONFIRMED
CATEGORIES:visual arts
LOCATION:Michigan Union - Art Lounge
CONTACT:
END:VEVENT
BEGIN:VEVENT
DTSTAMP:20100902T203826
DTSTART;TZID=America/Detroit:20100916T070000
DTEND;TZID=America/Detroit:20100916T020000
SUMMARY:Exhibition:How Does Eastern Market Make Detroit a \"Cool City\"?
DESCRIPTION:When the state-funded Cool Cities Initiative\, which sponsored 2 UM students' internships\, offered grant money for special projects\, Oliver and Emma collaborated on a winning grant proposal for a project called “Know Your Farmer” that incorporated each intern's work. Emma posted Oliver's photographs on Eastern Market's Facebook page\, allowing fans to vote on their favorite pictures and contribute stories they had about particular farmers. This exhibit features the top five photographs as voted by Eastern Market Corporation fans\, Oliver's descriptions of the farmers\, and a few select quotations from the fans' comments.
UID:3475-921680@events.umich.edu
URL:https://events.umich.edu/event/3475
CLASS:PUBLIC
STATUS:CONFIRMED
CATEGORIES:visual arts,literary arts
LOCATION:Michigan Union - Wall Gallery
CONTACT:
END:VEVENT
BEGIN:VEVENT
DTSTAMP:20100715T195744
DTSTART;TZID=America/Detroit:20100916T083000
DTEND;TZID=America/Detroit:20100916T190000
SUMMARY:Exhibition:Tour de France: Travel & Topography in France 1700-1900
DESCRIPTION:The Audubon Room currently displays maps\, atlases and books related to cartography\, travel\, and the geography of France\, drawing on the University of Michigan Library's extensive holdings of French materials in the Map Library.\n\nOpen during Audubon Room hours\; see http://www.lib.umich.edu/audubon-room
UID:2614-919417@events.umich.edu
URL:https://events.umich.edu/event/2614
CLASS:PUBLIC
STATUS:CONFIRMED
CATEGORIES:visual arts
LOCATION:Hatcher Graduate Library - Audubon Room
CONTACT:
END:VEVENT
BEGIN:VEVENT
DTSTAMP:20100614T131024
DTSTART;TZID=America/Detroit:20100916T100000
DTEND;TZID=America/Detroit:20100916T163000
SUMMARY:Exhibition:Fabulous Flamingos! - A Whimsical Garden Display
DESCRIPTION:The flamingos have landed – at Matthaei! On display are dozens of pink flamingo  lawn ornaments imaginatively themed and decorated by U-M Art School students\,  community members\, and Ann Arbor Public School students\; fantastic topiary  creatures such as Nessie the garden serpent and others creatively grown and  decorated by our expert horticulturists\; perennial garden favorites like whirligigs and  gnomes\; lush seasonal plantings\; and more. A must-see garden! While you're  visiting Matthaei\, be sure to vote for your favorite flamingo June 19 through July  15. Voting cards and ballot box located in the lobby at Matthaei. Best in Show  Flamingos announced on Saturday\, July 17\, 2 pm. Gardens and trails at Matthaei  are free and open 7 days a week. Display opens June 19 and continues through the  summer at Matthaei Botanical Gardens\, 1800 N. Dixboro Rd.\, Ann Arbor. For more  information visit our website: www.mbgna.umich.edu or call 734-647-7600.
UID:1664-916444@events.umich.edu
URL:https://events.umich.edu/event/1664
CLASS:PUBLIC
STATUS:CONFIRMED
CATEGORIES:
LOCATION:
CONTACT:
END:VEVENT
BEGIN:VEVENT
DTSTAMP:20100811T120018
DTSTART;TZID=America/Detroit:20100916T100000
DTEND;TZID=America/Detroit:20100916T150000
SUMMARY:Rally / Mass Meeting:Interfraternity Council Diag Day
DESCRIPTION:Students interested in joining an IFC fraternity should stop by the Diag to learn about IFC and meet members of the chapters.
UID:1617-915532@events.umich.edu
URL:https://events.umich.edu/event/1617
CLASS:PUBLIC
STATUS:CONFIRMED
CATEGORIES:greek life
LOCATION:
CONTACT:
END:VEVENT
BEGIN:VEVENT
DTSTAMP:20100817T114436
DTSTART;TZID=America/Detroit:20100916T100000
SUMMARY:Exhibition:On Beauty and the Everyday: The Prints of James McNeill Whistler
DESCRIPTION:UMMA's rare and important collection of James McNeill Whistler works on paper represents  one of the finest holdings of Whistler's graphic output in North America. This major exhibition  features more than 100 works of art from UMMA's Whistler collection\, which covers the  artist's entire career in Europe\, ranging from his student days and exposure to the vanguard  artistic movements of the 19th century to the groundbreaking and atmospheric lithographs  and etchings of his mature style. It is the first exhibition devoted to Whistler's works at  UMMA since 1994.\n\nNearly all of the Whistler works came to the Museum through the bequest of Margaret  Watson Parker\, an early collector of both Whistler's prints as well as Japanese art. The  exhibition explores Whistler's illustrious life and career\; his artistic themes and concerns\,  including portraiture and his well-known series from England\, Italy\, and France\; the interests  and legacy of early-20th-century Whistler collector Margaret Watson Parker\; and the tools  and techniques that Whistler employed as a printmaker.
UID:3291-921160@events.umich.edu
URL:https://events.umich.edu/event/3291
CLASS:PUBLIC
STATUS:CONFIRMED
CATEGORIES:visual arts
LOCATION:Museum of Art
CONTACT:
END:VEVENT
BEGIN:VEVENT
DTSTAMP:20101111T175737
DTSTART;TZID=America/Detroit:20100916T100000
SUMMARY:Exhibition:Out of the Ordinary: Selections from the Bohlen Wood Art and Fusfeld Folk Art Collections
DESCRIPTION:This exhibition\, which runs from September 11 through Spring of 2011\, allows visitors to  explore two extraordinary collections of art–the Robert M. and Lillian Montalto Bohlen  Collection of Wood Art and the Daniel and Harriet Fusfeld Folk Art Collection. The Bohlen  collection presents an astonishing range of contemporary artworks fashioned from wood and  includes works that explores traditional and non-traditional vessel forms as well as works that  are more purely sculptural. The outstanding objects that make up the Fusfeld collection are both  geographically and historically wide-ranging\, including work by early nineteenth-century  itinerant folk portraitists as well as late twentieth-century sculpture and painting by “outsider”  artists from the American South\, Midwest\, and Northeast.
UID:3293-916088@events.umich.edu
URL:https://events.umich.edu/event/3293
CLASS:PUBLIC
STATUS:CONFIRMED
CATEGORIES:visual arts
LOCATION:Museum of Art
CONTACT:
END:VEVENT
BEGIN:VEVENT
DTSTAMP:20101111T175654
DTSTART;TZID=America/Detroit:20100916T100000
SUMMARY:Exhibition:UMMA Projects: Jakob Kolding
DESCRIPTION:UMMA is pleased to present the first solo exhibition in a North American museum of Berlin- based artist Jakob Kolding. Kolding's work revolves around the experience of life in the  contemporary built environment\, particularly the relationships and contradictions that emerge  between how architectural spaces are planned and how they are actively used. His collages\,  drawings\, posters\, and mixed-media sculptures incorporate a wide range of source material\,  sampling and mixing the visual idiom of modernist art and architecture\, the language of  sociological inquiry\, and such popular cultural forms as hip-hop and electronic music\,  skateboarding\, and soccer. Kolding's dynamic compositions encourage us to actively question  the relationship between space and behavior\, and to imagine forms of self-expression that  use the built environment in creative new ways.
UID:3292-913238@events.umich.edu
URL:https://events.umich.edu/event/3292
CLASS:PUBLIC
STATUS:CONFIRMED
CATEGORIES:visual arts
LOCATION:Museum of Art
CONTACT:
END:VEVENT
BEGIN:VEVENT
DTSTAMP:20100827T221008
DTSTART;TZID=America/Detroit:20100916T120000
DTEND;TZID=America/Detroit:20100916T130000
SUMMARY:Lecture / Discussion:Turkic-Karaite Biblical Translations
DESCRIPTION:Lecturer: Dan Shapira\, Bar-Ilan University
UID:3426-919455@events.umich.edu
URL:https://events.umich.edu/event/3426
CLASS:PUBLIC
STATUS:CONFIRMED
CATEGORIES:
LOCATION:Alumni Center - A &amp; B
CONTACT:
END:VEVENT
BEGIN:VEVENT
DTSTAMP:20101111T175839
DTSTART;TZID=America/Detroit:20100916T160000
DTEND;TZID=America/Detroit:20100916T173000
SUMMARY:Lecture / Discussion:Conversations on Europe
DESCRIPTION:Harris Mylonas\, assistant professor of political science and international affairs\,  Elliott School of International Affairs\, George Washington University.
UID:3325-920282@events.umich.edu
URL:https://events.umich.edu/event/3325
CLASS:PUBLIC
STATUS:CONFIRMED
CATEGORIES:
LOCATION:School of Social Work Building - 1636
CONTACT:
END:VEVENT
BEGIN:VEVENT
DTSTAMP:20100910T140454
DTSTART;TZID=America/Detroit:20100916T160000
DTEND;TZID=America/Detroit:20100916T170000
SUMMARY:Workshop / Seminar:EEB Thursday Seminar Series
DESCRIPTION:Abstract: Meiotic recombination has long been recognized as a driving force of evolution.   However\, little is known about the evolution of meiosis.  To fill this gap\, we take a  variety of approaches to investigate how meiotic processes evolve in plants.  Among  others\, we cloned the ameiotic 1 gene in maize\, which is responsible for the switch  from mitotic cell division to meiosis in maize\, and found that the mechanism of  meiosis initiation differs not only between fungi\, mammals\, and plants but also  between monocot and dicot plants.  We also studied sequence variation in several  meiotic recombination genes in maize and its wild ancestor teosinte and discovered  that a large fraction of these genes were targets of positive selection during maize  domestication and subsequent breeding.  These results suggest that even though  meiosis is an ancient and conserved process some meiotic genes show rapid  evolution.
UID:3584-909062@events.umich.edu
URL:https://events.umich.edu/event/3584
CLASS:PUBLIC
STATUS:CONFIRMED
CATEGORIES:
LOCATION:Chemistry Dow Lab - 1210
CONTACT:
END:VEVENT
BEGIN:VEVENT
DTSTAMP:20100915T182303
DTSTART;TZID=America/Detroit:20100916T163000
DTEND;TZID=America/Detroit:20100916T180000
SUMMARY:Meeting:GEO Queer Caucus meeting
DESCRIPTION:Come check out the Graduate Employee Organization (GEO) Queer Caucus at 4:30 PM on Thurs  9/16 in the GEO office (330 E. Liberty\, Suite 3F). After at around five years on hiatus\, the GEO  Queer Caucus is back in action! At the meeting we'll be: *Planning a canvasing trip with the MI-LGBT Democratic Caucus *Discussing potential LGBTQ issues for the upcoming GSI contract campaign *Working through our plan for the term and discussing Caucus leadership
UID:3695-916515@events.umich.edu
URL:https://events.umich.edu/event/3695
CLASS:PUBLIC
STATUS:CONFIRMED
CATEGORIES:
LOCATION:
CONTACT:
END:VEVENT
BEGIN:VEVENT
DTSTAMP:20100708T200145
DTSTART;TZID=America/Detroit:20100916T170000
DTEND;TZID=America/Detroit:20100916T183000
SUMMARY:Lecture / Discussion:Penny Stamps Presents: Mihalyi & Christopher Csikszentmihalyi
DESCRIPTION:Mihalyi CsikszentmihÃ¡lyi\, a professor of psychology at Claremont Graduate University\, is noted for his work in the study of happiness and creativity\, but is best known as the architect of the notion of flow and for his years of research and writing on the topic. He is the author of many books and over 120 articles or book chapters. Martin Seligman\, former president of the American Psychological Association\, described Csikszentmihalyi as the world's leading researcher on positive psychology.\n\nChristopher CsikszentmihÃ¡lyi directs the MIT Media Lab's Computing Culture group\, which works to create unique media technologies for cultural applications. He also directs the MIT Center for Future Civic Media\, which develops new technologies and techniques to strengthen geographic communities.
UID:2722-921064@events.umich.edu
URL:https://events.umich.edu/event/2722
CLASS:PUBLIC
STATUS:CONFIRMED
CATEGORIES:welcome week,visual arts,literary arts
LOCATION:
CONTACT:
END:VEVENT
BEGIN:VEVENT
DTSTAMP:20100908T112436
DTSTART;TZID=America/Detroit:20100916T180000
DTEND;TZID=America/Detroit:20100916T193000
SUMMARY:Meeting:LGBT Student Organization Roundtable
DESCRIPTION:LGBT Student Organization Roundtable was kicked off last fall in order to bring  cohesiveness to the more than 20 LGBTQ-related undergraduate and graduate  student organizations planning programs across campus throughout the year. This  group is facilitated by a Spectrum Center staff member and meets on the third  Thursday of each month in the Spectrum Center.  If your student organization is interested in networking\, collaborating\, and being a  part of a wider movement of LGBTQ student organizations\, please email Ariana  Bostian-Kentes at abostian@umich.edu to be added to the listserv.
UID:3488-916534@events.umich.edu
URL:https://events.umich.edu/event/3488
CLASS:PUBLIC
STATUS:CONFIRMED
CATEGORIES:
LOCATION:Michigan Union - 3200
CONTACT:
END:VEVENT
BEGIN:VEVENT
DTSTAMP:20100730T124410
DTSTART;TZID=America/Detroit:20100916T183000
DTEND;TZID=America/Detroit:20100916T210000
SUMMARY:Workshop / Seminar:FREE Backpacking 101 Clinic
DESCRIPTION:Here at Outdoor Adventures we are committed to helping people get outside – and also to teaching the necessary skills to do so safely and comfortably. We know that getting outside isn't always cheap\, so we are trying to do our part to help out by offering this free clinic on backpacking basics. We want to you be comfortable\, happy\, and looking the part in the great outdoors -- and now you can do it with some extra money left in your pocket. This clinic will teach you the basic fundamentals to make any backpacking trip enjoyable\; we will focus on how to dress yourself for outdoor success\, what equipment to bring\, how it works\, and how to properly fit your pack.
UID:3072-909308@events.umich.edu
URL:https://events.umich.edu/event/3072
CLASS:PUBLIC
STATUS:CONFIRMED
CATEGORIES:Welcome Week
LOCATION:Elbel Field Locker Building - Outdoor Adventures Rental Center 
CONTACT:
END:VEVENT
BEGIN:VEVENT
DTSTAMP:20101111T175814
DTSTART;TZID=America/Detroit:20100916T190000
DTEND;TZID=America/Detroit:20100916T200000
SUMMARY:Rally / Mass Meeting:Musvot
DESCRIPTION:Join Musvot (formerly Jewsic) for a mass meeting on Thursday\, September 16 at 7:00pm at Hillel.
UID:3673-918940@events.umich.edu
URL:https://events.umich.edu/event/3673
CLASS:PUBLIC
STATUS:CONFIRMED
CATEGORIES:
LOCATION:Hillel (Mandell L Berman Center)
CONTACT:
END:VEVENT
BEGIN:VEVENT
DTSTAMP:20101111T175840
DTSTART;TZID=America/Detroit:20100916T190000
SUMMARY:Exhibition:Starshine & Clay
DESCRIPTION:Rachel Eliza Griffiths is a poet\, writer\, painter\, and photographer.  She received the  MFA in Creative Writing from Sarah Lawrence College and the MA in English  Literature from the University of Delaware.  A 2007 Pushcart Nominee\, she is the  recipient of fellowships from Provincetown Fine Arts Work Center\, Vermont Studio  Center\, Napa Valley Writers Conference\, New York State Summer Writers Institute\,  Soul Mountain\, and others.  Her work has appeared in Callaloo\, Crab Orchard  Review\, Indiana Review\, Comstock Review\, Brilliant Corners\, Mosaic\, Puerto Del Sol\,  Torch\, Lumina\, PMS: poem memoir story\, and many others.  She lives in New York.\n\nSamiya Bashir is the author of Gospel\, a 2009 Lambda Literary Award finalist\, and  Where the Apple Falls\, a Poetry Foundation bestseller and finalist for the 2005  Lambda Literary Award. She is also editor of Black Women's Erotica 2 and co-editor\,  with Tony Medina and Quraysh Ali Lansana\, of Role Call: A Generational Anthology  of Social & Political Black Literature & Art. Her poetry\, stories\, articles\, essays and  editorial work have been featured in numerous publications including: Ms.  Magazine\, Essence\, Curve\, ColorLines\, Callaloo\, Obsidian III\, Poetry for the People:  A Revolutionary Blueprint\, and more. Bashir has been honored with awards\,  fellowships\, grants\, and residencies from a variety of organizations\, is an alumni  fellow with Cave Canem and a founding organizer of Fire & Ink\, a writer's festival for  LGBT writers of African descent.\n\nfrancine j. harris has work appearing in McSweeney's \"Poets Picking Poets\"\, Ninth  Letter\, Ploughshares\, Indiana Review\, and in the anthology from the AIDS Project of  Los Angeles: to be left with the body. She has participated in the Callaloo workshop  and was nominated for a 2010 Pushcart Prize. Originally from Detroit\, she is  pursuing an MFA in Poetry at the University of Michigan.
UID:3331-920306@events.umich.edu
URL:https://events.umich.edu/event/3331
CLASS:PUBLIC
STATUS:CONFIRMED
CATEGORIES:social justice,multicultural,literary arts
LOCATION:Work Gallery 306 South State Street
CONTACT:
END:VEVENT
BEGIN:VEVENT
DTSTAMP:20101111T175714
DTSTART;TZID=America/Detroit:20100916T200000
SUMMARY:Performance:Third Thursdays
DESCRIPTION:This exciting performance series falls on the third Thursday of each month and features different student performers who work in a variety of media including music\, comedy\, dance\,  and spoken word. A great way to spend an evening with your friends and to experience the  exceptional talent of UM students in an intimate setting. This series is curated and produced  by UMMA's Student Programming and Advisory Board. Students interested in performing may  view application details at www.umma.umich.edu/for-students/\n\nCelebrate the first event of the series as we reprise this outstanding and provocative dance  performance\, which premiered exclusively at UMMA in June. Click Flash Cut is an evening of  dance\, video\, and music inspired by mass media. Choreographed by UM dance majors Tara  Sheena\, Emily Wanserski\, and Sadie Yarrington\, the performance explores ideas of celebrity  and art through the lens of everyday media\, like tabloids and the World Wide Web.
UID:3301-914600@events.umich.edu
URL:https://events.umich.edu/event/3301
CLASS:PUBLIC
STATUS:CONFIRMED
CATEGORIES:music,dance
LOCATION:Museum of Art - Helmut Stern Auditorium
CONTACT:
END:VEVENT
BEGIN:VEVENT
DTSTAMP:20101111T175656
DTSTART;TZID=America/Detroit:20100916T200000
SUMMARY:Performance:Toad the Wet Sprocket
DESCRIPTION:
UID:907-913367@events.umich.edu
URL:https://events.umich.edu/event/907
CLASS:PUBLIC
STATUS:CONFIRMED
CATEGORIES:music
LOCATION:
CONTACT:
END:VEVENT
END:VCALENDAR