BEGIN:VCALENDAR
VERSION:2.0
PRODID:-//UM//UM*Events//EN
CALSCALE:GREGORIAN
BEGIN:VTIMEZONE
TZID:America/Detroit
TZURL:http://tzurl.org/zoneinfo/America/Detroit
X-LIC-LOCATION:America/Detroit
BEGIN:DAYLIGHT
TZOFFSETFROM:-0500
TZOFFSETTO:-0400
TZNAME:EDT
DTSTART:20070311T020000
RRULE:FREQ=YEARLY;BYMONTH=3;BYDAY=2SU
END:DAYLIGHT
BEGIN:STANDARD
TZOFFSETFROM:-0400
TZOFFSETTO:-0500
TZNAME:EST
DTSTART:20071104T020000
RRULE:FREQ=YEARLY;BYMONTH=11;BYDAY=1SU
END:STANDARD
END:VTIMEZONE
BEGIN:VEVENT
DTSTAMP:20101111T175619
DTSTART;TZID=America/Detroit:20100929T000000
SUMMARY:Auditions:Submit to As I See It Photo Competition
DESCRIPTION:Arts At Michigan and University Unions Arts & Programs are seeking student photographs for the October 2010 “As I  See It” Photo Competition!  In honor of the 50th Anniversary of the Peace Corps this month\, the theme for this round  of competition will be “Peace”\, and all photos should relate to that theme\, either literally or symbolically. \n\nSubmissions will be reviewed by Arts At Michigan and UUAP staff\,  and finalists will be displayed for public jurying in  October 2010\, both in the Unions and via online voting.  The student who submitted the photo that receives the most  votes will be awarded an exciting prize package that includes $200\, plus gift cards for UMMA\, The Michigan Theatre\,  The Performance Network and Borders!  First and Second Runners Up will also receive great prizes.\n\nSubmission deadline is noon on October 8th!
UID:3787-910492@events.umich.edu
URL:https://events.umich.edu/event/3787
CLASS:PUBLIC
STATUS:CONFIRMED
CATEGORIES:visual arts
LOCATION:Michigan Union
CONTACT:
END:VEVENT
BEGIN:VEVENT
DTSTAMP:20100902T204041
DTSTART;TZID=America/Detroit:20100929T070000
SUMMARY:Exhibition:Habaghdad
DESCRIPTION:Cuban national Brayan Collazzo's exhibit features photographs of the devastated buildings of Habana\, Cuba. All that remains of many are the shells of the building creating surreal spaces resmbling a war torn (Baghdad) site.
UID:3476-913595@events.umich.edu
URL:https://events.umich.edu/event/3476
CLASS:PUBLIC
STATUS:CONFIRMED
CATEGORIES:visual arts
LOCATION:Michigan Union - Art Lounge
CONTACT:
END:VEVENT
BEGIN:VEVENT
DTSTAMP:20100902T203826
DTSTART;TZID=America/Detroit:20100929T070000
DTEND;TZID=America/Detroit:20100929T020000
SUMMARY:Exhibition:How Does Eastern Market Make Detroit a \"Cool City\"?
DESCRIPTION:When the state-funded Cool Cities Initiative\, which sponsored 2 UM students' internships\, offered grant money for special projects\, Oliver and Emma collaborated on a winning grant proposal for a project called “Know Your Farmer” that incorporated each intern's work. Emma posted Oliver's photographs on Eastern Market's Facebook page\, allowing fans to vote on their favorite pictures and contribute stories they had about particular farmers. This exhibit features the top five photographs as voted by Eastern Market Corporation fans\, Oliver's descriptions of the farmers\, and a few select quotations from the fans' comments.
UID:3475-921693@events.umich.edu
URL:https://events.umich.edu/event/3475
CLASS:PUBLIC
STATUS:CONFIRMED
CATEGORIES:visual arts,literary arts
LOCATION:Michigan Union - Wall Gallery
CONTACT:
END:VEVENT
BEGIN:VEVENT
DTSTAMP:20100909T114609
DTSTART;TZID=America/Detroit:20100929T083000
DTEND;TZID=America/Detroit:20100929T190000
SUMMARY:Exhibition:From Trace to Text: Highlights from the U-M Papyrus Collection
DESCRIPTION:This exhibit provides a behind-the-scenes look at the work of papyrologists: how they conserve scraps of often badly damaged papyri\, decipher traces of ink\, read and translate the resulting text\, edit and interpret its contents\, and make this available to both scholars and the general public. Modern technology\, such as digitization and multi-spectral imaging\, is aiding papyrologists in all of these efforts.\n\nTexts on display are some of the highlights of the collection. They include a wonderful drawing of an elephant\, a letter from a newly enlisted soldier to his mother\, and\, of course\, some pages of the oldest manuscript with letters of St. Paul (one of the most famous texts of the collection).\n\nIn its 90-year history\, the University of Michigan Papyrus Collection has trained more students and scholars in the field of papyrology than any other institution in North America. Founded by the visionary Francis W. Kelsey\, the Papyrus Collection has been the training ground for papyrologists from around the world and home to many great resident scholars\, such as Herbert and Louise Youtie\, Ludwig Koenen\, and Traianos Gagos\, who died on April 26\, 2010.\n\nPapyrology is the field of scholarship that deciphers and studies the texts written –primarily on papyrus– by people living in the ancient Mediterranean world between 2\,500 BCE and 1\,000 CE. Most of these texts are found in Egypt where the climate is dry enough to preserve this fragile material. It is a highly specialized and technical field\, requiring intensive training in language (Egyptian\, ancient Greek\, Latin\, Arabic)\, history\, and the unique set of skills necessary for reading original documents.\n\nThe exhibit is open during Audubon Room hours: Sun 1-7pm\, Mon-Fri 8:30-7pm\, Sat 10am-6pm.\n\nThis Exhibit is in Honor of Traianos Gagos (1960-2010).
UID:3497-917725@events.umich.edu
URL:https://events.umich.edu/event/3497
CLASS:PUBLIC
STATUS:CONFIRMED
CATEGORIES:
LOCATION:Hatcher Graduate Library - Audubon Room
CONTACT:
END:VEVENT
BEGIN:VEVENT
DTSTAMP:20100902T202613
DTSTART;TZID=America/Detroit:20100929T090000
DTEND;TZID=America/Detroit:20100929T170000
SUMMARY:Exhibition:Lecture on the Weather
DESCRIPTION:This multi-media stage work by John Cage\, based on the texts of Henry David Thoreau\, brings together speech\, music\, film\, lighting\, and a weather soundscape to form a softly political piece as relevant today as the year it was written. \n\nCage (1912-1992) was well known as an experimental composer\, philosopher\, writer\, and visual artist. A protean figure of the postwar avant-garde\, Cage collaborated with Merce Cunningham and visual artists including Joseph Beuys\, Robert Rauschenberg\, and Nam June Paik.\n\nExhibit celebration is Nov. 3\, 5-7pm\, in the gallery.
UID:3471-916184@events.umich.edu
URL:https://events.umich.edu/event/3471
CLASS:PUBLIC
STATUS:CONFIRMED
CATEGORIES:music,visual arts,social justice,film
LOCATION:202 S. Thayer - Gallery
CONTACT:
END:VEVENT
BEGIN:VEVENT
DTSTAMP:20100614T131024
DTSTART;TZID=America/Detroit:20100929T100000
DTEND;TZID=America/Detroit:20100929T163000
SUMMARY:Exhibition:Fabulous Flamingos! - A Whimsical Garden Display
DESCRIPTION:The flamingos have landed – at Matthaei! On display are dozens of pink flamingo  lawn ornaments imaginatively themed and decorated by U-M Art School students\,  community members\, and Ann Arbor Public School students\; fantastic topiary  creatures such as Nessie the garden serpent and others creatively grown and  decorated by our expert horticulturists\; perennial garden favorites like whirligigs and  gnomes\; lush seasonal plantings\; and more. A must-see garden! While you're  visiting Matthaei\, be sure to vote for your favorite flamingo June 19 through July  15. Voting cards and ballot box located in the lobby at Matthaei. Best in Show  Flamingos announced on Saturday\, July 17\, 2 pm. Gardens and trails at Matthaei  are free and open 7 days a week. Display opens June 19 and continues through the  summer at Matthaei Botanical Gardens\, 1800 N. Dixboro Rd.\, Ann Arbor. For more  information visit our website: www.mbgna.umich.edu or call 734-647-7600.
UID:1664-916457@events.umich.edu
URL:https://events.umich.edu/event/1664
CLASS:PUBLIC
STATUS:CONFIRMED
CATEGORIES:
LOCATION:
CONTACT:
END:VEVENT
BEGIN:VEVENT
DTSTAMP:20100817T114436
DTSTART;TZID=America/Detroit:20100929T100000
SUMMARY:Exhibition:On Beauty and the Everyday: The Prints of James McNeill Whistler
DESCRIPTION:UMMA's rare and important collection of James McNeill Whistler works on paper represents  one of the finest holdings of Whistler's graphic output in North America. This major exhibition  features more than 100 works of art from UMMA's Whistler collection\, which covers the  artist's entire career in Europe\, ranging from his student days and exposure to the vanguard  artistic movements of the 19th century to the groundbreaking and atmospheric lithographs  and etchings of his mature style. It is the first exhibition devoted to Whistler's works at  UMMA since 1994.\n\nNearly all of the Whistler works came to the Museum through the bequest of Margaret  Watson Parker\, an early collector of both Whistler's prints as well as Japanese art. The  exhibition explores Whistler's illustrious life and career\; his artistic themes and concerns\,  including portraiture and his well-known series from England\, Italy\, and France\; the interests  and legacy of early-20th-century Whistler collector Margaret Watson Parker\; and the tools  and techniques that Whistler employed as a printmaker.
UID:3291-921171@events.umich.edu
URL:https://events.umich.edu/event/3291
CLASS:PUBLIC
STATUS:CONFIRMED
CATEGORIES:visual arts
LOCATION:Museum of Art
CONTACT:
END:VEVENT
BEGIN:VEVENT
DTSTAMP:20101111T175737
DTSTART;TZID=America/Detroit:20100929T100000
SUMMARY:Exhibition:Out of the Ordinary: Selections from the Bohlen Wood Art and Fusfeld Folk Art Collections
DESCRIPTION:This exhibition\, which runs from September 11 through Spring of 2011\, allows visitors to  explore two extraordinary collections of art–the Robert M. and Lillian Montalto Bohlen  Collection of Wood Art and the Daniel and Harriet Fusfeld Folk Art Collection. The Bohlen  collection presents an astonishing range of contemporary artworks fashioned from wood and  includes works that explores traditional and non-traditional vessel forms as well as works that  are more purely sculptural. The outstanding objects that make up the Fusfeld collection are both  geographically and historically wide-ranging\, including work by early nineteenth-century  itinerant folk portraitists as well as late twentieth-century sculpture and painting by “outsider”  artists from the American South\, Midwest\, and Northeast.
UID:3293-916099@events.umich.edu
URL:https://events.umich.edu/event/3293
CLASS:PUBLIC
STATUS:CONFIRMED
CATEGORIES:visual arts
LOCATION:Museum of Art
CONTACT:
END:VEVENT
BEGIN:VEVENT
DTSTAMP:20101111T175654
DTSTART;TZID=America/Detroit:20100929T100000
SUMMARY:Exhibition:UMMA Projects: Jakob Kolding
DESCRIPTION:UMMA is pleased to present the first solo exhibition in a North American museum of Berlin- based artist Jakob Kolding. Kolding's work revolves around the experience of life in the  contemporary built environment\, particularly the relationships and contradictions that emerge  between how architectural spaces are planned and how they are actively used. His collages\,  drawings\, posters\, and mixed-media sculptures incorporate a wide range of source material\,  sampling and mixing the visual idiom of modernist art and architecture\, the language of  sociological inquiry\, and such popular cultural forms as hip-hop and electronic music\,  skateboarding\, and soccer. Kolding's dynamic compositions encourage us to actively question  the relationship between space and behavior\, and to imagine forms of self-expression that  use the built environment in creative new ways.
UID:3292-913249@events.umich.edu
URL:https://events.umich.edu/event/3292
CLASS:PUBLIC
STATUS:CONFIRMED
CATEGORIES:visual arts
LOCATION:Museum of Art
CONTACT:
END:VEVENT
BEGIN:VEVENT
DTSTAMP:20100820T183746
DTSTART;TZID=America/Detroit:20100929T140000
DTEND;TZID=America/Detroit:20100929T180000
SUMMARY:Fair / Festival:The Career Center's and MESA's Fall Career Expo 2010
DESCRIPTION:Fall Career Expo 2010 is a great way to kick-off your job and internship search efforts! Typically\, 90-95 organizations and over 1000 students participate in the Fair. Use the Fall Career Expo to:\n\n* Connect with organizations conducting on-campus interviews\n\n* Meet with employers to discuss full-time positions\n\n* Learn about internship opportunities\n\n* Build networks to expand your job search efforts
UID:282-910239@events.umich.edu
URL:https://events.umich.edu/event/282
CLASS:PUBLIC
STATUS:CONFIRMED
CATEGORIES:
LOCATION:Michigan Union
CONTACT:
END:VEVENT
BEGIN:VEVENT
DTSTAMP:20100927T084838
DTSTART;TZID=America/Detroit:20100929T160000
DTEND;TZID=America/Detroit:20100929T173000
SUMMARY:Lecture / Discussion:Challenges of Managing Conflict in Today's World
DESCRIPTION:Ambassador Solomon's lecture will draw extensively from his new book\, American Negotiating Behavior\, and discuss the challenges of transforming diplomacy to meet the needs of the 21st Century.
UID:3253-917457@events.umich.edu
URL:https://events.umich.edu/event/3253
CLASS:PUBLIC
STATUS:CONFIRMED
CATEGORIES:social justice
LOCATION:Weill Hall (Ford School) - 1120, Annenberg Auditorium
CONTACT:
END:VEVENT
BEGIN:VEVENT
DTSTAMP:20101111T175803
DTSTART;TZID=America/Detroit:20100929T160000
SUMMARY:Workshop / Seminar:On Beauty and the Everyday
DESCRIPTION:Area teachers will take a private tour of On the Beauty of the Everyday: The Prints of James  McNeill Whistler with exhibition curator Carole McNamara\, experience a hands-on activity\, and  receive teaching materials. A light snack will be provided to kick-off the evening. Registration  required. Email Pam Reister at preister@umich.edu or Jann Wesolek at jannwes@umich.edu for  more information.
UID:3322-918007@events.umich.edu
URL:https://events.umich.edu/event/3322
CLASS:PUBLIC
STATUS:CONFIRMED
CATEGORIES:visual arts
LOCATION:Museum of Art - Galleries and Multipurpose Room
CONTACT:
END:VEVENT
BEGIN:VEVENT
DTSTAMP:20100708T195921
DTSTART;TZID=America/Detroit:20100929T173000
DTEND;TZID=America/Detroit:20100929T190000
SUMMARY:Workshop / Seminar:Restoring Balance: Tools for Stress Management
DESCRIPTION:Examine sources of stress\, the effects of stress on body\, mind\, and behavior\, and introduce mind training anchor practices that bring a sense of well-being\, insight\, and a positive attitude.  These practices include meditation\, imagery\, reframing\, EFT\, breathing\, mindfulness\, and writing exercises.  A supportive group atmosphere makes this a relaxing and insightful experience.  \n\nSandra Finkel\,  MPH \n\nSep 15 - Oct 20\, 2010 Wednesdays\, 5:30 - 7:00 pm
UID:547-911787@events.umich.edu
URL:https://events.umich.edu/event/547
CLASS:PUBLIC
STATUS:CONFIRMED
CATEGORIES:
LOCATION:
CONTACT:
END:VEVENT
BEGIN:VEVENT
DTSTAMP:20100901T185045
DTSTART;TZID=America/Detroit:20100929T190000
DTEND;TZID=America/Detroit:20100929T203000
SUMMARY:Lecture / Discussion:Politics and Governance in Michigan:  Ford School Seminars on the 2010 Elections
DESCRIPTION:Panelists: John Bebow\, the Center for Michigan\; Michael Van Beek\, Mackinac Center for Public Policy\; Lynn Jondahl\, Michigan Prospect
UID:3462-910417@events.umich.edu
URL:https://events.umich.edu/event/3462
CLASS:PUBLIC
STATUS:CONFIRMED
CATEGORIES:
LOCATION:Weill Hall (Ford School) - Annenberg Auditorium 1120
CONTACT:
END:VEVENT
BEGIN:VEVENT
DTSTAMP:20100720T192851
DTSTART;TZID=America/Detroit:20100929T200000
SUMMARY:Performance:John Primer
DESCRIPTION:John Primer followed the great blues highway and moved to Chicago from his hometown of Camden\, Mississippi in 1963. Within a year he was rocking such West Side clubs as The Place\, The Bow Tie\, and Lover's Lounge. Over the years he was a member of the house band at the South Side's legendary Theresa's club\, of Willie Dixon's Chicago All-Stars\, and\, until 1995\, of Magic Slim & the Teardrops. That year he released his Atlantic Records debut\, \"The Real Deal\,\" and his nine albums since then have been classics of traditionalist blues phrasing and lightning-fast slide guitar. A master storyteller and songwriter\, he has an endless repertoire and a sound that's at once very familiar and pretty hard to find these days. John is the real deal in Chicago blues!
UID:593-912149@events.umich.edu
URL:https://events.umich.edu/event/593
CLASS:PUBLIC
STATUS:CONFIRMED
CATEGORIES:music
LOCATION:
CONTACT:
END:VEVENT
END:VCALENDAR