BEGIN:VCALENDAR
VERSION:2.0
PRODID:-//UM//UM*Events//EN
CALSCALE:GREGORIAN
BEGIN:VTIMEZONE
TZID:America/Detroit
TZURL:http://tzurl.org/zoneinfo/America/Detroit
X-LIC-LOCATION:America/Detroit
BEGIN:DAYLIGHT
TZOFFSETFROM:-0500
TZOFFSETTO:-0400
TZNAME:EDT
DTSTART:20070311T020000
RRULE:FREQ=YEARLY;BYMONTH=3;BYDAY=2SU
END:DAYLIGHT
BEGIN:STANDARD
TZOFFSETFROM:-0400
TZOFFSETTO:-0500
TZNAME:EST
DTSTART:20071104T020000
RRULE:FREQ=YEARLY;BYMONTH=11;BYDAY=1SU
END:STANDARD
END:VTIMEZONE
BEGIN:VEVENT
DTSTAMP:20101111T175619
DTSTART;TZID=America/Detroit:20101002T000000
SUMMARY:Auditions:Submit to As I See It Photo Competition
DESCRIPTION:Arts At Michigan and University Unions Arts & Programs are seeking student photographs for the October 2010 “As I  See It” Photo Competition!  In honor of the 50th Anniversary of the Peace Corps this month\, the theme for this round  of competition will be “Peace”\, and all photos should relate to that theme\, either literally or symbolically. \n\nSubmissions will be reviewed by Arts At Michigan and UUAP staff\,  and finalists will be displayed for public jurying in  October 2010\, both in the Unions and via online voting.  The student who submitted the photo that receives the most  votes will be awarded an exciting prize package that includes $200\, plus gift cards for UMMA\, The Michigan Theatre\,  The Performance Network and Borders!  First and Second Runners Up will also receive great prizes.\n\nSubmission deadline is noon on October 8th!
UID:3787-910495@events.umich.edu
URL:https://events.umich.edu/event/3787
CLASS:PUBLIC
STATUS:CONFIRMED
CATEGORIES:visual arts
LOCATION:Michigan Union
CONTACT:
END:VEVENT
BEGIN:VEVENT
DTSTAMP:20101111T175607
DTSTART;TZID=America/Detroit:20101002T000000
SUMMARY:Exhibition:U-M and the Peace Corps: It All Started Here
DESCRIPTION:This dynamic exhibit showcases the unique role of University of Michigan students and faculty in the creation and popularizing of the Peace Corps. As Sargent Shriver said\, \"It might still be just an idea but for”¦those Michigan students and faculty.\" The exhibit highlights the development of student activism as well as important historical events.\n\nNormal Library Hours: http://www.lib.umich.edu/hours/list.php?singlebuilding=4
UID:3498-909724@events.umich.edu
URL:https://events.umich.edu/event/3498
CLASS:PUBLIC
STATUS:CONFIRMED
CATEGORIES:
LOCATION:Hatcher Graduate Library - Library Gallery (Room 100)
CONTACT:
END:VEVENT
BEGIN:VEVENT
DTSTAMP:20100909T114609
DTSTART;TZID=America/Detroit:20101002T083000
DTEND;TZID=America/Detroit:20101002T190000
SUMMARY:Exhibition:From Trace to Text: Highlights from the U-M Papyrus Collection
DESCRIPTION:This exhibit provides a behind-the-scenes look at the work of papyrologists: how they conserve scraps of often badly damaged papyri\, decipher traces of ink\, read and translate the resulting text\, edit and interpret its contents\, and make this available to both scholars and the general public. Modern technology\, such as digitization and multi-spectral imaging\, is aiding papyrologists in all of these efforts.\n\nTexts on display are some of the highlights of the collection. They include a wonderful drawing of an elephant\, a letter from a newly enlisted soldier to his mother\, and\, of course\, some pages of the oldest manuscript with letters of St. Paul (one of the most famous texts of the collection).\n\nIn its 90-year history\, the University of Michigan Papyrus Collection has trained more students and scholars in the field of papyrology than any other institution in North America. Founded by the visionary Francis W. Kelsey\, the Papyrus Collection has been the training ground for papyrologists from around the world and home to many great resident scholars\, such as Herbert and Louise Youtie\, Ludwig Koenen\, and Traianos Gagos\, who died on April 26\, 2010.\n\nPapyrology is the field of scholarship that deciphers and studies the texts written –primarily on papyrus– by people living in the ancient Mediterranean world between 2\,500 BCE and 1\,000 CE. Most of these texts are found in Egypt where the climate is dry enough to preserve this fragile material. It is a highly specialized and technical field\, requiring intensive training in language (Egyptian\, ancient Greek\, Latin\, Arabic)\, history\, and the unique set of skills necessary for reading original documents.\n\nThe exhibit is open during Audubon Room hours: Sun 1-7pm\, Mon-Fri 8:30-7pm\, Sat 10am-6pm.\n\nThis Exhibit is in Honor of Traianos Gagos (1960-2010).
UID:3497-917728@events.umich.edu
URL:https://events.umich.edu/event/3497
CLASS:PUBLIC
STATUS:CONFIRMED
CATEGORIES:
LOCATION:Hatcher Graduate Library - Audubon Room
CONTACT:
END:VEVENT
BEGIN:VEVENT
DTSTAMP:20101111T175727
DTSTART;TZID=America/Detroit:20101002T100000
DTEND;TZID=America/Detroit:20101002T203000
SUMMARY:Other:Art Outta Town Trip to ArtPrize in Grand Rapids
DESCRIPTION:Want to get out of town? \n\nSign up for Arts At Michigan's \"Art Outta Town\" trip to Artsprize in Grand Rapids\, leaving on Saturday\, October 2nd  2010 at 10am!\n\nAbout the Trip: This Art Outta Town trip includes your transportation to the free event and a sack lunch for just $10!  This trip is open to all current U of M students\, but seating is limited\, so register today! About Art Prize: It's a radically open art competition\, giving away the world's largest art prize! Part arts festival\, part  social experiment – this international art contest is decided solely on a public vote. Over 1700 artists have installed  their work in venues city-wide\, hoping to get your vote. They'll be narrowed down to 10 finalists\, and it's your job to  pick the $250\,000 winner! Spend the day looking at art all over the city and mingling with other voters. Then cast your  vote!
UID:3788-915416@events.umich.edu
URL:https://events.umich.edu/event/3788
CLASS:PUBLIC
STATUS:CONFIRMED
CATEGORIES:visual arts
LOCATION:
CONTACT:
END:VEVENT
BEGIN:VEVENT
DTSTAMP:20100817T114436
DTSTART;TZID=America/Detroit:20101002T100000
SUMMARY:Exhibition:On Beauty and the Everyday: The Prints of James McNeill Whistler
DESCRIPTION:UMMA's rare and important collection of James McNeill Whistler works on paper represents  one of the finest holdings of Whistler's graphic output in North America. This major exhibition  features more than 100 works of art from UMMA's Whistler collection\, which covers the  artist's entire career in Europe\, ranging from his student days and exposure to the vanguard  artistic movements of the 19th century to the groundbreaking and atmospheric lithographs  and etchings of his mature style. It is the first exhibition devoted to Whistler's works at  UMMA since 1994.\n\nNearly all of the Whistler works came to the Museum through the bequest of Margaret  Watson Parker\, an early collector of both Whistler's prints as well as Japanese art. The  exhibition explores Whistler's illustrious life and career\; his artistic themes and concerns\,  including portraiture and his well-known series from England\, Italy\, and France\; the interests  and legacy of early-20th-century Whistler collector Margaret Watson Parker\; and the tools  and techniques that Whistler employed as a printmaker.
UID:3291-921174@events.umich.edu
URL:https://events.umich.edu/event/3291
CLASS:PUBLIC
STATUS:CONFIRMED
CATEGORIES:visual arts
LOCATION:Museum of Art
CONTACT:
END:VEVENT
BEGIN:VEVENT
DTSTAMP:20101111T175737
DTSTART;TZID=America/Detroit:20101002T100000
SUMMARY:Exhibition:Out of the Ordinary: Selections from the Bohlen Wood Art and Fusfeld Folk Art Collections
DESCRIPTION:This exhibition\, which runs from September 11 through Spring of 2011\, allows visitors to  explore two extraordinary collections of art–the Robert M. and Lillian Montalto Bohlen  Collection of Wood Art and the Daniel and Harriet Fusfeld Folk Art Collection. The Bohlen  collection presents an astonishing range of contemporary artworks fashioned from wood and  includes works that explores traditional and non-traditional vessel forms as well as works that  are more purely sculptural. The outstanding objects that make up the Fusfeld collection are both  geographically and historically wide-ranging\, including work by early nineteenth-century  itinerant folk portraitists as well as late twentieth-century sculpture and painting by “outsider”  artists from the American South\, Midwest\, and Northeast.
UID:3293-916102@events.umich.edu
URL:https://events.umich.edu/event/3293
CLASS:PUBLIC
STATUS:CONFIRMED
CATEGORIES:visual arts
LOCATION:Museum of Art
CONTACT:
END:VEVENT
BEGIN:VEVENT
DTSTAMP:20101111T175654
DTSTART;TZID=America/Detroit:20101002T100000
SUMMARY:Exhibition:UMMA Projects: Jakob Kolding
DESCRIPTION:UMMA is pleased to present the first solo exhibition in a North American museum of Berlin- based artist Jakob Kolding. Kolding's work revolves around the experience of life in the  contemporary built environment\, particularly the relationships and contradictions that emerge  between how architectural spaces are planned and how they are actively used. His collages\,  drawings\, posters\, and mixed-media sculptures incorporate a wide range of source material\,  sampling and mixing the visual idiom of modernist art and architecture\, the language of  sociological inquiry\, and such popular cultural forms as hip-hop and electronic music\,  skateboarding\, and soccer. Kolding's dynamic compositions encourage us to actively question  the relationship between space and behavior\, and to imagine forms of self-expression that  use the built environment in creative new ways.
UID:3292-913252@events.umich.edu
URL:https://events.umich.edu/event/3292
CLASS:PUBLIC
STATUS:CONFIRMED
CATEGORIES:visual arts
LOCATION:Museum of Art
CONTACT:
END:VEVENT
BEGIN:VEVENT
DTSTAMP:20101111T175612
DTSTART;TZID=America/Detroit:20101002T130000
DTEND;TZID=America/Detroit:20101002T180000
SUMMARY:Other:Undergraduate Architecture Open House
DESCRIPTION:The Taubman College of Architecture and Urban Planning would like to introduce itself: our people\, the courses\, and facilities. Please join us to learn more about the architecture program and admissions process\, see student work\, hear from current faculty\, tour the facilities\, and enjoy a reception. Please register on our website. If you plan to bring a guest or guests\, please have your guest(s) complete the online registration as well. \n\nAdditional questions? Please contact Taubman College Student Services at taubmancollegestudentservices@umich.edu or call 734-615-0431.\n\nWe hope to see you there!
UID:3666-910053@events.umich.edu
URL:https://events.umich.edu/event/3666
CLASS:PUBLIC
STATUS:CONFIRMED
CATEGORIES:architecture,multicultural,visual arts
LOCATION:Art and Architecture Building - 2104
CONTACT:
END:VEVENT
BEGIN:VEVENT
DTSTAMP:20101111T175718
DTSTART;TZID=America/Detroit:20101002T180000
DTEND;TZID=America/Detroit:20101002T200000
SUMMARY:Ceremony / Service:Candle lighting for Hope & Remembrance
DESCRIPTION:All UMHS staff members and community are invited to attend the very moving  ceremony\, which takes place under the front canopy of the Comphrensive Cancer  Center. Refreshments and remembrance activites start at 6:00 pm and the  Program starts at 7:00 pm. Follow the transitions of loss through art\, music and  readings. View the Remembrance DVD of submitted photos. Light a candle in  memory of those lost to cancer and blood disorders. Event will happen rain or shine.
UID:3264-914807@events.umich.edu
URL:https://events.umich.edu/event/3264
CLASS:PUBLIC
STATUS:CONFIRMED
CATEGORIES:
LOCATION:Cancer Center - Under the Front Entrance Canopy
CONTACT:
END:VEVENT
BEGIN:VEVENT
DTSTAMP:20100924T162446
DTSTART;TZID=America/Detroit:20101002T190000
SUMMARY:Other:Oasis 10th Anniversary Retreat
DESCRIPTION:Oasis Ministry welcomes you to attend their 10th Anniversary Eucharist and Dinner\, with Oasis founder Louie Crew and honoring Jim Toy\, founder of the Spectrum Center\, on October 1st at 7pm.  The following day from 9am-2pm\, Louie Crew will be giving a sermon titled \"Walking the Path of God's Inclusive Love\".\n\nTo register\, visit oasisministrymi.org or by contacting Rev. Joe Summers at (734) 846-3578.
UID:3764-910231@events.umich.edu
URL:https://events.umich.edu/event/3764
CLASS:PUBLIC
STATUS:CONFIRMED
CATEGORIES:
LOCATION:
CONTACT:
END:VEVENT
END:VCALENDAR