BEGIN:VCALENDAR
VERSION:2.0
PRODID:-//UM//UM*Events//EN
CALSCALE:GREGORIAN
BEGIN:VTIMEZONE
TZID:America/Detroit
TZURL:http://tzurl.org/zoneinfo/America/Detroit
X-LIC-LOCATION:America/Detroit
BEGIN:DAYLIGHT
TZOFFSETFROM:-0500
TZOFFSETTO:-0400
TZNAME:EDT
DTSTART:20070311T020000
RRULE:FREQ=YEARLY;BYMONTH=3;BYDAY=2SU
END:DAYLIGHT
BEGIN:STANDARD
TZOFFSETFROM:-0400
TZOFFSETTO:-0500
TZNAME:EST
DTSTART:20071104T020000
RRULE:FREQ=YEARLY;BYMONTH=11;BYDAY=1SU
END:STANDARD
END:VTIMEZONE
BEGIN:VEVENT
DTSTAMP:20101111T175619
DTSTART;TZID=America/Detroit:20101004T000000
SUMMARY:Auditions:Submit to As I See It Photo Competition
DESCRIPTION:Arts At Michigan and University Unions Arts & Programs are seeking student photographs for the October 2010 “As I  See It” Photo Competition!  In honor of the 50th Anniversary of the Peace Corps this month\, the theme for this round  of competition will be “Peace”\, and all photos should relate to that theme\, either literally or symbolically. \n\nSubmissions will be reviewed by Arts At Michigan and UUAP staff\,  and finalists will be displayed for public jurying in  October 2010\, both in the Unions and via online voting.  The student who submitted the photo that receives the most  votes will be awarded an exciting prize package that includes $200\, plus gift cards for UMMA\, The Michigan Theatre\,  The Performance Network and Borders!  First and Second Runners Up will also receive great prizes.\n\nSubmission deadline is noon on October 8th!
UID:3787-910497@events.umich.edu
URL:https://events.umich.edu/event/3787
CLASS:PUBLIC
STATUS:CONFIRMED
CATEGORIES:visual arts
LOCATION:Michigan Union
CONTACT:
END:VEVENT
BEGIN:VEVENT
DTSTAMP:20101111T175607
DTSTART;TZID=America/Detroit:20101004T000000
SUMMARY:Exhibition:U-M and the Peace Corps: It All Started Here
DESCRIPTION:This dynamic exhibit showcases the unique role of University of Michigan students and faculty in the creation and popularizing of the Peace Corps. As Sargent Shriver said\, \"It might still be just an idea but for”¦those Michigan students and faculty.\" The exhibit highlights the development of student activism as well as important historical events.\n\nNormal Library Hours: http://www.lib.umich.edu/hours/list.php?singlebuilding=4
UID:3498-909725@events.umich.edu
URL:https://events.umich.edu/event/3498
CLASS:PUBLIC
STATUS:CONFIRMED
CATEGORIES:
LOCATION:Hatcher Graduate Library - Library Gallery (Room 100)
CONTACT:
END:VEVENT
BEGIN:VEVENT
DTSTAMP:20100909T114609
DTSTART;TZID=America/Detroit:20101004T083000
DTEND;TZID=America/Detroit:20101004T190000
SUMMARY:Exhibition:From Trace to Text: Highlights from the U-M Papyrus Collection
DESCRIPTION:This exhibit provides a behind-the-scenes look at the work of papyrologists: how they conserve scraps of often badly damaged papyri\, decipher traces of ink\, read and translate the resulting text\, edit and interpret its contents\, and make this available to both scholars and the general public. Modern technology\, such as digitization and multi-spectral imaging\, is aiding papyrologists in all of these efforts.\n\nTexts on display are some of the highlights of the collection. They include a wonderful drawing of an elephant\, a letter from a newly enlisted soldier to his mother\, and\, of course\, some pages of the oldest manuscript with letters of St. Paul (one of the most famous texts of the collection).\n\nIn its 90-year history\, the University of Michigan Papyrus Collection has trained more students and scholars in the field of papyrology than any other institution in North America. Founded by the visionary Francis W. Kelsey\, the Papyrus Collection has been the training ground for papyrologists from around the world and home to many great resident scholars\, such as Herbert and Louise Youtie\, Ludwig Koenen\, and Traianos Gagos\, who died on April 26\, 2010.\n\nPapyrology is the field of scholarship that deciphers and studies the texts written –primarily on papyrus– by people living in the ancient Mediterranean world between 2\,500 BCE and 1\,000 CE. Most of these texts are found in Egypt where the climate is dry enough to preserve this fragile material. It is a highly specialized and technical field\, requiring intensive training in language (Egyptian\, ancient Greek\, Latin\, Arabic)\, history\, and the unique set of skills necessary for reading original documents.\n\nThe exhibit is open during Audubon Room hours: Sun 1-7pm\, Mon-Fri 8:30-7pm\, Sat 10am-6pm.\n\nThis Exhibit is in Honor of Traianos Gagos (1960-2010).
UID:3497-917730@events.umich.edu
URL:https://events.umich.edu/event/3497
CLASS:PUBLIC
STATUS:CONFIRMED
CATEGORIES:
LOCATION:Hatcher Graduate Library - Audubon Room
CONTACT:
END:VEVENT
BEGIN:VEVENT
DTSTAMP:20100902T202613
DTSTART;TZID=America/Detroit:20101004T090000
DTEND;TZID=America/Detroit:20101004T170000
SUMMARY:Exhibition:Lecture on the Weather
DESCRIPTION:This multi-media stage work by John Cage\, based on the texts of Henry David Thoreau\, brings together speech\, music\, film\, lighting\, and a weather soundscape to form a softly political piece as relevant today as the year it was written. \n\nCage (1912-1992) was well known as an experimental composer\, philosopher\, writer\, and visual artist. A protean figure of the postwar avant-garde\, Cage collaborated with Merce Cunningham and visual artists including Joseph Beuys\, Robert Rauschenberg\, and Nam June Paik.\n\nExhibit celebration is Nov. 3\, 5-7pm\, in the gallery.
UID:3471-916187@events.umich.edu
URL:https://events.umich.edu/event/3471
CLASS:PUBLIC
STATUS:CONFIRMED
CATEGORIES:visual arts,social justice,music,film
LOCATION:202 S. Thayer - Gallery
CONTACT:
END:VEVENT
BEGIN:VEVENT
DTSTAMP:20100920T110946
DTSTART;TZID=America/Detroit:20101004T160000
DTEND;TZID=America/Detroit:20101004T171500
SUMMARY:Workshop / Seminar:\"The Visible and Invisible World of International Claims Tribunals\"
DESCRIPTION:Speaker:  Lucy Reed\, Partner and Co-Head\, International Arbitration Group\, Freshfields  Bruckhaus Deringer\, New York\n\nThe International Law Workshop introduces today's most debated issues in  international and comparative law.  Speakers will talk for 25 minutes\, followed by  discussion and questions.  The Workshop is coordinated by Assistant Dean for International  Affairs\, Virginia Gordan\, University of Michigan Law School.
UID:3722-913325@events.umich.edu
URL:https://events.umich.edu/event/3722
CLASS:PUBLIC
STATUS:CONFIRMED
CATEGORIES:
LOCATION:Hutchins Hall - 138
CONTACT:
END:VEVENT
BEGIN:VEVENT
DTSTAMP:20100927T112137
DTSTART;TZID=America/Detroit:20101004T160000
SUMMARY:Lecture / Discussion:Charles Zika\, \"The Witch of Endor in the Later Seventheenth Century: A New Visual Code for Witchcraft\"
DESCRIPTION:The biblical witch of Endor is the most frequently depicted witch in European history.  Although the necromantic and divinatory services she provides for King Saul (1  Samuel 28) feature in biblical exegesis from the third century\, the village woman  assumes visual form only in the twelfth century and takes on the attributes of  witchcraft in the sixteenth and seventeenth centuries. In the late seventeenth and  early eighteenth centuries\, the focus of this paper\, the dramatic increase in the  number of images of this woman\, and their appearance in a range of media and in  quite different literary contexts\, transform her\, I would argue\, into a general model  for witchcraft.
UID:3782-914560@events.umich.edu
URL:https://events.umich.edu/event/3782
CLASS:PUBLIC
STATUS:CONFIRMED
CATEGORIES:visual arts
LOCATION:Tappan Hall - 180
CONTACT:
END:VEVENT
BEGIN:VEVENT
DTSTAMP:20101111T175615
DTSTART;TZID=America/Detroit:20101004T160000
DTEND;TZID=America/Detroit:20101004T180000
SUMMARY:Exercise / Fitness:UMove Class: Rock Climbing 101
DESCRIPTION:The Introduction to Movement on Rock class is a eight week long course covering the  basics of indoor rock climbing\, movement\, and balance. This course is geared toward  beginner and novice climbers\, no experience required. The fundamental purpose of the  course is to introduce students to rock climbing in a safe manner\, while providing  instruction on proper knot tying\, belaying\, rope management\, and basic rock climbing  technique.
UID:3280-910224@events.umich.edu
URL:https://events.umich.edu/event/3280
CLASS:PUBLIC
STATUS:CONFIRMED
CATEGORIES:
LOCATION:Intramural Sports Building - Climbing Wall
CONTACT:
END:VEVENT
BEGIN:VEVENT
DTSTAMP:20100818T102113
DTSTART;TZID=America/Detroit:20101004T170000
DTEND;TZID=America/Detroit:20101004T180000
SUMMARY:Presentation:Dan Chiasson Reading
DESCRIPTION:Dan Chiasson was born in Burlington\, Vermont\, and was educated at Amherst  College and Harvard University\, where he completed a Ph.D. in English. His first  book of poems\, The Afterlife of Objects\, appeared in 2002. A widely published  literary critic\, Chiasson is the author of One Kind of Everything: Poem and Person in  Contemporary America. He is the recipient of a Pushcart Prize and a Whiting  Writers' Award\, and teaches at Amherst and Wellesley colleges. He lives in  Sherborn\, Massachusetts.
UID:3332-911392@events.umich.edu
URL:https://events.umich.edu/event/3332
CLASS:PUBLIC
STATUS:CONFIRMED
CATEGORIES:literary arts
LOCATION:Angell Hall - 3222
CONTACT:
END:VEVENT
BEGIN:VEVENT
DTSTAMP:20101111T175704
DTSTART;TZID=America/Detroit:20101004T170000
DTEND;TZID=America/Detroit:20101004T183000
SUMMARY:Conference / Symposium:Todd Filsinger\, Filsinger Energy Erb Speaker Series
DESCRIPTION:\"US power markets: Where are we headed and what role will renewables play?\" 5:00 -  6:30 pm\, Ross\, R1220. Open to the public. Refreshments will be served.
UID:3895-914012@events.umich.edu
URL:https://events.umich.edu/event/3895
CLASS:PUBLIC
STATUS:CONFIRMED
CATEGORIES:
LOCATION:Ross School of Business - R1220
CONTACT:
END:VEVENT
BEGIN:VEVENT
DTSTAMP:20100929T102837
DTSTART;TZID=America/Detroit:20101004T180000
DTEND;TZID=America/Detroit:20101004T200000
SUMMARY:Well-being:Free and Anonymous HIV Testing
DESCRIPTION:Every Monday during the academic year\, a counselor from HARC\, the HIV/AIDS Resource Center\, is at the Spectrum Center from 6-8 pm offering free and anonymous HIV testing. The Spectrum Center is a welcoming and safe space for all seeking testing. For more information on HARC and testing\, call 800.578.2300\, 734.572.9355\, or visit them on the web at http://hivaidsresource.org/
UID:3894-909575@events.umich.edu
URL:https://events.umich.edu/event/3894
CLASS:PUBLIC
STATUS:CONFIRMED
CATEGORIES:respect,social justice
LOCATION:Michigan Union - Spectrum Center - 3200
CONTACT:
END:VEVENT
BEGIN:VEVENT
DTSTAMP:20100910T164015
DTSTART;TZID=America/Detroit:20101004T180000
DTEND;TZID=America/Detroit:20101004T193000
SUMMARY:Workshop / Seminar:Partners of Transfolk
DESCRIPTION:The Spectrum Center is excited to announce our new Partners of Transfolk Support Group. This is a bi-weekly open forum drop-in group to provide support and community for people of all genders to discuss and explore their relationships with trans-identified or gender non-conforming individuals in a safe environment. Group is open to people currently or formerly in partnerships with trans-people.  The group will meet on the first and third Mondays of the month in the Spectrum Center\, which is located at 3200 Michigan Union (3rd Floor)\, 530 South State Street\, Ann Arbor. If you have any questions please contact partnersoftransfolk@umich.edu.
UID:3591-916041@events.umich.edu
URL:https://events.umich.edu/event/3591
CLASS:PUBLIC
STATUS:CONFIRMED
CATEGORIES:
LOCATION:Michigan Union - 3200
CONTACT:
END:VEVENT
BEGIN:VEVENT
DTSTAMP:20100816T153945
DTSTART;TZID=America/Detroit:20101004T180000
DTEND;TZID=America/Detroit:20101004T200000
SUMMARY:Exercise / Fitness:UMove Class: Intro to Technique 201
DESCRIPTION:In this eight week class\, each class session will focus specifically on a new technique  and build on the previous sessions. Techniques include: Introduction to footwork and  climbing technique\; weight shifting and hip movement\; fundamental footwork: foot  switches and smearing\; sit starts\, mantles and one-armed mantles\; back-stepping and  flagging\; sidepulls\, underclings\, slopers and crimpers\; heel hooks\; reading sequences  and working problems.
UID:3281-914974@events.umich.edu
URL:https://events.umich.edu/event/3281
CLASS:PUBLIC
STATUS:CONFIRMED
CATEGORIES:
LOCATION:Intramural Sports Building - Climbing Wall
CONTACT:
END:VEVENT
BEGIN:VEVENT
DTSTAMP:20101111T175703
DTSTART;TZID=America/Detroit:20101004T200000
SUMMARY:Performance:Tannahill Weavers
DESCRIPTION:
UID:3153-913970@events.umich.edu
URL:https://events.umich.edu/event/3153
CLASS:PUBLIC
STATUS:CONFIRMED
CATEGORIES:music
LOCATION:
CONTACT:
END:VEVENT
END:VCALENDAR