BEGIN:VCALENDAR
VERSION:2.0
PRODID:-//UM//UM*Events//EN
CALSCALE:GREGORIAN
BEGIN:VTIMEZONE
TZID:America/Detroit
TZURL:http://tzurl.org/zoneinfo/America/Detroit
X-LIC-LOCATION:America/Detroit
BEGIN:DAYLIGHT
TZOFFSETFROM:-0500
TZOFFSETTO:-0400
TZNAME:EDT
DTSTART:20070311T020000
RRULE:FREQ=YEARLY;BYMONTH=3;BYDAY=2SU
END:DAYLIGHT
BEGIN:STANDARD
TZOFFSETFROM:-0400
TZOFFSETTO:-0500
TZNAME:EST
DTSTART:20071104T020000
RRULE:FREQ=YEARLY;BYMONTH=11;BYDAY=1SU
END:STANDARD
END:VTIMEZONE
BEGIN:VEVENT
DTSTAMP:20101111T175619
DTSTART;TZID=America/Detroit:20101006T000000
SUMMARY:Auditions:Submit to As I See It Photo Competition
DESCRIPTION:Arts At Michigan and University Unions Arts & Programs are seeking student photographs for the October 2010 “As I  See It” Photo Competition!  In honor of the 50th Anniversary of the Peace Corps this month\, the theme for this round  of competition will be “Peace”\, and all photos should relate to that theme\, either literally or symbolically. \n\nSubmissions will be reviewed by Arts At Michigan and UUAP staff\,  and finalists will be displayed for public jurying in  October 2010\, both in the Unions and via online voting.  The student who submitted the photo that receives the most  votes will be awarded an exciting prize package that includes $200\, plus gift cards for UMMA\, The Michigan Theatre\,  The Performance Network and Borders!  First and Second Runners Up will also receive great prizes.\n\nSubmission deadline is noon on October 8th!
UID:3787-910499@events.umich.edu
URL:https://events.umich.edu/event/3787
CLASS:PUBLIC
STATUS:CONFIRMED
CATEGORIES:visual arts
LOCATION:Michigan Union
CONTACT:
END:VEVENT
BEGIN:VEVENT
DTSTAMP:20101111T175607
DTSTART;TZID=America/Detroit:20101006T000000
SUMMARY:Exhibition:U-M and the Peace Corps: It All Started Here
DESCRIPTION:This dynamic exhibit showcases the unique role of University of Michigan students and faculty in the creation and popularizing of the Peace Corps. As Sargent Shriver said\, \"It might still be just an idea but for”¦those Michigan students and faculty.\" The exhibit highlights the development of student activism as well as important historical events.\n\nNormal Library Hours: http://www.lib.umich.edu/hours/list.php?singlebuilding=4
UID:3498-909727@events.umich.edu
URL:https://events.umich.edu/event/3498
CLASS:PUBLIC
STATUS:CONFIRMED
CATEGORIES:
LOCATION:Hatcher Graduate Library - Library Gallery (Room 100)
CONTACT:
END:VEVENT
BEGIN:VEVENT
DTSTAMP:20100909T114609
DTSTART;TZID=America/Detroit:20101006T083000
DTEND;TZID=America/Detroit:20101006T190000
SUMMARY:Exhibition:From Trace to Text: Highlights from the U-M Papyrus Collection
DESCRIPTION:This exhibit provides a behind-the-scenes look at the work of papyrologists: how they conserve scraps of often badly damaged papyri\, decipher traces of ink\, read and translate the resulting text\, edit and interpret its contents\, and make this available to both scholars and the general public. Modern technology\, such as digitization and multi-spectral imaging\, is aiding papyrologists in all of these efforts.\n\nTexts on display are some of the highlights of the collection. They include a wonderful drawing of an elephant\, a letter from a newly enlisted soldier to his mother\, and\, of course\, some pages of the oldest manuscript with letters of St. Paul (one of the most famous texts of the collection).\n\nIn its 90-year history\, the University of Michigan Papyrus Collection has trained more students and scholars in the field of papyrology than any other institution in North America. Founded by the visionary Francis W. Kelsey\, the Papyrus Collection has been the training ground for papyrologists from around the world and home to many great resident scholars\, such as Herbert and Louise Youtie\, Ludwig Koenen\, and Traianos Gagos\, who died on April 26\, 2010.\n\nPapyrology is the field of scholarship that deciphers and studies the texts written –primarily on papyrus– by people living in the ancient Mediterranean world between 2\,500 BCE and 1\,000 CE. Most of these texts are found in Egypt where the climate is dry enough to preserve this fragile material. It is a highly specialized and technical field\, requiring intensive training in language (Egyptian\, ancient Greek\, Latin\, Arabic)\, history\, and the unique set of skills necessary for reading original documents.\n\nThe exhibit is open during Audubon Room hours: Sun 1-7pm\, Mon-Fri 8:30-7pm\, Sat 10am-6pm.\n\nThis Exhibit is in Honor of Traianos Gagos (1960-2010).
UID:3497-917732@events.umich.edu
URL:https://events.umich.edu/event/3497
CLASS:PUBLIC
STATUS:CONFIRMED
CATEGORIES:
LOCATION:Hatcher Graduate Library - Audubon Room
CONTACT:
END:VEVENT
BEGIN:VEVENT
DTSTAMP:20100902T202613
DTSTART;TZID=America/Detroit:20101006T090000
DTEND;TZID=America/Detroit:20101006T170000
SUMMARY:Exhibition:Lecture on the Weather
DESCRIPTION:This multi-media stage work by John Cage\, based on the texts of Henry David Thoreau\, brings together speech\, music\, film\, lighting\, and a weather soundscape to form a softly political piece as relevant today as the year it was written. \n\nCage (1912-1992) was well known as an experimental composer\, philosopher\, writer\, and visual artist. A protean figure of the postwar avant-garde\, Cage collaborated with Merce Cunningham and visual artists including Joseph Beuys\, Robert Rauschenberg\, and Nam June Paik.\n\nExhibit celebration is Nov. 3\, 5-7pm\, in the gallery.
UID:3471-916189@events.umich.edu
URL:https://events.umich.edu/event/3471
CLASS:PUBLIC
STATUS:CONFIRMED
CATEGORIES:film,music,social justice,visual arts
LOCATION:202 S. Thayer - Gallery
CONTACT:
END:VEVENT
BEGIN:VEVENT
DTSTAMP:20100817T114436
DTSTART;TZID=America/Detroit:20101006T100000
SUMMARY:Exhibition:On Beauty and the Everyday: The Prints of James McNeill Whistler
DESCRIPTION:UMMA's rare and important collection of James McNeill Whistler works on paper represents  one of the finest holdings of Whistler's graphic output in North America. This major exhibition  features more than 100 works of art from UMMA's Whistler collection\, which covers the  artist's entire career in Europe\, ranging from his student days and exposure to the vanguard  artistic movements of the 19th century to the groundbreaking and atmospheric lithographs  and etchings of his mature style. It is the first exhibition devoted to Whistler's works at  UMMA since 1994.\n\nNearly all of the Whistler works came to the Museum through the bequest of Margaret  Watson Parker\, an early collector of both Whistler's prints as well as Japanese art. The  exhibition explores Whistler's illustrious life and career\; his artistic themes and concerns\,  including portraiture and his well-known series from England\, Italy\, and France\; the interests  and legacy of early-20th-century Whistler collector Margaret Watson Parker\; and the tools  and techniques that Whistler employed as a printmaker.
UID:3291-921177@events.umich.edu
URL:https://events.umich.edu/event/3291
CLASS:PUBLIC
STATUS:CONFIRMED
CATEGORIES:visual arts
LOCATION:Museum of Art
CONTACT:
END:VEVENT
BEGIN:VEVENT
DTSTAMP:20101111T175737
DTSTART;TZID=America/Detroit:20101006T100000
SUMMARY:Exhibition:Out of the Ordinary: Selections from the Bohlen Wood Art and Fusfeld Folk Art Collections
DESCRIPTION:This exhibition\, which runs from September 11 through Spring of 2011\, allows visitors to  explore two extraordinary collections of art–the Robert M. and Lillian Montalto Bohlen  Collection of Wood Art and the Daniel and Harriet Fusfeld Folk Art Collection. The Bohlen  collection presents an astonishing range of contemporary artworks fashioned from wood and  includes works that explores traditional and non-traditional vessel forms as well as works that  are more purely sculptural. The outstanding objects that make up the Fusfeld collection are both  geographically and historically wide-ranging\, including work by early nineteenth-century  itinerant folk portraitists as well as late twentieth-century sculpture and painting by “outsider”  artists from the American South\, Midwest\, and Northeast.
UID:3293-916105@events.umich.edu
URL:https://events.umich.edu/event/3293
CLASS:PUBLIC
STATUS:CONFIRMED
CATEGORIES:visual arts
LOCATION:Museum of Art
CONTACT:
END:VEVENT
BEGIN:VEVENT
DTSTAMP:20100910T122929
DTSTART;TZID=America/Detroit:20101006T100000
DTEND;TZID=America/Detroit:20101006T113000
SUMMARY:Conference / Symposium:Reasonable Accommodations:
DESCRIPTION:Many of us are aware of different types of job accommodations for persons with physical disabilities\, but are you familiar with accommodations you may need to provide for hidden disabilities\, like ADHD\, anxiety or depression?  Join us for this informative and interactive presentation which will cover the Americans with Disabilities Act Amendments and\, through the use of case studies and an open-discussion format\, provide practical guidance for faculty\, staff\, managers and human resource professionals regarding reasonable accommodations in these instances.\n\nPlease join us for the Fifth Annual Symposium on Mental Health in the Workplace!  Refreshments provided.\n\nPresenter:    Carole F. Dubritsky Assistant Director and ADA Coordinator Office of Institutional Equity\n\nFacilitator: Lorna Hurl\, M.S.W.\, Ph.D. Faculty/Staff Counselor Faculty and Staff Assistance Program
UID:3581-910217@events.umich.edu
URL:https://events.umich.edu/event/3581
CLASS:PUBLIC
STATUS:CONFIRMED
CATEGORIES:
LOCATION:Palmer Commons - Great Lakes Room
CONTACT:
END:VEVENT
BEGIN:VEVENT
DTSTAMP:20101111T175654
DTSTART;TZID=America/Detroit:20101006T100000
SUMMARY:Exhibition:UMMA Projects: Jakob Kolding
DESCRIPTION:UMMA is pleased to present the first solo exhibition in a North American museum of Berlin- based artist Jakob Kolding. Kolding's work revolves around the experience of life in the  contemporary built environment\, particularly the relationships and contradictions that emerge  between how architectural spaces are planned and how they are actively used. His collages\,  drawings\, posters\, and mixed-media sculptures incorporate a wide range of source material\,  sampling and mixing the visual idiom of modernist art and architecture\, the language of  sociological inquiry\, and such popular cultural forms as hip-hop and electronic music\,  skateboarding\, and soccer. Kolding's dynamic compositions encourage us to actively question  the relationship between space and behavior\, and to imagine forms of self-expression that  use the built environment in creative new ways.
UID:3292-913255@events.umich.edu
URL:https://events.umich.edu/event/3292
CLASS:PUBLIC
STATUS:CONFIRMED
CATEGORIES:visual arts
LOCATION:Museum of Art
CONTACT:
END:VEVENT
BEGIN:VEVENT
DTSTAMP:20100826T215539
DTSTART;TZID=America/Detroit:20101006T160000
DTEND;TZID=America/Detroit:20101006T170000
SUMMARY:Lecture / Discussion:Before and After Babel
DESCRIPTION:Lecturer: Steven Fraade\, Yale University
UID:3372-916225@events.umich.edu
URL:https://events.umich.edu/event/3372
CLASS:PUBLIC
STATUS:CONFIRMED
CATEGORIES:
LOCATION:202 S. Thayer - 2022
CONTACT:
END:VEVENT
BEGIN:VEVENT
DTSTAMP:20100826T220357
DTSTART;TZID=America/Detroit:20101006T160000
SUMMARY:Workshop / Seminar:Teacher Workshop on Southeast Asian Art and Culture
DESCRIPTION:UMMA and the UM Center for Southeast Asian Studies will cosponsor an exciting workshop for educators highlighting traditional and contemporary art from Thailand and Cambodia. Teachers will have a private tour of this material with renowned scholar and UM alumni\, Forrest McGill. They will also be introduced to UMMA's celestial Apsara made of decommissioned weapons. As always\, the event begins with a light meal and all participants receive teaching materials to take back to the classroom. Registration required. Email Pam Reister at preister@umich.edu or Jann Wesolek at jannwes@umich.edu for more information.
UID:3376-920302@events.umich.edu
URL:https://events.umich.edu/event/3376
CLASS:PUBLIC
STATUS:CONFIRMED
CATEGORIES:multicultural,visual arts
LOCATION:Museum of Art - Galleries and Multipurpose Room
CONTACT:
END:VEVENT
BEGIN:VEVENT
DTSTAMP:20100708T195921
DTSTART;TZID=America/Detroit:20101006T173000
DTEND;TZID=America/Detroit:20101006T190000
SUMMARY:Workshop / Seminar:Restoring Balance: Tools for Stress Management
DESCRIPTION:Examine sources of stress\, the effects of stress on body\, mind\, and behavior\, and introduce mind training anchor practices that bring a sense of well-being\, insight\, and a positive attitude.  These practices include meditation\, imagery\, reframing\, EFT\, breathing\, mindfulness\, and writing exercises.  A supportive group atmosphere makes this a relaxing and insightful experience.  \n\nSandra Finkel\,  MPH \n\nSep 15 - Oct 20\, 2010 Wednesdays\, 5:30 - 7:00 pm
UID:547-911788@events.umich.edu
URL:https://events.umich.edu/event/547
CLASS:PUBLIC
STATUS:CONFIRMED
CATEGORIES:
LOCATION:
CONTACT:
END:VEVENT
BEGIN:VEVENT
DTSTAMP:20101111T175827
DTSTART;TZID=America/Detroit:20101006T190000
DTEND;TZID=America/Detroit:20101006T203000
SUMMARY:Lecture / Discussion:\"Health at Every Size\" Presentation with Dr. Linda Bacon
DESCRIPTION:On Wednesday\, October 6\, University Health Service at the University of Michigan will welcome Linda Bacon\, PhD. to speak about her latest research from her book \"Health at Every Size\; The Surprising Truth about Your Weight\". In her groundbreaking work\, Bacon challenges the idea of an “obesity epidemic” and offers a compelling thesis on why we are the weight we are and how to maximize our physical and emotional well-being. \n\nDr. Bacon asserts that “Fat isn't the problem. Dieting is the problem. A society that rejects anyone whose body shape or size doesn't match the impossible ideal is the problem. A medical establishment that equates “thin” with “healthy” is the problem.” \n\nThe talk is free and open to the public. It will be held at 7 p.m.\, in the Rackham Auditorium on the University of Michigan campus.
UID:3783-919452@events.umich.edu
URL:https://events.umich.edu/event/3783
CLASS:PUBLIC
STATUS:CONFIRMED
CATEGORIES:respect,social justice
LOCATION:Rackham Graduate School (Horace H.) - Rackham Auditorium
CONTACT:
END:VEVENT
BEGIN:VEVENT
DTSTAMP:20101111T175810
DTSTART;TZID=America/Detroit:20101006T200000
SUMMARY:Performance:Antje Duvekot & Lucy Wainwright Roche
DESCRIPTION:
UID:3154-918584@events.umich.edu
URL:https://events.umich.edu/event/3154
CLASS:PUBLIC
STATUS:CONFIRMED
CATEGORIES:music
LOCATION:
CONTACT:
END:VEVENT
BEGIN:VEVENT
DTSTAMP:20100826T221950
DTSTART;TZID=America/Detroit:20101006T200000
SUMMARY:Performance:Jazz Series
DESCRIPTION:The Alberto Rojo Trio focuses on both traditional Argentinean folk songs and styles and new compositions and arrangements. These include styles such as the tango and chacarera as well as jazz standards that have been arranged by the trio with a South American flare. The trio consists of Alberto Rojo on guitar and vocals\, Michael Gould\, percussion\, and Andrew Kratzat on bass.\n\nThis monthly series\, curated by UM Associate Professor Adam Unsworth\, presents outstanding local artists in an intimate setting. These free events are made possible in part by the Katherine Tuck Endowment.
UID:3385-917323@events.umich.edu
URL:https://events.umich.edu/event/3385
CLASS:PUBLIC
STATUS:CONFIRMED
CATEGORIES:multicultural,music
LOCATION:Museum of Art - Commons
CONTACT:
END:VEVENT
END:VCALENDAR