BEGIN:VCALENDAR
VERSION:2.0
PRODID:-//UM//UM*Events//EN
CALSCALE:GREGORIAN
BEGIN:VTIMEZONE
TZID:America/Detroit
TZURL:http://tzurl.org/zoneinfo/America/Detroit
X-LIC-LOCATION:America/Detroit
BEGIN:DAYLIGHT
TZOFFSETFROM:-0500
TZOFFSETTO:-0400
TZNAME:EDT
DTSTART:20070311T020000
RRULE:FREQ=YEARLY;BYMONTH=3;BYDAY=2SU
END:DAYLIGHT
BEGIN:STANDARD
TZOFFSETFROM:-0400
TZOFFSETTO:-0500
TZNAME:EST
DTSTART:20071104T020000
RRULE:FREQ=YEARLY;BYMONTH=11;BYDAY=1SU
END:STANDARD
END:VTIMEZONE
BEGIN:VEVENT
DTSTAMP:20101111T175607
DTSTART;TZID=America/Detroit:20101009T000000
SUMMARY:Exhibition:U-M and the Peace Corps: It All Started Here
DESCRIPTION:This dynamic exhibit showcases the unique role of University of Michigan students and faculty in the creation and popularizing of the Peace Corps. As Sargent Shriver said\, \"It might still be just an idea but for”¦those Michigan students and faculty.\" The exhibit highlights the development of student activism as well as important historical events.\n\nNormal Library Hours: http://www.lib.umich.edu/hours/list.php?singlebuilding=4
UID:3498-909730@events.umich.edu
URL:https://events.umich.edu/event/3498
CLASS:PUBLIC
STATUS:CONFIRMED
CATEGORIES:
LOCATION:Hatcher Graduate Library - Library Gallery (Room 100)
CONTACT:
END:VEVENT
BEGIN:VEVENT
DTSTAMP:20101111T175853
DTSTART;TZID=America/Detroit:20101009T070000
SUMMARY:Exhibition:Peace Corps Photo Exhibit
DESCRIPTION:Come learn more about the University of Michigan's involvement in the founding of the U.S. Peace Corps\, through photos\, stories\, and other artifacts in this inspiring exhibit. As we celebrate the 50th anniversary of the Peace Corps and President Kennedy's speech on the steps of the Michigan Union\, this exhibit gives you a great opportunity to experience history.
UID:4009-921074@events.umich.edu
URL:https://events.umich.edu/event/4009
CLASS:PUBLIC
STATUS:CONFIRMED
CATEGORIES:visual arts
LOCATION:Michigan Union - Art Lounge
CONTACT:
END:VEVENT
BEGIN:VEVENT
DTSTAMP:20101111T175906
DTSTART;TZID=America/Detroit:20101009T080000
DTEND;TZID=America/Detroit:20101009T200000
SUMMARY:Exercise / Fitness:Learn to Backpack! Day Trip
DESCRIPTION:Join Outdoor Adventures on a day trip hiking on the Island Lake Blue Loop Trail! We'll  start at the Trailhead and then work our way over to the Placeway Picnic area to cook up  a hot lunch. We'll also learn the basics to backpacking and Leave No Trace principles.  After 9.3 miles on the blue loop\, we'll see if we have time to do the 4 mile yellow loop.  We'll have a relaxing and rejuvenating hike and take a break from the city life. We'll  return refreshed and having enjoyed a bit of Michigan's spring weather and a local state  park.
UID:3044-921916@events.umich.edu
URL:https://events.umich.edu/event/3044
CLASS:PUBLIC
STATUS:CONFIRMED
CATEGORIES:
LOCATION:
CONTACT:
END:VEVENT
BEGIN:VEVENT
DTSTAMP:20100909T114609
DTSTART;TZID=America/Detroit:20101009T083000
DTEND;TZID=America/Detroit:20101009T190000
SUMMARY:Exhibition:From Trace to Text: Highlights from the U-M Papyrus Collection
DESCRIPTION:This exhibit provides a behind-the-scenes look at the work of papyrologists: how they conserve scraps of often badly damaged papyri\, decipher traces of ink\, read and translate the resulting text\, edit and interpret its contents\, and make this available to both scholars and the general public. Modern technology\, such as digitization and multi-spectral imaging\, is aiding papyrologists in all of these efforts.\n\nTexts on display are some of the highlights of the collection. They include a wonderful drawing of an elephant\, a letter from a newly enlisted soldier to his mother\, and\, of course\, some pages of the oldest manuscript with letters of St. Paul (one of the most famous texts of the collection).\n\nIn its 90-year history\, the University of Michigan Papyrus Collection has trained more students and scholars in the field of papyrology than any other institution in North America. Founded by the visionary Francis W. Kelsey\, the Papyrus Collection has been the training ground for papyrologists from around the world and home to many great resident scholars\, such as Herbert and Louise Youtie\, Ludwig Koenen\, and Traianos Gagos\, who died on April 26\, 2010.\n\nPapyrology is the field of scholarship that deciphers and studies the texts written –primarily on papyrus– by people living in the ancient Mediterranean world between 2\,500 BCE and 1\,000 CE. Most of these texts are found in Egypt where the climate is dry enough to preserve this fragile material. It is a highly specialized and technical field\, requiring intensive training in language (Egyptian\, ancient Greek\, Latin\, Arabic)\, history\, and the unique set of skills necessary for reading original documents.\n\nThe exhibit is open during Audubon Room hours: Sun 1-7pm\, Mon-Fri 8:30-7pm\, Sat 10am-6pm.\n\nThis Exhibit is in Honor of Traianos Gagos (1960-2010).
UID:3497-917735@events.umich.edu
URL:https://events.umich.edu/event/3497
CLASS:PUBLIC
STATUS:CONFIRMED
CATEGORIES:
LOCATION:Hatcher Graduate Library - Audubon Room
CONTACT:
END:VEVENT
BEGIN:VEVENT
DTSTAMP:20100817T114436
DTSTART;TZID=America/Detroit:20101009T100000
SUMMARY:Exhibition:On Beauty and the Everyday: The Prints of James McNeill Whistler
DESCRIPTION:UMMA's rare and important collection of James McNeill Whistler works on paper represents  one of the finest holdings of Whistler's graphic output in North America. This major exhibition  features more than 100 works of art from UMMA's Whistler collection\, which covers the  artist's entire career in Europe\, ranging from his student days and exposure to the vanguard  artistic movements of the 19th century to the groundbreaking and atmospheric lithographs  and etchings of his mature style. It is the first exhibition devoted to Whistler's works at  UMMA since 1994.\n\nNearly all of the Whistler works came to the Museum through the bequest of Margaret  Watson Parker\, an early collector of both Whistler's prints as well as Japanese art. The  exhibition explores Whistler's illustrious life and career\; his artistic themes and concerns\,  including portraiture and his well-known series from England\, Italy\, and France\; the interests  and legacy of early-20th-century Whistler collector Margaret Watson Parker\; and the tools  and techniques that Whistler employed as a printmaker.
UID:3291-921180@events.umich.edu
URL:https://events.umich.edu/event/3291
CLASS:PUBLIC
STATUS:CONFIRMED
CATEGORIES:visual arts
LOCATION:Museum of Art
CONTACT:
END:VEVENT
BEGIN:VEVENT
DTSTAMP:20101111T175737
DTSTART;TZID=America/Detroit:20101009T100000
SUMMARY:Exhibition:Out of the Ordinary: Selections from the Bohlen Wood Art and Fusfeld Folk Art Collections
DESCRIPTION:This exhibition\, which runs from September 11 through Spring of 2011\, allows visitors to  explore two extraordinary collections of art–the Robert M. and Lillian Montalto Bohlen  Collection of Wood Art and the Daniel and Harriet Fusfeld Folk Art Collection. The Bohlen  collection presents an astonishing range of contemporary artworks fashioned from wood and  includes works that explores traditional and non-traditional vessel forms as well as works that  are more purely sculptural. The outstanding objects that make up the Fusfeld collection are both  geographically and historically wide-ranging\, including work by early nineteenth-century  itinerant folk portraitists as well as late twentieth-century sculpture and painting by “outsider”  artists from the American South\, Midwest\, and Northeast.
UID:3293-916108@events.umich.edu
URL:https://events.umich.edu/event/3293
CLASS:PUBLIC
STATUS:CONFIRMED
CATEGORIES:visual arts
LOCATION:Museum of Art
CONTACT:
END:VEVENT
BEGIN:VEVENT
DTSTAMP:20101111T175654
DTSTART;TZID=America/Detroit:20101009T100000
SUMMARY:Exhibition:UMMA Projects: Jakob Kolding
DESCRIPTION:UMMA is pleased to present the first solo exhibition in a North American museum of Berlin- based artist Jakob Kolding. Kolding's work revolves around the experience of life in the  contemporary built environment\, particularly the relationships and contradictions that emerge  between how architectural spaces are planned and how they are actively used. His collages\,  drawings\, posters\, and mixed-media sculptures incorporate a wide range of source material\,  sampling and mixing the visual idiom of modernist art and architecture\, the language of  sociological inquiry\, and such popular cultural forms as hip-hop and electronic music\,  skateboarding\, and soccer. Kolding's dynamic compositions encourage us to actively question  the relationship between space and behavior\, and to imagine forms of self-expression that  use the built environment in creative new ways.
UID:3292-913258@events.umich.edu
URL:https://events.umich.edu/event/3292
CLASS:PUBLIC
STATUS:CONFIRMED
CATEGORIES:visual arts
LOCATION:Museum of Art
CONTACT:
END:VEVENT
BEGIN:VEVENT
DTSTAMP:20101111T175644
DTSTART;TZID=America/Detroit:20101009T103000
DTEND;TZID=America/Detroit:20101009T113000
SUMMARY:Lecture / Discussion:Physics Meets Physiology: How We Hear and How We Can Lose Our Hearing
DESCRIPTION:Hearing is our most sensitive sense and a basis for human communication. Our  ears can pick up the quiet rustling of leaves\, recognize the voices of our loved ones  (and not so loved ones)\, and help us enjoy the spectrum of sounds from a bass  drum to a violin. Yet\, our ears are also highly vulnerable\, and hearing losses of  significant severity affect more than 28 million individuals in this country alone.   Approximately one-half of such losses are thought to be of hereditary origin. The  others are acquired during our life time as the result of a variety of causes\,  including exposure to work-place or recreational noise\, treatment with certain drugs\,  various diseases and the aging process itself. This lecture will introduce the delicate  organization of our inner ears\, explore the major sources of acquired hearing loss  and outline potential remedies.
UID:3773-912601@events.umich.edu
URL:https://events.umich.edu/event/3773
CLASS:PUBLIC
STATUS:CONFIRMED
CATEGORIES:
LOCATION:Weiser Hall - 170 &amp;amp; 182
CONTACT:
END:VEVENT
BEGIN:VEVENT
DTSTAMP:20100826T222954
DTSTART;TZID=America/Detroit:20101009T133000
DTEND;TZID=America/Detroit:20101009T160000
SUMMARY:Workshop / Seminar:Artmaking: Ann Arbor Art Center Workshops
DESCRIPTION:This class focuses on drawing from observation. Become acquainted with exquisite objects from the UMMA collections–abstract sculpture (Giocometti\, Moore\, Calder)\, bronze dancers by Rodin\, African artifacts (nailed ritual objects\, beaded hats\, fertility figures)\, Thai Buddha and Indian Shiva figures\, and Korean pottery–while developing a sense of proportion\, perspective\, line quality\, value\, composition\, and personal style. Approaches introduced will include working on watercolored surface with white conte pencil and graphite pencil\, applying collage\, or writing on drawings. To the first class\, please bring: HB\, 2B\, and 2H graphite pencils\; an eraser\; and an 11 x 14 inch sketchbook. Saturdays\, October 9–Nov 13\, 1:30–4 pm. All levels welcome.
UID:3383-914934@events.umich.edu
URL:https://events.umich.edu/event/3383
CLASS:PUBLIC
STATUS:CONFIRMED
CATEGORIES:visual arts
LOCATION:Museum of Art
CONTACT:
END:VEVENT
BEGIN:VEVENT
DTSTAMP:20101007T105727
DTSTART;TZID=America/Detroit:20101009T190000
DTEND;TZID=America/Detroit:20101009T203000
SUMMARY:Performance:Riveting New Comedy-Drama on Lives of Chinese Generation Born in 1980s
DESCRIPTION:Join us for a riveting comedy-drama written\, directed\, and performed by a group of U-M Chinese students passionate about theatrical arts. Originally conceived as a series of skits\, Living Dreams tells a complex story about longing\, memory\, and identity\, with captivating music and imagery. Put aside your preconceived notions about China and allow yourself to become transported into the vivid lives of the 1980s generation – young people who are your friends\, your classmates\, even your GSIs.\n\nPerformed partially in Chinese with English subtitles. FREE AND OPEN to the public. Please arrive early to get a good seat! Audience members will have the opportunity to enter and win fun prizes including Bubble Island gift certificates!\n\nFind us on Facebook at http://www.facebook.com/home.php?#!/event.php?eid=112601102132364&ref=ts\; and look for our ad in the Michigan Daily this Thursday\, October 7!
UID:3946-918038@events.umich.edu
URL:https://events.umich.edu/event/3946
CLASS:PUBLIC
STATUS:CONFIRMED
CATEGORIES:dance,literary arts,multicultural,music,theater,visual arts
LOCATION:Walgreen Drama Center - Stamps Auditorium
CONTACT:
END:VEVENT
BEGIN:VEVENT
DTSTAMP:20101111T175844
DTSTART;TZID=America/Detroit:20101009T200000
SUMMARY:Performance:Raul Malo
DESCRIPTION:
UID:3149-920539@events.umich.edu
URL:https://events.umich.edu/event/3149
CLASS:PUBLIC
STATUS:CONFIRMED
CATEGORIES:music
LOCATION:
CONTACT:
END:VEVENT
END:VCALENDAR