BEGIN:VCALENDAR
VERSION:2.0
PRODID:-//UM//UM*Events//EN
CALSCALE:GREGORIAN
BEGIN:VTIMEZONE
TZID:America/Detroit
TZURL:http://tzurl.org/zoneinfo/America/Detroit
X-LIC-LOCATION:America/Detroit
BEGIN:DAYLIGHT
TZOFFSETFROM:-0500
TZOFFSETTO:-0400
TZNAME:EDT
DTSTART:20070311T020000
RRULE:FREQ=YEARLY;BYMONTH=3;BYDAY=2SU
END:DAYLIGHT
BEGIN:STANDARD
TZOFFSETFROM:-0400
TZOFFSETTO:-0500
TZNAME:EST
DTSTART:20071104T020000
RRULE:FREQ=YEARLY;BYMONTH=11;BYDAY=1SU
END:STANDARD
END:VTIMEZONE
BEGIN:VEVENT
DTSTAMP:20101111T175607
DTSTART;TZID=America/Detroit:20101011T000000
SUMMARY:Exhibition:U-M and the Peace Corps: It All Started Here
DESCRIPTION:This dynamic exhibit showcases the unique role of University of Michigan students and faculty in the creation and popularizing of the Peace Corps. As Sargent Shriver said\, \"It might still be just an idea but for”¦those Michigan students and faculty.\" The exhibit highlights the development of student activism as well as important historical events.\n\nNormal Library Hours: http://www.lib.umich.edu/hours/list.php?singlebuilding=4
UID:3498-909731@events.umich.edu
URL:https://events.umich.edu/event/3498
CLASS:PUBLIC
STATUS:CONFIRMED
CATEGORIES:
LOCATION:Hatcher Graduate Library - Library Gallery (Room 100)
CONTACT:
END:VEVENT
BEGIN:VEVENT
DTSTAMP:20101007T232728
DTSTART;TZID=America/Detroit:20101011T060000
SUMMARY:Other:Spectrum Center National Coming Out Week Scavenger Hunt!
DESCRIPTION:Celebrate National Coming Out Week with the Spectrum Center by participating in our week long scavenger  hunt!!  Only two simple steps to participate: Step 1: Grab your iPhone\, Android\, or iPod touch* and download the free SCVNGR app.   Step 2: Click on the \"Treks\" tab\, and there you will find the National Coming Out Week trek.   You are now ready to explore the campus and community with the Spectrum Center as your guide!  \n\nUsing the location feature on your phone\, the application will tell you places to go\, confirm when you are there\,  and give you challenges to complete.  Each challenge is worth points based on the difficulty.  The participants  in first\, second\, and third place will win fabulous prizes!  \n\nFollow the Spectrum Center on twitter at http://twitter.com/UMSpectrumCtr# to get updates about the  challenges\, the prizes\, and helpful hints.  \n\nIf you have questions\, visit http://scvngr.com\, http://spectrumcenter.umich.edu\,  or email jlbest@umich.edu.\n\n*If you would like to participate in the trek via SMS text messaging\, send the code ncow2010 to SCVNGR\, or  728647\, and you will be texted the first challenge.
UID:4011-912884@events.umich.edu
URL:https://events.umich.edu/event/4011
CLASS:PUBLIC
STATUS:CONFIRMED
CATEGORIES:
LOCATION:Michigan Union
CONTACT:
END:VEVENT
BEGIN:VEVENT
DTSTAMP:20101111T175853
DTSTART;TZID=America/Detroit:20101011T070000
SUMMARY:Exhibition:Peace Corps Photo Exhibit
DESCRIPTION:Come learn more about the University of Michigan's involvement in the founding of the U.S. Peace Corps\, through photos\, stories\, and other artifacts in this inspiring exhibit. As we celebrate the 50th anniversary of the Peace Corps and President Kennedy's speech on the steps of the Michigan Union\, this exhibit gives you a great opportunity to experience history.
UID:4009-921076@events.umich.edu
URL:https://events.umich.edu/event/4009
CLASS:PUBLIC
STATUS:CONFIRMED
CATEGORIES:visual arts
LOCATION:Michigan Union - Art Lounge
CONTACT:
END:VEVENT
BEGIN:VEVENT
DTSTAMP:20100927T141609
DTSTART;TZID=America/Detroit:20101011T080000
DTEND;TZID=America/Detroit:20101011T120000
SUMMARY:Exhibition:\"As I See It\" Photo Competition
DESCRIPTION:In honor of the Peace Corps' 50th anniversary\, \"Peace\" is the theme for October's \"As I See It\" photo competition. Students should submit photos by noon on October 8th. The exhibit will be up  from October 11–22. Cast your vote for your favorite photo online through the Arts At Michigan website  or in any of the three Unions\, and help a student photographer win cool prizes! All current University of Michigan students are eligible.
UID:3500-917897@events.umich.edu
URL:https://events.umich.edu/event/3500
CLASS:PUBLIC
STATUS:CONFIRMED
CATEGORIES:visual arts
LOCATION:Michigan Union - Lobby
CONTACT:
END:VEVENT
BEGIN:VEVENT
DTSTAMP:20100909T114609
DTSTART;TZID=America/Detroit:20101011T083000
DTEND;TZID=America/Detroit:20101011T190000
SUMMARY:Exhibition:From Trace to Text: Highlights from the U-M Papyrus Collection
DESCRIPTION:This exhibit provides a behind-the-scenes look at the work of papyrologists: how they conserve scraps of often badly damaged papyri\, decipher traces of ink\, read and translate the resulting text\, edit and interpret its contents\, and make this available to both scholars and the general public. Modern technology\, such as digitization and multi-spectral imaging\, is aiding papyrologists in all of these efforts.\n\nTexts on display are some of the highlights of the collection. They include a wonderful drawing of an elephant\, a letter from a newly enlisted soldier to his mother\, and\, of course\, some pages of the oldest manuscript with letters of St. Paul (one of the most famous texts of the collection).\n\nIn its 90-year history\, the University of Michigan Papyrus Collection has trained more students and scholars in the field of papyrology than any other institution in North America. Founded by the visionary Francis W. Kelsey\, the Papyrus Collection has been the training ground for papyrologists from around the world and home to many great resident scholars\, such as Herbert and Louise Youtie\, Ludwig Koenen\, and Traianos Gagos\, who died on April 26\, 2010.\n\nPapyrology is the field of scholarship that deciphers and studies the texts written –primarily on papyrus– by people living in the ancient Mediterranean world between 2\,500 BCE and 1\,000 CE. Most of these texts are found in Egypt where the climate is dry enough to preserve this fragile material. It is a highly specialized and technical field\, requiring intensive training in language (Egyptian\, ancient Greek\, Latin\, Arabic)\, history\, and the unique set of skills necessary for reading original documents.\n\nThe exhibit is open during Audubon Room hours: Sun 1-7pm\, Mon-Fri 8:30-7pm\, Sat 10am-6pm.\n\nThis Exhibit is in Honor of Traianos Gagos (1960-2010).
UID:3497-917737@events.umich.edu
URL:https://events.umich.edu/event/3497
CLASS:PUBLIC
STATUS:CONFIRMED
CATEGORIES:
LOCATION:Hatcher Graduate Library - Audubon Room
CONTACT:
END:VEVENT
BEGIN:VEVENT
DTSTAMP:20100902T202613
DTSTART;TZID=America/Detroit:20101011T090000
DTEND;TZID=America/Detroit:20101011T170000
SUMMARY:Exhibition:Lecture on the Weather
DESCRIPTION:This multi-media stage work by John Cage\, based on the texts of Henry David Thoreau\, brings together speech\, music\, film\, lighting\, and a weather soundscape to form a softly political piece as relevant today as the year it was written. \n\nCage (1912-1992) was well known as an experimental composer\, philosopher\, writer\, and visual artist. A protean figure of the postwar avant-garde\, Cage collaborated with Merce Cunningham and visual artists including Joseph Beuys\, Robert Rauschenberg\, and Nam June Paik.\n\nExhibit celebration is Nov. 3\, 5-7pm\, in the gallery.
UID:3471-916192@events.umich.edu
URL:https://events.umich.edu/event/3471
CLASS:PUBLIC
STATUS:CONFIRMED
CATEGORIES:music,visual arts,social justice,film
LOCATION:202 S. Thayer - Gallery
CONTACT:
END:VEVENT
BEGIN:VEVENT
DTSTAMP:20100930T155754
DTSTART;TZID=America/Detroit:20101011T120000
DTEND;TZID=America/Detroit:20101011T180000
SUMMARY:Exhibition:Affinity of Form
DESCRIPTION:A photography exhibition by Stanford Lipsey will open on Thursday\, October 7 and  will run through Tuesday\, November 2\, 2010. The exhibition of 45 digital images\,  titled “Affinity of Form” (which also is the title of his recently published book)\, uses  the juxtaposition of photographs to build a comparative concept within a set of two  images. Lipsey graduated from the University of Michigan in 1948 with a degree in  economics and while a student here he was a photographer for the Michigan Daily  and Photography Editor for the Michiganensian.  The Student Publications Building  was named for Stanford Lipsey in 2005.
UID:3907-915724@events.umich.edu
URL:https://events.umich.edu/event/3907
CLASS:PUBLIC
STATUS:CONFIRMED
CATEGORIES:visual arts
LOCATION:Duderstadt Center - Gallery
CONTACT:
END:VEVENT
BEGIN:VEVENT
DTSTAMP:20101111T175805
DTSTART;TZID=America/Detroit:20101011T120000
DTEND;TZID=America/Detroit:20101011T130000
SUMMARY:Rally / Mass Meeting:National Coming Out Day Rally
DESCRIPTION:Stop by the Diag at noon on Monday for the annual National Coming Out Day Rally!  There will be music\, dancing\, speakers\, and of course\, the door on the steps of the  Grad Library that you can \"come out\" of!
UID:4008-918075@events.umich.edu
URL:https://events.umich.edu/event/4008
CLASS:PUBLIC
STATUS:CONFIRMED
CATEGORIES:
LOCATION:Diag - Central Campus
CONTACT:
END:VEVENT
BEGIN:VEVENT
DTSTAMP:20101111T175818
DTSTART;TZID=America/Detroit:20101011T120000
DTEND;TZID=America/Detroit:20101011T133000
SUMMARY:Conference / Symposium:Shaun McRae\, Erb Colloquium
DESCRIPTION:Dr. Shaun McRae is Assistant Professor in the Department of Economics / Energy .  12 - 1:30 pm\, Dana 2024. Co-sponsored with the U-M Department of Economics. Open to the University  Community.\n\n Erb Institute Colloquium A bi-weekly research seminar featuring the latest insights and state of the art  knowledge in the broad field of sustainable enterprise. Faculty spanning Economists\,  Legal and Management Scholars as well as Natural Scientists from both within U of M  and other leading Institutions present and discuss their work in an interdisciplinary  and interactive framework. The general structure of the seminar allows the speaker  45 minutes\, then an assigned discussant from a different discipline adds comments  and ideas\, followed by general discussion.  In our experience\, the Colloquium  proves to be a valuable source of new ideas for faculty\, graduate students and  practitioners alike. Past speakers have included such scholars as Geoffrey Heal\,  Stuart Hart\, Jim Walsh\, Steve Salant\, Tima Bansal\, Mike Lenox\, Magali Delmas\,  John Maxwell\, Andy King\, Mike Toffel\, David Popp\, Madhu Khanna\, and Jay Golden\,  and David Ulhmann.
UID:3896-919104@events.umich.edu
URL:https://events.umich.edu/event/3896
CLASS:PUBLIC
STATUS:CONFIRMED
CATEGORIES:
LOCATION:Dana Natural Resources  Building - 2024
CONTACT:
END:VEVENT
BEGIN:VEVENT
DTSTAMP:20100826T215605
DTSTART;TZID=America/Detroit:20101011T123000
DTEND;TZID=America/Detroit:20101011T133000
SUMMARY:Lecture / Discussion:From Maimonides to Microsoft
DESCRIPTION:Lecturer: Neal Netanel\, UCLA
UID:3374-920236@events.umich.edu
URL:https://events.umich.edu/event/3374
CLASS:PUBLIC
STATUS:CONFIRMED
CATEGORIES:
LOCATION:202 S. Thayer - 2022
CONTACT:
END:VEVENT
BEGIN:VEVENT
DTSTAMP:20101111T175756
DTSTART;TZID=America/Detroit:20101011T160000
DTEND;TZID=America/Detroit:20101011T173000
SUMMARY:Lecture / Discussion:\"Arshile Gorky: Identity\, Genocide\, and the Making of Modern Armenia\"
DESCRIPTION:Public Lecture by Kin Theriault\, Assistant Professor of Art History\, Theory\, and Criticism\, Dominican University.
UID:3889-917389@events.umich.edu
URL:https://events.umich.edu/event/3889
CLASS:PUBLIC
STATUS:CONFIRMED
CATEGORIES:multicultural
LOCATION:School of Social Work Building - 1636
CONTACT:
END:VEVENT
BEGIN:VEVENT
DTSTAMP:20100920T111045
DTSTART;TZID=America/Detroit:20101011T160000
DTEND;TZID=America/Detroit:20101011T171500
SUMMARY:Workshop / Seminar:\"When International Business and Corruption Meet: The Role of the Lawyer\"
DESCRIPTION:Speaker:  Timothly L. Dickinson\, Partner\, Paul\, Hastings\, Janofsky & Walker\,  Washington\, DC\; Professor from Practice\, University of Michigan Law School\n\nThe International Law Workshop introduces today's most debated issues in  international and comparative law.  Speakers will talk for 25 minutes\, followed by  discussion and questions.  The Workshop is coordinated by Assistant Dean for International  Affairs\, Virginia Gordan\, University of Michigan Law School.
UID:3723-918020@events.umich.edu
URL:https://events.umich.edu/event/3723
CLASS:PUBLIC
STATUS:CONFIRMED
CATEGORIES:
LOCATION:Hutchins Hall - 138
CONTACT:
END:VEVENT
BEGIN:VEVENT
DTSTAMP:20101111T175615
DTSTART;TZID=America/Detroit:20101011T160000
DTEND;TZID=America/Detroit:20101011T180000
SUMMARY:Exercise / Fitness:UMove Class: Rock Climbing 101
DESCRIPTION:The Introduction to Movement on Rock class is a eight week long course covering the  basics of indoor rock climbing\, movement\, and balance. This course is geared toward  beginner and novice climbers\, no experience required. The fundamental purpose of the  course is to introduce students to rock climbing in a safe manner\, while providing  instruction on proper knot tying\, belaying\, rope management\, and basic rock climbing  technique.
UID:3280-910225@events.umich.edu
URL:https://events.umich.edu/event/3280
CLASS:PUBLIC
STATUS:CONFIRMED
CATEGORIES:
LOCATION:Intramural Sports Building - Climbing Wall
CONTACT:
END:VEVENT
BEGIN:VEVENT
DTSTAMP:20100826T223731
DTSTART;TZID=America/Detroit:20101011T170000
SUMMARY:Presentation:Writer Series
DESCRIPTION:Considered one of the Arab world's greatest living poets\, Adonis is the author of numerous collections\, including Mihyar of Damascus\; A Time Between Ashes and Roses\; If Only the Sea Could Sleep\; The Pages of Day and Night\; Transformations of the Lover\; The Book of the Five Poems\; The Blood of Adonis\, winner of the Syria-Lebanon Award of the International Poetry Forum\; Songs of Mihyar the Damascene\; Leaves in the Wind\, and First Poems. He is also an essayist\, an editor of anthologies\, a theoretician of poetics\, and the translator of several works from French into Arabic. Adonis's awards and honors include the first ever International NÃ¢zim Hikmet Poetry Award\, the Syria-Lebanon Best Poet Award\, and the Highest Award of the International Poem Biennial in Brussels. He has taught at the Lebanese University as a professor of Arabic literature\, at Damascus University\, and at the Sorbonne. He has been a Lebanese citizen since 1961 and currently lives in Paris.\n\nUMMA is pleased to be the site for the Department of English Program in Creative Writing Zell Visiting Writers Series\, which brings outstanding writers each semester. The Series is made possible through a generous gift from UM alumna Helen Zell ('64). For more information\, please see www.lsa.umich.edu/english/grad/mfa/mfaeve.asp.
UID:3378-909912@events.umich.edu
URL:https://events.umich.edu/event/3378
CLASS:PUBLIC
STATUS:CONFIRMED
CATEGORIES:literary arts
LOCATION:Museum of Art - Helmut Stern Auditorium
CONTACT:
END:VEVENT
BEGIN:VEVENT
DTSTAMP:20100818T103223
DTSTART;TZID=America/Detroit:20101011T171500
DTEND;TZID=America/Detroit:20101011T180000
SUMMARY:Presentation:Zell Visiting Writers Series: Adonis\, at 80
DESCRIPTION:Considered one of the Arab world's greatest living poets\, Adonis is the author of  numerous collections\, including Mihyar of Damascus\, A Time Between Ashes and  Roses\; If Only the Sea Could Sleep\; The Pages of Day and Night\; Transformations  of the Lover\; The Book of the Five Poems\; The Blood of Adonis\, winner of the Syria- Lebanon Award of the International Poetry Forum\; Songs of Mihyar the Damascene\,  Leaves in the Wind\, and First Poems. He is also an essayist\, an editor of  anthologies\, a theoretician of poetics\, and the translator of several works from  French into Arabic.  Adonis's awards and honors include the first ever International  NÃ¢zim Hikmet Poetry Award\, the Syria-Lebanon Best Poet Award\, and the Highest  Award of the International Poem Biennial in Brussels. He was elected as Stephen  Mallarme Academy Member in Paris in 1983. He has taught at the Lebanese  University as a professor of Arabic literature\, at Damascus University\, and at the  Sorbonne. He has been a Lebanese citizen since 1961 and currently lives in Paris.\n\nThe International Writer in Residence is sponsored by Helen Zell.
UID:3335-912787@events.umich.edu
URL:https://events.umich.edu/event/3335
CLASS:PUBLIC
STATUS:CONFIRMED
CATEGORIES:multicultural,literary arts
LOCATION:Museum of Art - Helmut Stern Auditorium
CONTACT:
END:VEVENT
BEGIN:VEVENT
DTSTAMP:20100929T102837
DTSTART;TZID=America/Detroit:20101011T180000
DTEND;TZID=America/Detroit:20101011T200000
SUMMARY:Well-being:Free and Anonymous HIV Testing
DESCRIPTION:Every Monday during the academic year\, a counselor from HARC\, the HIV/AIDS Resource Center\, is at the Spectrum Center from 6-8 pm offering free and anonymous HIV testing. The Spectrum Center is a welcoming and safe space for all seeking testing. For more information on HARC and testing\, call 800.578.2300\, 734.572.9355\, or visit them on the web at http://hivaidsresource.org/
UID:3894-909576@events.umich.edu
URL:https://events.umich.edu/event/3894
CLASS:PUBLIC
STATUS:CONFIRMED
CATEGORIES:social justice,respect
LOCATION:Michigan Union - Spectrum Center - 3200
CONTACT:
END:VEVENT
BEGIN:VEVENT
DTSTAMP:20100816T153945
DTSTART;TZID=America/Detroit:20101011T180000
DTEND;TZID=America/Detroit:20101011T200000
SUMMARY:Exercise / Fitness:UMove Class: Intro to Technique 201
DESCRIPTION:In this eight week class\, each class session will focus specifically on a new technique  and build on the previous sessions. Techniques include: Introduction to footwork and  climbing technique\; weight shifting and hip movement\; fundamental footwork: foot  switches and smearing\; sit starts\, mantles and one-armed mantles\; back-stepping and  flagging\; sidepulls\, underclings\, slopers and crimpers\; heel hooks\; reading sequences  and working problems.
UID:3281-914975@events.umich.edu
URL:https://events.umich.edu/event/3281
CLASS:PUBLIC
STATUS:CONFIRMED
CATEGORIES:
LOCATION:Intramural Sports Building - Climbing Wall
CONTACT:
END:VEVENT
BEGIN:VEVENT
DTSTAMP:20101111T175613
DTSTART;TZID=America/Detroit:20101011T190000
DTEND;TZID=America/Detroit:20101011T203000
SUMMARY:Film Screening:A Passing of the Torch
DESCRIPTION:A Passing of the Torch is an hour-long documentary that explores the grassroots effort organized by U-M students to push for the creation of the Peace Corps after Senator John F. Kennedy's inspiring late night speech on the steps of the Michigan Union on October 14\, 1960. This film captures the amazing set of circumstances\, efforts\, and coincidences that occurred\, as well as the extraordinary people that made it all happen. The Office of Vice President for Communications commissioned the film\, which premieres at this event. The film will then make its national television debut in October on the Big Ten Network\, and later in the fall on public television.
UID:3501-910111@events.umich.edu
URL:https://events.umich.edu/event/3501
CLASS:PUBLIC
STATUS:CONFIRMED
CATEGORIES:
LOCATION:Hatcher Graduate Library - Library Gallery (Room 100)
CONTACT:
END:VEVENT
BEGIN:VEVENT
DTSTAMP:20100720T180549
DTSTART;TZID=America/Detroit:20101011T200000
SUMMARY:Performance:Bell X1
DESCRIPTION:Named for the Bell X-1 supersonic aircraft\, Ireland's Bell X1 is second only to U2 in the all-time ranking of bands by airplay in their native country\, and since their music has started showing up on the likes of TV's \"The O.C.\" and \"Late Night with David Letterman\,\" they've snared a big U.S. fan base. Playing huge arenas in their home country\, they still like to help set up their own equipment on stage\, and their environmentally conscious activities include the purchase of carbon offsets for their tours. Bell X1's music has been compared to that of the Talking Heads\, and Dave Donnelly of the All Music Guide writes that \"Irish indie rock four-piece Bell X1 call to mind pre-electronic Radiohead and the more sedate side of Coldplay\, crafting tight\, melodic pop with introspective and witty lyrics.\"
UID:339-910382@events.umich.edu
URL:https://events.umich.edu/event/339
CLASS:PUBLIC
STATUS:CONFIRMED
CATEGORIES:music
LOCATION:
CONTACT:
END:VEVENT
BEGIN:VEVENT
DTSTAMP:20100929T110405
DTSTART;TZID=America/Detroit:20101011T200000
DTEND;TZID=America/Detroit:20101011T220000
SUMMARY:Meeting:Gender Explorers
DESCRIPTION:A social and support group for transgender\, transsexual\, genderqueer\, TG-questioning people and those who transgress gender binaries.\n\nThis safe\, open\, and affirming space includes discussion\, fellowship\, and significant others.\n\nThe group meets on the 2nd and 4th Monday of each month in the Spectrum Center.  To participate and to learn more\, email PJ at pajeho@umich.edu
UID:2680-920397@events.umich.edu
URL:https://events.umich.edu/event/2680
CLASS:PUBLIC
STATUS:CONFIRMED
CATEGORIES:multicultural,social justice,spectrumcenter
LOCATION:Michigan Union - 3200
CONTACT:
END:VEVENT
BEGIN:VEVENT
DTSTAMP:20101005T152758
DTSTART;TZID=America/Detroit:20101011T200000
DTEND;TZID=America/Detroit:20101011T210000
SUMMARY:Other:Survival Bingo
DESCRIPTION:This is not your grandma's bingo game. Come take a study break and play a fast-paced game of bingo for a chance to win prizes that will help you \"survive\" the term!
UID:3926-915713@events.umich.edu
URL:https://events.umich.edu/event/3926
CLASS:PUBLIC
STATUS:CONFIRMED
CATEGORIES:
LOCATION:Michigan Union - UClub
CONTACT:
END:VEVENT
END:VCALENDAR