BEGIN:VCALENDAR
VERSION:2.0
PRODID:-//UM//UM*Events//EN
CALSCALE:GREGORIAN
BEGIN:VTIMEZONE
TZID:America/Detroit
TZURL:http://tzurl.org/zoneinfo/America/Detroit
X-LIC-LOCATION:America/Detroit
BEGIN:DAYLIGHT
TZOFFSETFROM:-0500
TZOFFSETTO:-0400
TZNAME:EDT
DTSTART:20070311T020000
RRULE:FREQ=YEARLY;BYMONTH=3;BYDAY=2SU
END:DAYLIGHT
BEGIN:STANDARD
TZOFFSETFROM:-0400
TZOFFSETTO:-0500
TZNAME:EST
DTSTART:20071104T020000
RRULE:FREQ=YEARLY;BYMONTH=11;BYDAY=1SU
END:STANDARD
END:VTIMEZONE
BEGIN:VEVENT
DTSTAMP:20101111T175607
DTSTART;TZID=America/Detroit:20101012T000000
SUMMARY:Exhibition:U-M and the Peace Corps: It All Started Here
DESCRIPTION:This dynamic exhibit showcases the unique role of University of Michigan students and faculty in the creation and popularizing of the Peace Corps. As Sargent Shriver said\, \"It might still be just an idea but for”¦those Michigan students and faculty.\" The exhibit highlights the development of student activism as well as important historical events.\n\nNormal Library Hours: http://www.lib.umich.edu/hours/list.php?singlebuilding=4
UID:3498-909732@events.umich.edu
URL:https://events.umich.edu/event/3498
CLASS:PUBLIC
STATUS:CONFIRMED
CATEGORIES:
LOCATION:Hatcher Graduate Library - Library Gallery (Room 100)
CONTACT:
END:VEVENT
BEGIN:VEVENT
DTSTAMP:20101007T232728
DTSTART;TZID=America/Detroit:20101012T060000
SUMMARY:Other:Spectrum Center National Coming Out Week Scavenger Hunt!
DESCRIPTION:Celebrate National Coming Out Week with the Spectrum Center by participating in our week long scavenger  hunt!!  Only two simple steps to participate: Step 1: Grab your iPhone\, Android\, or iPod touch* and download the free SCVNGR app.   Step 2: Click on the \"Treks\" tab\, and there you will find the National Coming Out Week trek.   You are now ready to explore the campus and community with the Spectrum Center as your guide!  \n\nUsing the location feature on your phone\, the application will tell you places to go\, confirm when you are there\,  and give you challenges to complete.  Each challenge is worth points based on the difficulty.  The participants  in first\, second\, and third place will win fabulous prizes!  \n\nFollow the Spectrum Center on twitter at http://twitter.com/UMSpectrumCtr# to get updates about the  challenges\, the prizes\, and helpful hints.  \n\nIf you have questions\, visit http://scvngr.com\, http://spectrumcenter.umich.edu\,  or email jlbest@umich.edu.\n\n*If you would like to participate in the trek via SMS text messaging\, send the code ncow2010 to SCVNGR\, or  728647\, and you will be texted the first challenge.
UID:4011-912885@events.umich.edu
URL:https://events.umich.edu/event/4011
CLASS:PUBLIC
STATUS:CONFIRMED
CATEGORIES:
LOCATION:Michigan Union
CONTACT:
END:VEVENT
BEGIN:VEVENT
DTSTAMP:20101111T175853
DTSTART;TZID=America/Detroit:20101012T070000
SUMMARY:Exhibition:Peace Corps Photo Exhibit
DESCRIPTION:Come learn more about the University of Michigan's involvement in the founding of the U.S. Peace Corps\, through photos\, stories\, and other artifacts in this inspiring exhibit. As we celebrate the 50th anniversary of the Peace Corps and President Kennedy's speech on the steps of the Michigan Union\, this exhibit gives you a great opportunity to experience history.
UID:4009-921077@events.umich.edu
URL:https://events.umich.edu/event/4009
CLASS:PUBLIC
STATUS:CONFIRMED
CATEGORIES:visual arts
LOCATION:Michigan Union - Art Lounge
CONTACT:
END:VEVENT
BEGIN:VEVENT
DTSTAMP:20100927T141609
DTSTART;TZID=America/Detroit:20101012T080000
DTEND;TZID=America/Detroit:20101012T120000
SUMMARY:Exhibition:\"As I See It\" Photo Competition
DESCRIPTION:In honor of the Peace Corps' 50th anniversary\, \"Peace\" is the theme for October's \"As I See It\" photo competition. Students should submit photos by noon on October 8th. The exhibit will be up  from October 11–22. Cast your vote for your favorite photo online through the Arts At Michigan website  or in any of the three Unions\, and help a student photographer win cool prizes! All current University of Michigan students are eligible.
UID:3500-917898@events.umich.edu
URL:https://events.umich.edu/event/3500
CLASS:PUBLIC
STATUS:CONFIRMED
CATEGORIES:visual arts
LOCATION:Michigan Union - Lobby
CONTACT:
END:VEVENT
BEGIN:VEVENT
DTSTAMP:20100909T114609
DTSTART;TZID=America/Detroit:20101012T083000
DTEND;TZID=America/Detroit:20101012T190000
SUMMARY:Exhibition:From Trace to Text: Highlights from the U-M Papyrus Collection
DESCRIPTION:This exhibit provides a behind-the-scenes look at the work of papyrologists: how they conserve scraps of often badly damaged papyri\, decipher traces of ink\, read and translate the resulting text\, edit and interpret its contents\, and make this available to both scholars and the general public. Modern technology\, such as digitization and multi-spectral imaging\, is aiding papyrologists in all of these efforts.\n\nTexts on display are some of the highlights of the collection. They include a wonderful drawing of an elephant\, a letter from a newly enlisted soldier to his mother\, and\, of course\, some pages of the oldest manuscript with letters of St. Paul (one of the most famous texts of the collection).\n\nIn its 90-year history\, the University of Michigan Papyrus Collection has trained more students and scholars in the field of papyrology than any other institution in North America. Founded by the visionary Francis W. Kelsey\, the Papyrus Collection has been the training ground for papyrologists from around the world and home to many great resident scholars\, such as Herbert and Louise Youtie\, Ludwig Koenen\, and Traianos Gagos\, who died on April 26\, 2010.\n\nPapyrology is the field of scholarship that deciphers and studies the texts written –primarily on papyrus– by people living in the ancient Mediterranean world between 2\,500 BCE and 1\,000 CE. Most of these texts are found in Egypt where the climate is dry enough to preserve this fragile material. It is a highly specialized and technical field\, requiring intensive training in language (Egyptian\, ancient Greek\, Latin\, Arabic)\, history\, and the unique set of skills necessary for reading original documents.\n\nThe exhibit is open during Audubon Room hours: Sun 1-7pm\, Mon-Fri 8:30-7pm\, Sat 10am-6pm.\n\nThis Exhibit is in Honor of Traianos Gagos (1960-2010).
UID:3497-917738@events.umich.edu
URL:https://events.umich.edu/event/3497
CLASS:PUBLIC
STATUS:CONFIRMED
CATEGORIES:
LOCATION:Hatcher Graduate Library - Audubon Room
CONTACT:
END:VEVENT
BEGIN:VEVENT
DTSTAMP:20100902T202613
DTSTART;TZID=America/Detroit:20101012T090000
DTEND;TZID=America/Detroit:20101012T170000
SUMMARY:Exhibition:Lecture on the Weather
DESCRIPTION:This multi-media stage work by John Cage\, based on the texts of Henry David Thoreau\, brings together speech\, music\, film\, lighting\, and a weather soundscape to form a softly political piece as relevant today as the year it was written. \n\nCage (1912-1992) was well known as an experimental composer\, philosopher\, writer\, and visual artist. A protean figure of the postwar avant-garde\, Cage collaborated with Merce Cunningham and visual artists including Joseph Beuys\, Robert Rauschenberg\, and Nam June Paik.\n\nExhibit celebration is Nov. 3\, 5-7pm\, in the gallery.
UID:3471-916193@events.umich.edu
URL:https://events.umich.edu/event/3471
CLASS:PUBLIC
STATUS:CONFIRMED
CATEGORIES:music,visual arts,social justice,film
LOCATION:202 S. Thayer - Gallery
CONTACT:
END:VEVENT
BEGIN:VEVENT
DTSTAMP:20100817T114436
DTSTART;TZID=America/Detroit:20101012T100000
SUMMARY:Exhibition:On Beauty and the Everyday: The Prints of James McNeill Whistler
DESCRIPTION:UMMA's rare and important collection of James McNeill Whistler works on paper represents  one of the finest holdings of Whistler's graphic output in North America. This major exhibition  features more than 100 works of art from UMMA's Whistler collection\, which covers the  artist's entire career in Europe\, ranging from his student days and exposure to the vanguard  artistic movements of the 19th century to the groundbreaking and atmospheric lithographs  and etchings of his mature style. It is the first exhibition devoted to Whistler's works at  UMMA since 1994.\n\nNearly all of the Whistler works came to the Museum through the bequest of Margaret  Watson Parker\, an early collector of both Whistler's prints as well as Japanese art. The  exhibition explores Whistler's illustrious life and career\; his artistic themes and concerns\,  including portraiture and his well-known series from England\, Italy\, and France\; the interests  and legacy of early-20th-century Whistler collector Margaret Watson Parker\; and the tools  and techniques that Whistler employed as a printmaker.
UID:3291-921182@events.umich.edu
URL:https://events.umich.edu/event/3291
CLASS:PUBLIC
STATUS:CONFIRMED
CATEGORIES:visual arts
LOCATION:Museum of Art
CONTACT:
END:VEVENT
BEGIN:VEVENT
DTSTAMP:20101111T175737
DTSTART;TZID=America/Detroit:20101012T100000
SUMMARY:Exhibition:Out of the Ordinary: Selections from the Bohlen Wood Art and Fusfeld Folk Art Collections
DESCRIPTION:This exhibition\, which runs from September 11 through Spring of 2011\, allows visitors to  explore two extraordinary collections of art–the Robert M. and Lillian Montalto Bohlen  Collection of Wood Art and the Daniel and Harriet Fusfeld Folk Art Collection. The Bohlen  collection presents an astonishing range of contemporary artworks fashioned from wood and  includes works that explores traditional and non-traditional vessel forms as well as works that  are more purely sculptural. The outstanding objects that make up the Fusfeld collection are both  geographically and historically wide-ranging\, including work by early nineteenth-century  itinerant folk portraitists as well as late twentieth-century sculpture and painting by “outsider”  artists from the American South\, Midwest\, and Northeast.
UID:3293-916110@events.umich.edu
URL:https://events.umich.edu/event/3293
CLASS:PUBLIC
STATUS:CONFIRMED
CATEGORIES:visual arts
LOCATION:Museum of Art
CONTACT:
END:VEVENT
BEGIN:VEVENT
DTSTAMP:20101111T175654
DTSTART;TZID=America/Detroit:20101012T100000
SUMMARY:Exhibition:UMMA Projects: Jakob Kolding
DESCRIPTION:UMMA is pleased to present the first solo exhibition in a North American museum of Berlin- based artist Jakob Kolding. Kolding's work revolves around the experience of life in the  contemporary built environment\, particularly the relationships and contradictions that emerge  between how architectural spaces are planned and how they are actively used. His collages\,  drawings\, posters\, and mixed-media sculptures incorporate a wide range of source material\,  sampling and mixing the visual idiom of modernist art and architecture\, the language of  sociological inquiry\, and such popular cultural forms as hip-hop and electronic music\,  skateboarding\, and soccer. Kolding's dynamic compositions encourage us to actively question  the relationship between space and behavior\, and to imagine forms of self-expression that  use the built environment in creative new ways.
UID:3292-913260@events.umich.edu
URL:https://events.umich.edu/event/3292
CLASS:PUBLIC
STATUS:CONFIRMED
CATEGORIES:visual arts
LOCATION:Museum of Art
CONTACT:
END:VEVENT
BEGIN:VEVENT
DTSTAMP:20100930T155754
DTSTART;TZID=America/Detroit:20101012T120000
DTEND;TZID=America/Detroit:20101012T180000
SUMMARY:Exhibition:Affinity of Form
DESCRIPTION:A photography exhibition by Stanford Lipsey will open on Thursday\, October 7 and  will run through Tuesday\, November 2\, 2010. The exhibition of 45 digital images\,  titled “Affinity of Form” (which also is the title of his recently published book)\, uses  the juxtaposition of photographs to build a comparative concept within a set of two  images. Lipsey graduated from the University of Michigan in 1948 with a degree in  economics and while a student here he was a photographer for the Michigan Daily  and Photography Editor for the Michiganensian.  The Student Publications Building  was named for Stanford Lipsey in 2005.
UID:3907-915725@events.umich.edu
URL:https://events.umich.edu/event/3907
CLASS:PUBLIC
STATUS:CONFIRMED
CATEGORIES:visual arts
LOCATION:Duderstadt Center - Gallery
CONTACT:
END:VEVENT
BEGIN:VEVENT
DTSTAMP:20100810T175700
DTSTART;TZID=America/Detroit:20101012T160000
DTEND;TZID=America/Detroit:20101012T173000
SUMMARY:Lecture / Discussion:European Dimension of the Global Crisis
DESCRIPTION:Marek Belka is President of the National Bank of Poland and former Director of the IMF's European Department. He was previously Under-Secretary General at the United Nations and Executive Secretary of the UN Economic Commission for Europe. Belka served as the Prime Minister of Poland from 2004-05\, and was Poland's Deputy Prime Minister in 1997 and Minister of Finance from 2001-02.
UID:3254-920914@events.umich.edu
URL:https://events.umich.edu/event/3254
CLASS:PUBLIC
STATUS:CONFIRMED
CATEGORIES:
LOCATION:School of Social Work Building - 1636
CONTACT:
END:VEVENT
BEGIN:VEVENT
DTSTAMP:20100921T162957
DTSTART;TZID=America/Detroit:20101012T160000
SUMMARY:Lecture / Discussion:Lynn A. Hunt
DESCRIPTION:Thinking about Change in the Global Era” – Is change a social event or something  that happens first in individual minds? Do we think about change differently now  that we think of ourselves as living in an era of globalization? Using three examples  from her recent work – human rights\, notions about the meaning of time\, and  religious toleration – Hunt considers some of the basic conceptual dilemmas  inherent in writing history and in thinking about change more generally. The  perspective is not one of abstract philosophy\, however\; the focus is on specific  stories\, why they matter\, and how we tell them.
UID:3736-921312@events.umich.edu
URL:https://events.umich.edu/event/3736
CLASS:PUBLIC
STATUS:CONFIRMED
CATEGORIES:social justice
LOCATION:Rackham Graduate School (Horace H.) - Fourth Floor
CONTACT:
END:VEVENT
BEGIN:VEVENT
DTSTAMP:20100823T213044
DTSTART;TZID=America/Detroit:20101012T160000
DTEND;TZID=America/Detroit:20101012T190000
SUMMARY:Fair / Festival:The Career Center's Graduate School Information Fair
DESCRIPTION:The Career Center's Graduate School Information Fair is designed to facilitate the connection and distribution of information between graduate schools/programs from across the country and students. A list of the 110+ schools scheduled to attend will be available on our website at careercenter.umich.edu
UID:377-909847@events.umich.edu
URL:https://events.umich.edu/event/377
CLASS:PUBLIC
STATUS:CONFIRMED
CATEGORIES:
LOCATION:Michigan Union - Second Floor
CONTACT:
END:VEVENT
BEGIN:VEVENT
DTSTAMP:20101111T175632
DTSTART;TZID=America/Detroit:20101012T170000
DTEND;TZID=America/Detroit:20101012T190000
SUMMARY:Reception / Open House:UM Lesbian Gay Bisexual Transgender Faculty Alliance (UMFA)
DESCRIPTION:October 12\, 2010 (Tuesday) UM Lesbian Gay Bisexual Transgender Faculty Alliance (UMFA) -- Annual faculty  reception\, 5:00 - 7:00 p.m.\, Rackham Building\, East Conference Room (fourth  floor).   Annual reception and brief meeting for UM faculty who are LGBT or interested in  LGBT issues related to faculty roles and activities.  Supported by funding from the  Provost's Office.  Information will be mailed to all faculty.   For additional information:  R. Van Harrison\, PhD\, 763-1401\, rvh@umich.edu.
UID:3484-911583@events.umich.edu
URL:https://events.umich.edu/event/3484
CLASS:PUBLIC
STATUS:CONFIRMED
CATEGORIES:
LOCATION:Rackham Graduate School (Horace H.) - East Conference Room (fourth floor)
CONTACT:
END:VEVENT
BEGIN:VEVENT
DTSTAMP:20101111T175603
DTSTART;TZID=America/Detroit:20101012T170000
DTEND;TZID=America/Detroit:20101012T190000
SUMMARY:Reception / Open House:UM Lesbian Gay Bisexual Transgender Faculty Alliance (UMFA) – Annual Faculty Reception
DESCRIPTION:Annual reception and brief meeting (about 6 pm) for UM faculty and deans who are LGBT or interested in issues related to LGBT faculty.
UID:3480-909436@events.umich.edu
URL:https://events.umich.edu/event/3480
CLASS:PUBLIC
STATUS:CONFIRMED
CATEGORIES:
LOCATION:Rackham Graduate School (Horace H.) - East Conference Room, 4th floor
CONTACT:
END:VEVENT
BEGIN:VEVENT
DTSTAMP:20100928T135048
DTSTART;TZID=America/Detroit:20101012T190000
SUMMARY:Film Screening:Atumpan:
DESCRIPTION:The story and sounds of the talking master drums of the Ashanti.  In observance of the Peace Corps 50th year celebration\, James Acheampong\, the chief drum maker at the Centre for National Culture of Ghana (Kumasi) crafted a specially commissioned set of Fontomfrom drums–the drums that symbolize the rank and status of chiefs\, announce the opening of parliament\, and have the capability of speech.  Now part of the permanent collection of the University of Michigan School of Music\, Theatre\, and Dance\, the drums will be heard at key points during the 50th-year celebration at U-M.  Sponsors:  African Studies Center\; Office of the Senior Vice Provost.
UID:3760-916889@events.umich.edu
URL:https://events.umich.edu/event/3760
CLASS:PUBLIC
STATUS:CONFIRMED
CATEGORIES:
LOCATION:School of Social Work Building - 1636
CONTACT:
END:VEVENT
BEGIN:VEVENT
DTSTAMP:20101111T175656
DTSTART;TZID=America/Detroit:20101012T190000
DTEND;TZID=America/Detroit:20101012T210000
SUMMARY:Exhibition:Gleek Out @ Pierpont
DESCRIPTION:Join your fellow Michigan \"Gleeks\" at our weekly Glee watch party! Held every Tuesday\, from 7-9 pm in the Pierpont Commons TV lounge (near UGo's)\, this event will become a regular favorite for all the UM Glee fans out there.\n\nEach week we'll have a different competition to find Michigan's biggest Gleeks\, then watch the show together. (Because we get it. It's awesome.)\n\nHere's the schedule of Gleek Competitions:\n\n10/12-Best McKinley HS Cheer 10/26-Sue Sylvester Zing-Off 11/2-Dress as Your Fave Character Costume Contest 11/9-Name that Glee Tune 11/16-Slushie Eating Contest 11/30-Glee Karaoke Contest 12/7-Extreme Glee Trivia\n\nCome prepared to show your stuff\, and be crowned Michigan's Biggest Gleek!
UID:4007-913341@events.umich.edu
URL:https://events.umich.edu/event/4007
CLASS:PUBLIC
STATUS:CONFIRMED
CATEGORIES:visual arts
LOCATION:Pierpont Commons - TV Lounge (Near UGo&#039;s)
CONTACT:
END:VEVENT
BEGIN:VEVENT
DTSTAMP:20101111T175837
DTSTART;TZID=America/Detroit:20101012T193000
DTEND;TZID=America/Detroit:20101012T210000
SUMMARY:Lecture / Discussion:Materiality Matters: Experiencing the Displayed Object
DESCRIPTION:Addresses sensory and emotional dimensions of people's experience of material  objects in museum settings.  Lecture explores what happens when museum visitors  are able to engage with objects in multiple\, sensual ways.  Dudley asserts that even  culturally de-contextualized artifacts can be experienced in important physical and  emotional ways.
UID:3746-920194@events.umich.edu
URL:https://events.umich.edu/event/3746
CLASS:PUBLIC
STATUS:CONFIRMED
CATEGORIES:
LOCATION:Museum of Art - Helmut Stern Auditorium
CONTACT:
END:VEVENT
BEGIN:VEVENT
DTSTAMP:20100902T201924
DTSTART;TZID=America/Detroit:20101012T200000
DTEND;TZID=America/Detroit:20101012T230000
SUMMARY:Exhibition:ArtsBreak
DESCRIPTION:Come explore your creative side and make free crafts at ArtsBreak! Held every Tuesday night\, these drop-in events give you the chance to relieve some stress by making a cool\, totally free craft project. Stop by anytime between 8-11 p.m.\n\nFor the most up-to-date list of projects\, check out our website at: http://www.umich.edu/~uuap.
UID:3466-918978@events.umich.edu
URL:https://events.umich.edu/event/3466
CLASS:PUBLIC
STATUS:CONFIRMED
CATEGORIES:visual arts
LOCATION:Michigan Union - MUG (Ground Floor)
CONTACT:
END:VEVENT
BEGIN:VEVENT
DTSTAMP:20101111T175719
DTSTART;TZID=America/Detroit:20101012T200000
SUMMARY:Performance:Nick Lowe & His Band
DESCRIPTION:
UID:1283-914920@events.umich.edu
URL:https://events.umich.edu/event/1283
CLASS:PUBLIC
STATUS:CONFIRMED
CATEGORIES:music
LOCATION:
CONTACT:
END:VEVENT
END:VCALENDAR