BEGIN:VCALENDAR
VERSION:2.0
PRODID:-//UM//UM*Events//EN
CALSCALE:GREGORIAN
BEGIN:VTIMEZONE
TZID:America/Detroit
TZURL:http://tzurl.org/zoneinfo/America/Detroit
X-LIC-LOCATION:America/Detroit
BEGIN:DAYLIGHT
TZOFFSETFROM:-0500
TZOFFSETTO:-0400
TZNAME:EDT
DTSTART:20070311T020000
RRULE:FREQ=YEARLY;BYMONTH=3;BYDAY=2SU
END:DAYLIGHT
BEGIN:STANDARD
TZOFFSETFROM:-0400
TZOFFSETTO:-0500
TZNAME:EST
DTSTART:20071104T020000
RRULE:FREQ=YEARLY;BYMONTH=11;BYDAY=1SU
END:STANDARD
END:VTIMEZONE
BEGIN:VEVENT
DTSTAMP:20101111T175607
DTSTART;TZID=America/Detroit:20101015T000000
SUMMARY:Exhibition:U-M and the Peace Corps: It All Started Here
DESCRIPTION:This dynamic exhibit showcases the unique role of University of Michigan students and faculty in the creation and popularizing of the Peace Corps. As Sargent Shriver said\, \"It might still be just an idea but for”¦those Michigan students and faculty.\" The exhibit highlights the development of student activism as well as important historical events.\n\nNormal Library Hours: http://www.lib.umich.edu/hours/list.php?singlebuilding=4
UID:3498-909735@events.umich.edu
URL:https://events.umich.edu/event/3498
CLASS:PUBLIC
STATUS:CONFIRMED
CATEGORIES:
LOCATION:Hatcher Graduate Library - Library Gallery (Room 100)
CONTACT:
END:VEVENT
BEGIN:VEVENT
DTSTAMP:20101007T232728
DTSTART;TZID=America/Detroit:20101015T060000
SUMMARY:Other:Spectrum Center National Coming Out Week Scavenger Hunt!
DESCRIPTION:Celebrate National Coming Out Week with the Spectrum Center by participating in our week long scavenger  hunt!!  Only two simple steps to participate: Step 1: Grab your iPhone\, Android\, or iPod touch* and download the free SCVNGR app.   Step 2: Click on the \"Treks\" tab\, and there you will find the National Coming Out Week trek.   You are now ready to explore the campus and community with the Spectrum Center as your guide!  \n\nUsing the location feature on your phone\, the application will tell you places to go\, confirm when you are there\,  and give you challenges to complete.  Each challenge is worth points based on the difficulty.  The participants  in first\, second\, and third place will win fabulous prizes!  \n\nFollow the Spectrum Center on twitter at http://twitter.com/UMSpectrumCtr# to get updates about the  challenges\, the prizes\, and helpful hints.  \n\nIf you have questions\, visit http://scvngr.com\, http://spectrumcenter.umich.edu\,  or email jlbest@umich.edu.\n\n*If you would like to participate in the trek via SMS text messaging\, send the code ncow2010 to SCVNGR\, or  728647\, and you will be texted the first challenge.
UID:4011-912888@events.umich.edu
URL:https://events.umich.edu/event/4011
CLASS:PUBLIC
STATUS:CONFIRMED
CATEGORIES:
LOCATION:Michigan Union
CONTACT:
END:VEVENT
BEGIN:VEVENT
DTSTAMP:20101111T175853
DTSTART;TZID=America/Detroit:20101015T070000
SUMMARY:Exhibition:Peace Corps Photo Exhibit
DESCRIPTION:Come learn more about the University of Michigan's involvement in the founding of the U.S. Peace Corps\, through photos\, stories\, and other artifacts in this inspiring exhibit. As we celebrate the 50th anniversary of the Peace Corps and President Kennedy's speech on the steps of the Michigan Union\, this exhibit gives you a great opportunity to experience history.
UID:4009-921080@events.umich.edu
URL:https://events.umich.edu/event/4009
CLASS:PUBLIC
STATUS:CONFIRMED
CATEGORIES:visual arts
LOCATION:Michigan Union - Art Lounge
CONTACT:
END:VEVENT
BEGIN:VEVENT
DTSTAMP:20100927T141609
DTSTART;TZID=America/Detroit:20101015T080000
DTEND;TZID=America/Detroit:20101015T120000
SUMMARY:Exhibition:\"As I See It\" Photo Competition
DESCRIPTION:In honor of the Peace Corps' 50th anniversary\, \"Peace\" is the theme for October's \"As I See It\" photo competition. Students should submit photos by noon on October 8th. The exhibit will be up  from October 11–22. Cast your vote for your favorite photo online through the Arts At Michigan website  or in any of the three Unions\, and help a student photographer win cool prizes! All current University of Michigan students are eligible.
UID:3500-917901@events.umich.edu
URL:https://events.umich.edu/event/3500
CLASS:PUBLIC
STATUS:CONFIRMED
CATEGORIES:visual arts
LOCATION:Michigan Union - Lobby
CONTACT:
END:VEVENT
BEGIN:VEVENT
DTSTAMP:20101111T175817
DTSTART;TZID=America/Detroit:20101015T080000
DTEND;TZID=America/Detroit:20101015T100000
SUMMARY:Performance:SO THE ARROW FLIES
DESCRIPTION:A North Korean spy              		 The Korean-American FBI Agent who chases her 												  Who will get hit first?\n\nEsther\, who will receive an Alumni Emerging Artist Award on October 15 from the School of Music\, Theatre & Dance\, is a  graduate of the University of Michigan\, earning her MA degree and going on to earn her MFA at the Yale Drama  School. Esther plays all four characters in this play that explores the relationship between the investigating FBI Agent\,  Park\, and Catherine\, a North Korean National Actor exiled to South Korea who becomes an FBI intelligence asset\, with  a secret life as a possible double agent for North Korea. The two other characters are Mina\, Catherine's 12 year-old  half Korean/half Caucasian-American daughter and Mrs. Park\, Agent Park's elderly mother whose trenchant  observations about life and wartime draw upon her memories  of the Korean war. Attendees are invited to a post- performance talk-back. ADMISSION IS FREE\, BUT SEATING IS LIMITED TO 100. SPREAD THE WORD!
UID:3786-919058@events.umich.edu
URL:https://events.umich.edu/event/3786
CLASS:PUBLIC
STATUS:CONFIRMED
CATEGORIES:theater,social justice,multicultural
LOCATION:Walgreen Drama Center - Studio I
CONTACT:
END:VEVENT
BEGIN:VEVENT
DTSTAMP:20100909T114609
DTSTART;TZID=America/Detroit:20101015T083000
DTEND;TZID=America/Detroit:20101015T190000
SUMMARY:Exhibition:From Trace to Text: Highlights from the U-M Papyrus Collection
DESCRIPTION:This exhibit provides a behind-the-scenes look at the work of papyrologists: how they conserve scraps of often badly damaged papyri\, decipher traces of ink\, read and translate the resulting text\, edit and interpret its contents\, and make this available to both scholars and the general public. Modern technology\, such as digitization and multi-spectral imaging\, is aiding papyrologists in all of these efforts.\n\nTexts on display are some of the highlights of the collection. They include a wonderful drawing of an elephant\, a letter from a newly enlisted soldier to his mother\, and\, of course\, some pages of the oldest manuscript with letters of St. Paul (one of the most famous texts of the collection).\n\nIn its 90-year history\, the University of Michigan Papyrus Collection has trained more students and scholars in the field of papyrology than any other institution in North America. Founded by the visionary Francis W. Kelsey\, the Papyrus Collection has been the training ground for papyrologists from around the world and home to many great resident scholars\, such as Herbert and Louise Youtie\, Ludwig Koenen\, and Traianos Gagos\, who died on April 26\, 2010.\n\nPapyrology is the field of scholarship that deciphers and studies the texts written –primarily on papyrus– by people living in the ancient Mediterranean world between 2\,500 BCE and 1\,000 CE. Most of these texts are found in Egypt where the climate is dry enough to preserve this fragile material. It is a highly specialized and technical field\, requiring intensive training in language (Egyptian\, ancient Greek\, Latin\, Arabic)\, history\, and the unique set of skills necessary for reading original documents.\n\nThe exhibit is open during Audubon Room hours: Sun 1-7pm\, Mon-Fri 8:30-7pm\, Sat 10am-6pm.\n\nThis Exhibit is in Honor of Traianos Gagos (1960-2010).
UID:3497-917741@events.umich.edu
URL:https://events.umich.edu/event/3497
CLASS:PUBLIC
STATUS:CONFIRMED
CATEGORIES:
LOCATION:Hatcher Graduate Library - Audubon Room
CONTACT:
END:VEVENT
BEGIN:VEVENT
DTSTAMP:20100902T202613
DTSTART;TZID=America/Detroit:20101015T090000
DTEND;TZID=America/Detroit:20101015T170000
SUMMARY:Exhibition:Lecture on the Weather
DESCRIPTION:This multi-media stage work by John Cage\, based on the texts of Henry David Thoreau\, brings together speech\, music\, film\, lighting\, and a weather soundscape to form a softly political piece as relevant today as the year it was written. \n\nCage (1912-1992) was well known as an experimental composer\, philosopher\, writer\, and visual artist. A protean figure of the postwar avant-garde\, Cage collaborated with Merce Cunningham and visual artists including Joseph Beuys\, Robert Rauschenberg\, and Nam June Paik.\n\nExhibit celebration is Nov. 3\, 5-7pm\, in the gallery.
UID:3471-916196@events.umich.edu
URL:https://events.umich.edu/event/3471
CLASS:PUBLIC
STATUS:CONFIRMED
CATEGORIES:visual arts,film,music,social justice
LOCATION:202 S. Thayer - Gallery
CONTACT:
END:VEVENT
BEGIN:VEVENT
DTSTAMP:20100817T114436
DTSTART;TZID=America/Detroit:20101015T100000
SUMMARY:Exhibition:On Beauty and the Everyday: The Prints of James McNeill Whistler
DESCRIPTION:UMMA's rare and important collection of James McNeill Whistler works on paper represents  one of the finest holdings of Whistler's graphic output in North America. This major exhibition  features more than 100 works of art from UMMA's Whistler collection\, which covers the  artist's entire career in Europe\, ranging from his student days and exposure to the vanguard  artistic movements of the 19th century to the groundbreaking and atmospheric lithographs  and etchings of his mature style. It is the first exhibition devoted to Whistler's works at  UMMA since 1994.\n\nNearly all of the Whistler works came to the Museum through the bequest of Margaret  Watson Parker\, an early collector of both Whistler's prints as well as Japanese art. The  exhibition explores Whistler's illustrious life and career\; his artistic themes and concerns\,  including portraiture and his well-known series from England\, Italy\, and France\; the interests  and legacy of early-20th-century Whistler collector Margaret Watson Parker\; and the tools  and techniques that Whistler employed as a printmaker.
UID:3291-921185@events.umich.edu
URL:https://events.umich.edu/event/3291
CLASS:PUBLIC
STATUS:CONFIRMED
CATEGORIES:visual arts
LOCATION:Museum of Art
CONTACT:
END:VEVENT
BEGIN:VEVENT
DTSTAMP:20101111T175737
DTSTART;TZID=America/Detroit:20101015T100000
SUMMARY:Exhibition:Out of the Ordinary: Selections from the Bohlen Wood Art and Fusfeld Folk Art Collections
DESCRIPTION:This exhibition\, which runs from September 11 through Spring of 2011\, allows visitors to  explore two extraordinary collections of art–the Robert M. and Lillian Montalto Bohlen  Collection of Wood Art and the Daniel and Harriet Fusfeld Folk Art Collection. The Bohlen  collection presents an astonishing range of contemporary artworks fashioned from wood and  includes works that explores traditional and non-traditional vessel forms as well as works that  are more purely sculptural. The outstanding objects that make up the Fusfeld collection are both  geographically and historically wide-ranging\, including work by early nineteenth-century  itinerant folk portraitists as well as late twentieth-century sculpture and painting by “outsider”  artists from the American South\, Midwest\, and Northeast.
UID:3293-916113@events.umich.edu
URL:https://events.umich.edu/event/3293
CLASS:PUBLIC
STATUS:CONFIRMED
CATEGORIES:visual arts
LOCATION:Museum of Art
CONTACT:
END:VEVENT
BEGIN:VEVENT
DTSTAMP:20101111T175654
DTSTART;TZID=America/Detroit:20101015T100000
SUMMARY:Exhibition:UMMA Projects: Jakob Kolding
DESCRIPTION:UMMA is pleased to present the first solo exhibition in a North American museum of Berlin- based artist Jakob Kolding. Kolding's work revolves around the experience of life in the  contemporary built environment\, particularly the relationships and contradictions that emerge  between how architectural spaces are planned and how they are actively used. His collages\,  drawings\, posters\, and mixed-media sculptures incorporate a wide range of source material\,  sampling and mixing the visual idiom of modernist art and architecture\, the language of  sociological inquiry\, and such popular cultural forms as hip-hop and electronic music\,  skateboarding\, and soccer. Kolding's dynamic compositions encourage us to actively question  the relationship between space and behavior\, and to imagine forms of self-expression that  use the built environment in creative new ways.
UID:3292-913263@events.umich.edu
URL:https://events.umich.edu/event/3292
CLASS:PUBLIC
STATUS:CONFIRMED
CATEGORIES:visual arts
LOCATION:Museum of Art
CONTACT:
END:VEVENT
BEGIN:VEVENT
DTSTAMP:20100930T155754
DTSTART;TZID=America/Detroit:20101015T120000
DTEND;TZID=America/Detroit:20101015T180000
SUMMARY:Exhibition:Affinity of Form
DESCRIPTION:A photography exhibition by Stanford Lipsey will open on Thursday\, October 7 and  will run through Tuesday\, November 2\, 2010. The exhibition of 45 digital images\,  titled “Affinity of Form” (which also is the title of his recently published book)\, uses  the juxtaposition of photographs to build a comparative concept within a set of two  images. Lipsey graduated from the University of Michigan in 1948 with a degree in  economics and while a student here he was a photographer for the Michigan Daily  and Photography Editor for the Michiganensian.  The Student Publications Building  was named for Stanford Lipsey in 2005.
UID:3907-915728@events.umich.edu
URL:https://events.umich.edu/event/3907
CLASS:PUBLIC
STATUS:CONFIRMED
CATEGORIES:visual arts
LOCATION:Duderstadt Center - Gallery
CONTACT:
END:VEVENT
BEGIN:VEVENT
DTSTAMP:20101111T175738
DTSTART;TZID=America/Detroit:20101015T130000
DTEND;TZID=America/Detroit:20101015T143000
SUMMARY:Lecture / Discussion:History of the Peace Corps
DESCRIPTION:Hear an eyewitness account of JFK's speech and the campus events that followed leading to the creation of the Peace Corps\, and then hear about the growth and development of the Peace Corps over the past fifty years. Presenters are Alan Guskin (U-M alumnus and RPCV-Thailand)\, Jody K. Olsen (former Deputy Director of the Peace Corps\, RPCV and Visiting Professor at the U. of Maryland)\, and Stanley Meisler (former Peace Corps staff member and author of When the World Calls: The Inside Story of the Peace Corps and Its First Fifty Years).
UID:3514-916215@events.umich.edu
URL:https://events.umich.edu/event/3514
CLASS:PUBLIC
STATUS:CONFIRMED
CATEGORIES:
LOCATION:Hatcher Graduate Library - Library Gallery (Room 100)
CONTACT:
END:VEVENT
BEGIN:VEVENT
DTSTAMP:20101111T175650
DTSTART;TZID=America/Detroit:20101015T150000
DTEND;TZID=America/Detroit:20101015T170000
SUMMARY:Presentation:Engineers in the Peace Corps: A Conversation with College of Engineering Alumni
DESCRIPTION:Join College of Engineering Alumni as they share their experiences from the Peace Corps and discuss the role of engineering in service to society. A reception will follow in the Chesebrough Lobby. This event is sponsored by the College of Engineering and the Society of Global Engineers. For more information\, contact Amy Conger by email at:aconger@umich.edu. Please RSVP on-line.
UID:3559-912912@events.umich.edu
URL:https://events.umich.edu/event/3559
CLASS:PUBLIC
STATUS:CONFIRMED
CATEGORIES:
LOCATION:Chrysler Center - Chesebrough Auditorium
CONTACT:
END:VEVENT
BEGIN:VEVENT
DTSTAMP:20101111T175744
DTSTART;TZID=America/Detroit:20101015T150000
SUMMARY:Exercise / Fitness:Fall Break Backpacking (Beginner)
DESCRIPTION:Hike along the scenic shore of Lake Superior at Pictured Rocks National Lakeshore\,  located on the Northwestern edge of Michigan's Upper Peninsula. Enjoy spending time  outdoors\, immersed in the beautiful Michigan fall colors. View the stunning cliffs that  drop straight into the lake.
UID:3046-916591@events.umich.edu
URL:https://events.umich.edu/event/3046
CLASS:PUBLIC
STATUS:CONFIRMED
CATEGORIES:
LOCATION:
CONTACT:
END:VEVENT
BEGIN:VEVENT
DTSTAMP:20100723T143905
DTSTART;TZID=America/Detroit:20101015T150000
SUMMARY:Exercise / Fitness:Fall Break Backpacking (Intermediate)
DESCRIPTION:Hike along the scenic shore of Lake Superior at Pictured Rocks National Lakeshore\,  located on the Northwestern edge of Michigan's Upper Peninsula. Enjoy spending time  outdoors\, immersed in the beautiful Michigan fall colors. View the stunning cliffs that  drop straight into the lake.
UID:3047-921136@events.umich.edu
URL:https://events.umich.edu/event/3047
CLASS:PUBLIC
STATUS:CONFIRMED
CATEGORIES:
LOCATION:
CONTACT:
END:VEVENT
BEGIN:VEVENT
DTSTAMP:20101111T175657
DTSTART;TZID=America/Detroit:20101015T150000
SUMMARY:Exercise / Fitness:Fall Break Backpacking in Canada
DESCRIPTION:Hike along the Georgian Bay in the scenic Bruce Peninsula National Park in Ontario\,  Canada. Enjoy spending time outdoors\, among thousand-year-old cedar trees in the  largest remaining natural habitat in southern Ontario. View the rugged cliffs of the  Niagara Escarpment that drop straight into the crystal clear waters of the Georgian Bay  and the unique rock formations created from thousands of years of interaction between  the land and the sea.
UID:3048-913491@events.umich.edu
URL:https://events.umich.edu/event/3048
CLASS:PUBLIC
STATUS:CONFIRMED
CATEGORIES:
LOCATION:
CONTACT:
END:VEVENT
BEGIN:VEVENT
DTSTAMP:20101111T175848
DTSTART;TZID=America/Detroit:20101015T150000
DTEND;TZID=America/Detroit:20101015T163000
SUMMARY:Presentation:Peace Corps Authors
DESCRIPTION:U-M alumni who wrote books and or poetry about their Peace Corps experience will discuss the effect and impact of the Peace Corps on their writing. Presenters will include Terry Sack (Bolivia 1963–65)\; Jan Worth-Nelson (Tonga 1976–78)\; and John Flynn (Moldova 1993–95).
UID:3558-920747@events.umich.edu
URL:https://events.umich.edu/event/3558
CLASS:PUBLIC
STATUS:CONFIRMED
CATEGORIES:
LOCATION:Hatcher Graduate Library - Library Gallery (Room 100)
CONTACT:
END:VEVENT
BEGIN:VEVENT
DTSTAMP:20101111T175650
DTSTART;TZID=America/Detroit:20101015T150000
SUMMARY:Exercise / Fitness:Rock Climbing in West Virginia
DESCRIPTION:Get away with Outdoor Adventures as we venture to West Virginia for some epic  climbing. Within the 63\,000 acres of New River Gorge National River are over 1\,400  established rock climbs. \"The New\" has become one of the most popular climbing areas  in the country. The cliffs at New River Gorge are made up of a very hard sandstone\, and  range from 30 to 120 feet in height. We will climb\, camp\, and explore the beautiful  river gorge area.
UID:3050-912896@events.umich.edu
URL:https://events.umich.edu/event/3050
CLASS:PUBLIC
STATUS:CONFIRMED
CATEGORIES:
LOCATION:
CONTACT:
END:VEVENT
BEGIN:VEVENT
DTSTAMP:20101111T175758
DTSTART;TZID=America/Detroit:20101015T150000
SUMMARY:Exercise / Fitness:Sailing on East Coast
DESCRIPTION:Come join Outdoor Adventures as we travel to Newport Harbor\, Rhode Island. Sail the  way you've dreamt about it! Consistent breeze\, gorgeous beaches\, incredible islands\,  great yachts\, and first class charter service as you enjoy wonderful sailing and  unexpected comforts as you cruise the New England waters. Spend two days on the  Beneteau 42' sailboat that cruises at a comfortable seven to eight knots. We will  explore a beautiful island and relax out on the water. We will spend the last night  camping before we head back to Ann Arbor\, refreshed.
UID:3051-917474@events.umich.edu
URL:https://events.umich.edu/event/3051
CLASS:PUBLIC
STATUS:CONFIRMED
CATEGORIES:
LOCATION:
CONTACT:
END:VEVENT
BEGIN:VEVENT
DTSTAMP:20101111T175610
DTSTART;TZID=America/Detroit:20101015T150000
SUMMARY:Exercise / Fitness:Wild Cave Tour in Kentucky!
DESCRIPTION:The Mammoth Cave Exploration will uncover the hidden secrets of the world's longest  cave system! We spend one day hiking above ground exploring sink holes and the  Green River which formed the caves. Then\, we spend a day inside the cave itself  learning safe caving techniques\, climbing up cave walls and through tight crawlway  openings in order to see the majestic sights of Kentucky's underground wonder\, which  include Carmichael Entrance\, Cleveland Avenue\, Split Rock\, Snowball Room\, Boone  Avenue\, and Frozen Niagara.
UID:3049-909897@events.umich.edu
URL:https://events.umich.edu/event/3049
CLASS:PUBLIC
STATUS:CONFIRMED
CATEGORIES:
LOCATION:
CONTACT:
END:VEVENT
BEGIN:VEVENT
DTSTAMP:20101111T175758
DTSTART;TZID=America/Detroit:20101015T170000
DTEND;TZID=America/Detroit:20101015T190000
SUMMARY:Other:Happy Hour for RPCVs and Their Families and Friends
DESCRIPTION:
UID:3560-917483@events.umich.edu
URL:https://events.umich.edu/event/3560
CLASS:PUBLIC
STATUS:CONFIRMED
CATEGORIES:
LOCATION:
CONTACT:
END:VEVENT
BEGIN:VEVENT
DTSTAMP:20101111T175609
DTSTART;TZID=America/Detroit:20101015T180000
DTEND;TZID=America/Detroit:20101015T210000
SUMMARY:Exhibition:U-M Alumni/Returned Peace Corps Volunteer Exhibition
DESCRIPTION:The University of Michigan School of Art & Design invites submissions of work in all media for a 50th anniversary celebratory exhibition of work by U-M alumni who are Returned Peace Corps Volunteers. Creative work should reflect or respond to the Peace Corps experience. Submitted work will be juried by a committee drawn from the School of Art & Design community. Submittal information @ http://art-design.umich.edu/exhibitions/submit/peace_corps_alumni_exhibition.
UID:3561-909872@events.umich.edu
URL:https://events.umich.edu/event/3561
CLASS:PUBLIC
STATUS:CONFIRMED
CATEGORIES:
LOCATION:Art and Architecture Building - Slusser Gallery
CONTACT:
END:VEVENT
BEGIN:VEVENT
DTSTAMP:20101111T175813
DTSTART;TZID=America/Detroit:20101015T190000
DTEND;TZID=America/Detroit:20101015T210000
SUMMARY:Film Screening:Throne of Blood
DESCRIPTION:1957 / 109 min. / 35mm / In Japanese with English subtitles\n\nKurosawa's savage and unrestrained adaptation of Shakespeare's Macbeth\, set in  medieval Japan\, plunges viewers into an eerie\, fog-shrouded world of madness and  obsession. It is often considered the finest Shakespeare adaptation in the history  of cinema.
UID:3691-918825@events.umich.edu
URL:https://events.umich.edu/event/3691
CLASS:PUBLIC
STATUS:CONFIRMED
CATEGORIES:
LOCATION:Lorch Hall - Askwith Auditorium
CONTACT:
END:VEVENT
BEGIN:VEVENT
DTSTAMP:20100721T083320
DTSTART;TZID=America/Detroit:20101015T200000
SUMMARY:Performance:Tom Paxton
DESCRIPTION:The songs of Tom Paxton\, says Pete Seeger \"have a way of sneaking up on you. . . . Like the songs of Woody Guthrie\, they're becoming part of America.\" Tom Paxton has been a prime influence on other songwriters since he emerged in Greenwich Village in the 1960s\, including some you might expect (Holly Near) and some you might not (Guy Clark). He's still writing great songs\, many so topical that they never make it onto his albums -- you have to come to his shows to hear them. Tom's MySpace page lists his influences as Pete Seeger\, Woody Guthrie\, Bob Gibson\, Burl Ives\, Tom Lehrer\, and Mississippi John Hurt\, but even that motley collection doesn't quite encompass the man and his music. On a recent Grammy telecast Tom received a Lifetime Achievement Award\, but he's not resting on those or any other laurels\, and he always brings something new each time he comes to Michigan.
UID:2079-917114@events.umich.edu
URL:https://events.umich.edu/event/2079
CLASS:PUBLIC
STATUS:CONFIRMED
CATEGORIES:music
LOCATION:
CONTACT:
END:VEVENT
END:VCALENDAR