BEGIN:VCALENDAR
VERSION:2.0
PRODID:-//UM//UM*Events//EN
CALSCALE:GREGORIAN
BEGIN:VTIMEZONE
TZID:America/Detroit
TZURL:http://tzurl.org/zoneinfo/America/Detroit
X-LIC-LOCATION:America/Detroit
BEGIN:DAYLIGHT
TZOFFSETFROM:-0500
TZOFFSETTO:-0400
TZNAME:EDT
DTSTART:20070311T020000
RRULE:FREQ=YEARLY;BYMONTH=3;BYDAY=2SU
END:DAYLIGHT
BEGIN:STANDARD
TZOFFSETFROM:-0400
TZOFFSETTO:-0500
TZNAME:EST
DTSTART:20071104T020000
RRULE:FREQ=YEARLY;BYMONTH=11;BYDAY=1SU
END:STANDARD
END:VTIMEZONE
BEGIN:VEVENT
DTSTAMP:20101011T101533
DTSTART;TZID=America/Detroit:20101018T000000
SUMMARY:Other:Fall Study Break Exercise Classes
DESCRIPTION:Monday\, Oct 18: Zumba\, 11:30-12:15\, 2275 CCRB\; Yoga\, 12-12:45\, 3060 CCRB\;  Yoga\, 5:00-6:00\, 3275 CCRB. Tuesday\, Oct 19: PIYO\, 11:30-12:15\, 3060 CCRB\;  Zumba\, 5:00-6:00\, 3275 CCRB\; Yoga\, 5:30-6:30\, 3060 CCRB\; Flirty Fit\, 6:00-7:00\,  3060 CCRB. All classes are $2 at the door. Some classes may have limited space\, so arrive  early. Classes are open to enrolled UM students and those with UM Rec Sports  memberships (for building access purposes).
UID:4032-916931@events.umich.edu
URL:https://events.umich.edu/event/4032
CLASS:PUBLIC
STATUS:CONFIRMED
CATEGORIES:
LOCATION:Central Campus Recreation Building (Bell Pool)
CONTACT:
END:VEVENT
BEGIN:VEVENT
DTSTAMP:20101111T175729
DTSTART;TZID=America/Detroit:20101018T000000
SUMMARY:Exhibition:U-M Alumni/Returned Peace Corps Volunteer Exhibition
DESCRIPTION:The University of Michigan School of Art & Design invites submissions of work in all media for a 50th anniversary celebratory exhibition of work by U-M alumni who are Returned Peace Corps Volunteers. Creative work should reflect or respond to the Peace Corps experience. Submitted work will be juried by a committee drawn from the School of Art & Design community.  Submittal information located at http://art-design.umich.edu/exhibitions/submit/peace_corps_alumni_exhibition
UID:3571-915548@events.umich.edu
URL:https://events.umich.edu/event/3571
CLASS:PUBLIC
STATUS:CONFIRMED
CATEGORIES:
LOCATION:Art and Architecture Building - Slusser Gallery
CONTACT:
END:VEVENT
BEGIN:VEVENT
DTSTAMP:20101111T175607
DTSTART;TZID=America/Detroit:20101018T000000
SUMMARY:Exhibition:U-M and the Peace Corps: It All Started Here
DESCRIPTION:This dynamic exhibit showcases the unique role of University of Michigan students and faculty in the creation and popularizing of the Peace Corps. As Sargent Shriver said\, \"It might still be just an idea but for”¦those Michigan students and faculty.\" The exhibit highlights the development of student activism as well as important historical events.\n\nNormal Library Hours: http://www.lib.umich.edu/hours/list.php?singlebuilding=4
UID:3498-909737@events.umich.edu
URL:https://events.umich.edu/event/3498
CLASS:PUBLIC
STATUS:CONFIRMED
CATEGORIES:
LOCATION:Hatcher Graduate Library - Library Gallery (Room 100)
CONTACT:
END:VEVENT
BEGIN:VEVENT
DTSTAMP:20101111T175853
DTSTART;TZID=America/Detroit:20101018T070000
SUMMARY:Exhibition:Peace Corps Photo Exhibit
DESCRIPTION:Come learn more about the University of Michigan's involvement in the founding of the U.S. Peace Corps\, through photos\, stories\, and other artifacts in this inspiring exhibit. As we celebrate the 50th anniversary of the Peace Corps and President Kennedy's speech on the steps of the Michigan Union\, this exhibit gives you a great opportunity to experience history.
UID:4009-921083@events.umich.edu
URL:https://events.umich.edu/event/4009
CLASS:PUBLIC
STATUS:CONFIRMED
CATEGORIES:visual arts
LOCATION:Michigan Union - Art Lounge
CONTACT:
END:VEVENT
BEGIN:VEVENT
DTSTAMP:20100927T141609
DTSTART;TZID=America/Detroit:20101018T080000
DTEND;TZID=America/Detroit:20101018T120000
SUMMARY:Exhibition:\"As I See It\" Photo Competition
DESCRIPTION:In honor of the Peace Corps' 50th anniversary\, \"Peace\" is the theme for October's \"As I See It\" photo competition. Students should submit photos by noon on October 8th. The exhibit will be up  from October 11–22. Cast your vote for your favorite photo online through the Arts At Michigan website  or in any of the three Unions\, and help a student photographer win cool prizes! All current University of Michigan students are eligible.
UID:3500-917904@events.umich.edu
URL:https://events.umich.edu/event/3500
CLASS:PUBLIC
STATUS:CONFIRMED
CATEGORIES:visual arts
LOCATION:Michigan Union - Lobby
CONTACT:
END:VEVENT
BEGIN:VEVENT
DTSTAMP:20100909T114609
DTSTART;TZID=America/Detroit:20101018T083000
DTEND;TZID=America/Detroit:20101018T190000
SUMMARY:Exhibition:From Trace to Text: Highlights from the U-M Papyrus Collection
DESCRIPTION:This exhibit provides a behind-the-scenes look at the work of papyrologists: how they conserve scraps of often badly damaged papyri\, decipher traces of ink\, read and translate the resulting text\, edit and interpret its contents\, and make this available to both scholars and the general public. Modern technology\, such as digitization and multi-spectral imaging\, is aiding papyrologists in all of these efforts.\n\nTexts on display are some of the highlights of the collection. They include a wonderful drawing of an elephant\, a letter from a newly enlisted soldier to his mother\, and\, of course\, some pages of the oldest manuscript with letters of St. Paul (one of the most famous texts of the collection).\n\nIn its 90-year history\, the University of Michigan Papyrus Collection has trained more students and scholars in the field of papyrology than any other institution in North America. Founded by the visionary Francis W. Kelsey\, the Papyrus Collection has been the training ground for papyrologists from around the world and home to many great resident scholars\, such as Herbert and Louise Youtie\, Ludwig Koenen\, and Traianos Gagos\, who died on April 26\, 2010.\n\nPapyrology is the field of scholarship that deciphers and studies the texts written –primarily on papyrus– by people living in the ancient Mediterranean world between 2\,500 BCE and 1\,000 CE. Most of these texts are found in Egypt where the climate is dry enough to preserve this fragile material. It is a highly specialized and technical field\, requiring intensive training in language (Egyptian\, ancient Greek\, Latin\, Arabic)\, history\, and the unique set of skills necessary for reading original documents.\n\nThe exhibit is open during Audubon Room hours: Sun 1-7pm\, Mon-Fri 8:30-7pm\, Sat 10am-6pm.\n\nThis Exhibit is in Honor of Traianos Gagos (1960-2010).
UID:3497-917744@events.umich.edu
URL:https://events.umich.edu/event/3497
CLASS:PUBLIC
STATUS:CONFIRMED
CATEGORIES:
LOCATION:Hatcher Graduate Library - Audubon Room
CONTACT:
END:VEVENT
BEGIN:VEVENT
DTSTAMP:20100902T202613
DTSTART;TZID=America/Detroit:20101018T090000
DTEND;TZID=America/Detroit:20101018T170000
SUMMARY:Exhibition:Lecture on the Weather
DESCRIPTION:This multi-media stage work by John Cage\, based on the texts of Henry David Thoreau\, brings together speech\, music\, film\, lighting\, and a weather soundscape to form a softly political piece as relevant today as the year it was written. \n\nCage (1912-1992) was well known as an experimental composer\, philosopher\, writer\, and visual artist. A protean figure of the postwar avant-garde\, Cage collaborated with Merce Cunningham and visual artists including Joseph Beuys\, Robert Rauschenberg\, and Nam June Paik.\n\nExhibit celebration is Nov. 3\, 5-7pm\, in the gallery.
UID:3471-916197@events.umich.edu
URL:https://events.umich.edu/event/3471
CLASS:PUBLIC
STATUS:CONFIRMED
CATEGORIES:film,music,social justice,visual arts
LOCATION:202 S. Thayer - Gallery
CONTACT:
END:VEVENT
BEGIN:VEVENT
DTSTAMP:20100930T155754
DTSTART;TZID=America/Detroit:20101018T120000
DTEND;TZID=America/Detroit:20101018T180000
SUMMARY:Exhibition:Affinity of Form
DESCRIPTION:A photography exhibition by Stanford Lipsey will open on Thursday\, October 7 and  will run through Tuesday\, November 2\, 2010. The exhibition of 45 digital images\,  titled “Affinity of Form” (which also is the title of his recently published book)\, uses  the juxtaposition of photographs to build a comparative concept within a set of two  images. Lipsey graduated from the University of Michigan in 1948 with a degree in  economics and while a student here he was a photographer for the Michigan Daily  and Photography Editor for the Michiganensian.  The Student Publications Building  was named for Stanford Lipsey in 2005.
UID:3907-915729@events.umich.edu
URL:https://events.umich.edu/event/3907
CLASS:PUBLIC
STATUS:CONFIRMED
CATEGORIES:visual arts
LOCATION:Duderstadt Center - Gallery
CONTACT:
END:VEVENT
BEGIN:VEVENT
DTSTAMP:20100817T134410
DTSTART;TZID=America/Detroit:20101018T133000
DTEND;TZID=America/Detroit:20101018T160000
SUMMARY:Workshop / Seminar:Ann Arbor Art Center Workshops
DESCRIPTION:Drawing inspiration from the Whistler exhibition\, you will learn to create vibrant and compelling  images through the process of relief printing without a press. This workshop focuses on  composition\, design\, carving and how to transfer an image to produce an expressive relief print.  All materials included.
UID:3308-919610@events.umich.edu
URL:https://events.umich.edu/event/3308
CLASS:PUBLIC
STATUS:CONFIRMED
CATEGORIES:visual arts
LOCATION:Museum of Art
CONTACT:
END:VEVENT
BEGIN:VEVENT
DTSTAMP:20100929T102837
DTSTART;TZID=America/Detroit:20101018T180000
DTEND;TZID=America/Detroit:20101018T200000
SUMMARY:Well-being:Free and Anonymous HIV Testing
DESCRIPTION:Every Monday during the academic year\, a counselor from HARC\, the HIV/AIDS Resource Center\, is at the Spectrum Center from 6-8 pm offering free and anonymous HIV testing. The Spectrum Center is a welcoming and safe space for all seeking testing. For more information on HARC and testing\, call 800.578.2300\, 734.572.9355\, or visit them on the web at http://hivaidsresource.org/
UID:3894-909577@events.umich.edu
URL:https://events.umich.edu/event/3894
CLASS:PUBLIC
STATUS:CONFIRMED
CATEGORIES:respect,social justice
LOCATION:Michigan Union - Spectrum Center - 3200
CONTACT:
END:VEVENT
BEGIN:VEVENT
DTSTAMP:20100910T164015
DTSTART;TZID=America/Detroit:20101018T180000
DTEND;TZID=America/Detroit:20101018T193000
SUMMARY:Workshop / Seminar:Partners of Transfolk
DESCRIPTION:The Spectrum Center is excited to announce our new Partners of Transfolk Support Group. This is a bi-weekly open forum drop-in group to provide support and community for people of all genders to discuss and explore their relationships with trans-identified or gender non-conforming individuals in a safe environment. Group is open to people currently or formerly in partnerships with trans-people.  The group will meet on the first and third Mondays of the month in the Spectrum Center\, which is located at 3200 Michigan Union (3rd Floor)\, 530 South State Street\, Ann Arbor. If you have any questions please contact partnersoftransfolk@umich.edu.
UID:3591-916042@events.umich.edu
URL:https://events.umich.edu/event/3591
CLASS:PUBLIC
STATUS:CONFIRMED
CATEGORIES:
LOCATION:Michigan Union - 3200
CONTACT:
END:VEVENT
BEGIN:VEVENT
DTSTAMP:20100721T083557
DTSTART;TZID=America/Detroit:20101018T200000
SUMMARY:Performance:Arlo Guthrie
DESCRIPTION:The man who told us the story of Alice's Restaurant really needs no introduction. But even listeners who know Arlo Guthrie's songs by heart may not realize how he has continued to experiment and explore in recent years. Arlo has performed with symphony orchestras\, appeared in acting roles on television\, written an award-winning children's book\, and enriched his concert performances with the experiences of a lifetime. He's a wise man\, and a great musician to see face-to-face. \"Going to one of my shows is like fishing\,\" Arlo says. \"A lot of it is just being there.\" Arlo's recent Ark shows have been multi-generational Guthrie events that show just how strong the spirit remains within this most famous of all American musical families.
UID:1227-914059@events.umich.edu
URL:https://events.umich.edu/event/1227
CLASS:PUBLIC
STATUS:CONFIRMED
CATEGORIES:music
LOCATION:
CONTACT:
END:VEVENT
END:VCALENDAR