BEGIN:VCALENDAR
VERSION:2.0
PRODID:-//UM//UM*Events//EN
CALSCALE:GREGORIAN
BEGIN:VTIMEZONE
TZID:America/Detroit
TZURL:http://tzurl.org/zoneinfo/America/Detroit
X-LIC-LOCATION:America/Detroit
BEGIN:DAYLIGHT
TZOFFSETFROM:-0500
TZOFFSETTO:-0400
TZNAME:EDT
DTSTART:20070311T020000
RRULE:FREQ=YEARLY;BYMONTH=3;BYDAY=2SU
END:DAYLIGHT
BEGIN:STANDARD
TZOFFSETFROM:-0400
TZOFFSETTO:-0500
TZNAME:EST
DTSTART:20071104T020000
RRULE:FREQ=YEARLY;BYMONTH=11;BYDAY=1SU
END:STANDARD
END:VTIMEZONE
BEGIN:VEVENT
DTSTAMP:20101111T175729
DTSTART;TZID=America/Detroit:20101021T000000
SUMMARY:Exhibition:U-M Alumni/Returned Peace Corps Volunteer Exhibition
DESCRIPTION:The University of Michigan School of Art & Design invites submissions of work in all media for a 50th anniversary celebratory exhibition of work by U-M alumni who are Returned Peace Corps Volunteers. Creative work should reflect or respond to the Peace Corps experience. Submitted work will be juried by a committee drawn from the School of Art & Design community.  Submittal information located at http://art-design.umich.edu/exhibitions/submit/peace_corps_alumni_exhibition
UID:3571-915551@events.umich.edu
URL:https://events.umich.edu/event/3571
CLASS:PUBLIC
STATUS:CONFIRMED
CATEGORIES:
LOCATION:Art and Architecture Building - Slusser Gallery
CONTACT:
END:VEVENT
BEGIN:VEVENT
DTSTAMP:20101111T175607
DTSTART;TZID=America/Detroit:20101021T000000
SUMMARY:Exhibition:U-M and the Peace Corps: It All Started Here
DESCRIPTION:This dynamic exhibit showcases the unique role of University of Michigan students and faculty in the creation and popularizing of the Peace Corps. As Sargent Shriver said\, \"It might still be just an idea but for”¦those Michigan students and faculty.\" The exhibit highlights the development of student activism as well as important historical events.\n\nNormal Library Hours: http://www.lib.umich.edu/hours/list.php?singlebuilding=4
UID:3498-909740@events.umich.edu
URL:https://events.umich.edu/event/3498
CLASS:PUBLIC
STATUS:CONFIRMED
CATEGORIES:
LOCATION:Hatcher Graduate Library - Library Gallery (Room 100)
CONTACT:
END:VEVENT
BEGIN:VEVENT
DTSTAMP:20101111T175853
DTSTART;TZID=America/Detroit:20101021T070000
SUMMARY:Exhibition:Peace Corps Photo Exhibit
DESCRIPTION:Come learn more about the University of Michigan's involvement in the founding of the U.S. Peace Corps\, through photos\, stories\, and other artifacts in this inspiring exhibit. As we celebrate the 50th anniversary of the Peace Corps and President Kennedy's speech on the steps of the Michigan Union\, this exhibit gives you a great opportunity to experience history.
UID:4009-921086@events.umich.edu
URL:https://events.umich.edu/event/4009
CLASS:PUBLIC
STATUS:CONFIRMED
CATEGORIES:visual arts
LOCATION:Michigan Union - Art Lounge
CONTACT:
END:VEVENT
BEGIN:VEVENT
DTSTAMP:20100927T141609
DTSTART;TZID=America/Detroit:20101021T080000
DTEND;TZID=America/Detroit:20101021T120000
SUMMARY:Exhibition:\"As I See It\" Photo Competition
DESCRIPTION:In honor of the Peace Corps' 50th anniversary\, \"Peace\" is the theme for October's \"As I See It\" photo competition. Students should submit photos by noon on October 8th. The exhibit will be up  from October 11–22. Cast your vote for your favorite photo online through the Arts At Michigan website  or in any of the three Unions\, and help a student photographer win cool prizes! All current University of Michigan students are eligible.
UID:3500-917907@events.umich.edu
URL:https://events.umich.edu/event/3500
CLASS:PUBLIC
STATUS:CONFIRMED
CATEGORIES:visual arts
LOCATION:Michigan Union - Lobby
CONTACT:
END:VEVENT
BEGIN:VEVENT
DTSTAMP:20100909T114609
DTSTART;TZID=America/Detroit:20101021T083000
DTEND;TZID=America/Detroit:20101021T190000
SUMMARY:Exhibition:From Trace to Text: Highlights from the U-M Papyrus Collection
DESCRIPTION:This exhibit provides a behind-the-scenes look at the work of papyrologists: how they conserve scraps of often badly damaged papyri\, decipher traces of ink\, read and translate the resulting text\, edit and interpret its contents\, and make this available to both scholars and the general public. Modern technology\, such as digitization and multi-spectral imaging\, is aiding papyrologists in all of these efforts.\n\nTexts on display are some of the highlights of the collection. They include a wonderful drawing of an elephant\, a letter from a newly enlisted soldier to his mother\, and\, of course\, some pages of the oldest manuscript with letters of St. Paul (one of the most famous texts of the collection).\n\nIn its 90-year history\, the University of Michigan Papyrus Collection has trained more students and scholars in the field of papyrology than any other institution in North America. Founded by the visionary Francis W. Kelsey\, the Papyrus Collection has been the training ground for papyrologists from around the world and home to many great resident scholars\, such as Herbert and Louise Youtie\, Ludwig Koenen\, and Traianos Gagos\, who died on April 26\, 2010.\n\nPapyrology is the field of scholarship that deciphers and studies the texts written –primarily on papyrus– by people living in the ancient Mediterranean world between 2\,500 BCE and 1\,000 CE. Most of these texts are found in Egypt where the climate is dry enough to preserve this fragile material. It is a highly specialized and technical field\, requiring intensive training in language (Egyptian\, ancient Greek\, Latin\, Arabic)\, history\, and the unique set of skills necessary for reading original documents.\n\nThe exhibit is open during Audubon Room hours: Sun 1-7pm\, Mon-Fri 8:30-7pm\, Sat 10am-6pm.\n\nThis Exhibit is in Honor of Traianos Gagos (1960-2010).
UID:3497-917747@events.umich.edu
URL:https://events.umich.edu/event/3497
CLASS:PUBLIC
STATUS:CONFIRMED
CATEGORIES:
LOCATION:Hatcher Graduate Library - Audubon Room
CONTACT:
END:VEVENT
BEGIN:VEVENT
DTSTAMP:20100902T202613
DTSTART;TZID=America/Detroit:20101021T090000
DTEND;TZID=America/Detroit:20101021T170000
SUMMARY:Exhibition:Lecture on the Weather
DESCRIPTION:This multi-media stage work by John Cage\, based on the texts of Henry David Thoreau\, brings together speech\, music\, film\, lighting\, and a weather soundscape to form a softly political piece as relevant today as the year it was written. \n\nCage (1912-1992) was well known as an experimental composer\, philosopher\, writer\, and visual artist. A protean figure of the postwar avant-garde\, Cage collaborated with Merce Cunningham and visual artists including Joseph Beuys\, Robert Rauschenberg\, and Nam June Paik.\n\nExhibit celebration is Nov. 3\, 5-7pm\, in the gallery.
UID:3471-916200@events.umich.edu
URL:https://events.umich.edu/event/3471
CLASS:PUBLIC
STATUS:CONFIRMED
CATEGORIES:visual arts,social justice,music,film
LOCATION:202 S. Thayer - Gallery
CONTACT:
END:VEVENT
BEGIN:VEVENT
DTSTAMP:20100817T114436
DTSTART;TZID=America/Detroit:20101021T100000
SUMMARY:Exhibition:On Beauty and the Everyday: The Prints of James McNeill Whistler
DESCRIPTION:UMMA's rare and important collection of James McNeill Whistler works on paper represents  one of the finest holdings of Whistler's graphic output in North America. This major exhibition  features more than 100 works of art from UMMA's Whistler collection\, which covers the  artist's entire career in Europe\, ranging from his student days and exposure to the vanguard  artistic movements of the 19th century to the groundbreaking and atmospheric lithographs  and etchings of his mature style. It is the first exhibition devoted to Whistler's works at  UMMA since 1994.\n\nNearly all of the Whistler works came to the Museum through the bequest of Margaret  Watson Parker\, an early collector of both Whistler's prints as well as Japanese art. The  exhibition explores Whistler's illustrious life and career\; his artistic themes and concerns\,  including portraiture and his well-known series from England\, Italy\, and France\; the interests  and legacy of early-20th-century Whistler collector Margaret Watson Parker\; and the tools  and techniques that Whistler employed as a printmaker.
UID:3291-921190@events.umich.edu
URL:https://events.umich.edu/event/3291
CLASS:PUBLIC
STATUS:CONFIRMED
CATEGORIES:visual arts
LOCATION:Museum of Art
CONTACT:
END:VEVENT
BEGIN:VEVENT
DTSTAMP:20101008T160325
DTSTART;TZID=America/Detroit:20101021T100000
DTEND;TZID=America/Detroit:20101021T120000
SUMMARY:Lecture / Discussion:Open Access Publishing and Scholarly Values
DESCRIPTION:Why should scholars care about open access publishing? Dan Cohen explores the ways in which open access\, although associated with new media\, actually aligns well with traditional scholarly values. Cohen looks at a number of these values\, such as impartiality and the advancement of knowledge\, as well as the more self-centered values\, such as reputation.\n\nDan Cohen is an Associate Professor in the Department of History and Art History at George Mason University and the Director of the Center for History and New Media.  Dr. Cohen is the co-author of Digital History: A Guide to Gathering\, Preserving\, and Presenting the Past on the Web (University of Pennsylvania Press\, 2005)\, author of Equations from God: Pure Mathematics and Victorian Faith (Johns Hopkins University Press\, 2007)\, and has published articles and book chapters on the history of mathematics and religion\, the teaching of history\, and the future of history in a digital age in journals such as the Journal of American History\, the Chronicle of Higher Education\, and Rethinking History. He is the co-editor of Hacking the Academy and the author of Learning from the Blog: The Ivory Tower and the Open Web\, both forthcoming in 2012 from the University of Michigan Press. \n\nAt the Center for History and New Media Dr. Cohen has co-directed\, among other projects\, the September 11 Digital Archive and Echo\, and has  developed software for scholars\, teachers\, and students\, including the popular Zotero research tool. Dan Cohen's Digital Humanities blog (http://www.dancohen.org/) is one of the most read in academia\, with thousands of subscribers–more subscribers than many academic journals–and an average of 10\,000 unique readers a month. Major posts on the blog have reached an even wider audience\; for instance\, Cohen's  “Is Google Good for History?” was read by over 50\,000 people and received coverage ranging from Inside Higher Ed to Wired.
UID:4028-912919@events.umich.edu
URL:https://events.umich.edu/event/4028
CLASS:PUBLIC
STATUS:CONFIRMED
CATEGORIES:social justice
LOCATION:Hatcher Graduate Library - 100
CONTACT:
END:VEVENT
BEGIN:VEVENT
DTSTAMP:20101111T175737
DTSTART;TZID=America/Detroit:20101021T100000
SUMMARY:Exhibition:Out of the Ordinary: Selections from the Bohlen Wood Art and Fusfeld Folk Art Collections
DESCRIPTION:This exhibition\, which runs from September 11 through Spring of 2011\, allows visitors to  explore two extraordinary collections of art–the Robert M. and Lillian Montalto Bohlen  Collection of Wood Art and the Daniel and Harriet Fusfeld Folk Art Collection. The Bohlen  collection presents an astonishing range of contemporary artworks fashioned from wood and  includes works that explores traditional and non-traditional vessel forms as well as works that  are more purely sculptural. The outstanding objects that make up the Fusfeld collection are both  geographically and historically wide-ranging\, including work by early nineteenth-century  itinerant folk portraitists as well as late twentieth-century sculpture and painting by “outsider”  artists from the American South\, Midwest\, and Northeast.
UID:3293-916118@events.umich.edu
URL:https://events.umich.edu/event/3293
CLASS:PUBLIC
STATUS:CONFIRMED
CATEGORIES:visual arts
LOCATION:Museum of Art
CONTACT:
END:VEVENT
BEGIN:VEVENT
DTSTAMP:20101111T175654
DTSTART;TZID=America/Detroit:20101021T100000
SUMMARY:Exhibition:UMMA Projects: Jakob Kolding
DESCRIPTION:UMMA is pleased to present the first solo exhibition in a North American museum of Berlin- based artist Jakob Kolding. Kolding's work revolves around the experience of life in the  contemporary built environment\, particularly the relationships and contradictions that emerge  between how architectural spaces are planned and how they are actively used. His collages\,  drawings\, posters\, and mixed-media sculptures incorporate a wide range of source material\,  sampling and mixing the visual idiom of modernist art and architecture\, the language of  sociological inquiry\, and such popular cultural forms as hip-hop and electronic music\,  skateboarding\, and soccer. Kolding's dynamic compositions encourage us to actively question  the relationship between space and behavior\, and to imagine forms of self-expression that  use the built environment in creative new ways.
UID:3292-913268@events.umich.edu
URL:https://events.umich.edu/event/3292
CLASS:PUBLIC
STATUS:CONFIRMED
CATEGORIES:visual arts
LOCATION:Museum of Art
CONTACT:
END:VEVENT
BEGIN:VEVENT
DTSTAMP:20101111T175849
DTSTART;TZID=America/Detroit:20101021T110000
DTEND;TZID=America/Detroit:20101021T130000
SUMMARY:Reception / Open House:Taste of Peace
DESCRIPTION:Join us for refreshments and interactive activities.  Learn about campus and community organizations.
UID:4089-920840@events.umich.edu
URL:https://events.umich.edu/event/4089
CLASS:PUBLIC
STATUS:CONFIRMED
CATEGORIES:
LOCATION:Michigan Union - Pond ABC
CONTACT:
END:VEVENT
BEGIN:VEVENT
DTSTAMP:20100930T155754
DTSTART;TZID=America/Detroit:20101021T120000
DTEND;TZID=America/Detroit:20101021T180000
SUMMARY:Exhibition:Affinity of Form
DESCRIPTION:A photography exhibition by Stanford Lipsey will open on Thursday\, October 7 and  will run through Tuesday\, November 2\, 2010. The exhibition of 45 digital images\,  titled “Affinity of Form” (which also is the title of his recently published book)\, uses  the juxtaposition of photographs to build a comparative concept within a set of two  images. Lipsey graduated from the University of Michigan in 1948 with a degree in  economics and while a student here he was a photographer for the Michigan Daily  and Photography Editor for the Michiganensian.  The Student Publications Building  was named for Stanford Lipsey in 2005.
UID:3907-915732@events.umich.edu
URL:https://events.umich.edu/event/3907
CLASS:PUBLIC
STATUS:CONFIRMED
CATEGORIES:visual arts
LOCATION:Duderstadt Center - Gallery
CONTACT:
END:VEVENT
BEGIN:VEVENT
DTSTAMP:20101111T175655
DTSTART;TZID=America/Detroit:20101021T120000
DTEND;TZID=America/Detroit:20101021T130000
SUMMARY:Lecture / Discussion:CJS Fall 2010 Noon Lecture Series
DESCRIPTION:William Bodiford\, Professor\, Asian Languages & Cultures\; University of California\,  Los Angeles
UID:3682-913323@events.umich.edu
URL:https://events.umich.edu/event/3682
CLASS:PUBLIC
STATUS:CONFIRMED
CATEGORIES:
LOCATION:School of Social Work Building - 1636
CONTACT:
END:VEVENT
BEGIN:VEVENT
DTSTAMP:20101111T175712
DTSTART;TZID=America/Detroit:20101021T140000
DTEND;TZID=America/Detroit:20101021T180000
SUMMARY:Fair / Festival:International Opportunities Fair
DESCRIPTION:Join the University of Michigan for this event highlighting international career and internship options. The fair features organizations from all sectors\, study-internship/service-learning programs\, international academic programs and scholarship/funding resources.
UID:1455-914442@events.umich.edu
URL:https://events.umich.edu/event/1455
CLASS:PUBLIC
STATUS:CONFIRMED
CATEGORIES:
LOCATION:Michigan Union - Second Floor
CONTACT:
END:VEVENT
BEGIN:VEVENT
DTSTAMP:20101111T175605
DTSTART;TZID=America/Detroit:20101021T160000
DTEND;TZID=America/Detroit:20101021T173000
SUMMARY:Lecture / Discussion:Conversations on Europe.
DESCRIPTION:Damien Geradin\, Professor of Competition Law and Economics\, Tilburg University\;  and William W. Cook Global Law Professor\, University of Michigan Law School.\n\nIn recent years\, large US corporations\, such as Microsoft and Intel\,  have seen some  of their commercial practices condemned by the Commission on the ground they  were anti-competitive. They also faced fines running in the hundreds of millions of  Euros. These decisions\, which may appear unnecessarily harsh\, have been met with  concern by US commentators\, some of whom argued that the Commission uses  competition law to achieve protectionist goals. Moreover\, many found the EU  procedural framework inadequate as given insufficient attention to due process\, at  least compared to the guarantees offered to defendants in US-style proceedings.  This talk will discuss whether these criticisms are justified and to the extent they are  what needs to be done to improve the EU competition law enforcement system.
UID:3890-909620@events.umich.edu
URL:https://events.umich.edu/event/3890
CLASS:PUBLIC
STATUS:CONFIRMED
CATEGORIES:
LOCATION:School of Social Work Building - 1636
CONTACT:
END:VEVENT
BEGIN:VEVENT
DTSTAMP:20101111T175729
DTSTART;TZID=America/Detroit:20101021T160000
DTEND;TZID=America/Detroit:20101021T170000
SUMMARY:Workshop / Seminar:EEB Thursday Seminar Series
DESCRIPTION:Abstract: Adaptations do not exist in a vacuum\; an adaptive trait must fit well not only with an organism's environment but also with other aspects of the phenotype. To understand the evolution of complex multivariate phenotypes\, we need to explore the patterns of covariation and interactions among traits\, known as phenotypic integration. My work considers integration across several levels of biological organization from both proximate and ultimate perspectives. Integration is often considered to be an evolutionary constraint\, but in this talk\, I will show that integration can also be viewed as a product of natural selection.
UID:4085-915545@events.umich.edu
URL:https://events.umich.edu/event/4085
CLASS:PUBLIC
STATUS:CONFIRMED
CATEGORIES:
LOCATION:Chemistry Dow Lab - 1210
CONTACT:
END:VEVENT
BEGIN:VEVENT
DTSTAMP:20101111T175648
DTSTART;TZID=America/Detroit:20101021T170000
DTEND;TZID=America/Detroit:20101021T183000
SUMMARY:Lecture / Discussion:Penny Stamps Presents: Matthew Ritchie
DESCRIPTION:Matthew Ritchie was born in London\, England in 1964\, and lives and works in New York. He received a BFA from Camberwell School of Art\, London\, and attended Boston University. His artistic mission has been no less ambitious than an attempt to represent the entire universe and the structures of knowledge and belief that we use to understand and visualize it. Ritchie's encyclopedic project (continually expanding and evolving like the universe itself) stems from his imagination\, and is catalogued in a conceptual chart replete with allusions drawn from Judaeo-Christian religion\, occult practices\, Gnostic traditions\, and scientific elements and principles. Ritchie's paintings\, installations\, and narrative threads delineate the universe's formation as well as the attempts and limits of human consciousness to comprehend its vastness. Ritchie's work deals explicitly with the idea of information being ”˜on the surface'\, and information is also the subject of his work. Although often described as a painter\, Ritchie creates works on paper\, prints\, light-box drawings\, floor-to-wall installations\, freestanding sculpture\, web sites\, and short stories which tie his sprawling works together into a narrative structure. Drawing is central to his work. He scans his drawings into the computer so that images can be blown up\, taken apart\, made smaller or three-dimensional\, re-shaped\, transformed into digital games\, or given to someone else to execute. One ongoing work that Ritchie calls an endless drawing contains everything he has drawn before. Ritchie's work has been shown in one-person exhibitions at the Dallas Museum of Art\; Contemporary Arts Museum\, Houston\; MASS MoCA\; SFMoMA\; and the Museum of Contemporary Art\, Miami\, among others. His work was also exhibited at the Whitney Biennial (1997)\, Sydney Biennale (2002)\, and SÃ£o Paulo Bienale (2004).
UID:980-912788@events.umich.edu
URL:https://events.umich.edu/event/980
CLASS:PUBLIC
STATUS:CONFIRMED
CATEGORIES:visual arts
LOCATION:
CONTACT:
END:VEVENT
BEGIN:VEVENT
DTSTAMP:20101019T112318
DTSTART;TZID=America/Detroit:20101021T170000
SUMMARY:Reception / Open House:Taubman on the Road: Chicago
DESCRIPTION:First Stop: Chicago\, Illinois October 21\, 2010 05:00 PM\n\nThe Mid-America Club -- 200 East Randolph Drive -- Chicago\, IL 60601\n\nDean Monica Ponce de Leon invites Chicago-area alumni to join her at a reception as part of  our first \"Taubman on the Road\" event. Reconnect with former classmates\, network with  other Windy City alums\, meet the dean\, and hear about current initiatives at the college.\n\nWe are inviting prospective greater Chicagoland students to give them an opportunity to  learn more about the University of Michigan and in particular the programs and resources at  Taubman College. Share your Taubman College experiences with these potential future  fellow alumni. Please invite anyone you know who may be considering pursuing  undergraduate or graduate architecture\, planning\, or urban design degrees.\n\nJoin Us Thursday\, October 21\, 2010 Prospective Student Meet and Greet 5:00 – 6:00 p.m.\, Library Alumni Reception at Large 5:00 – 7:00 p.m. (Dean's Remarks at 6:00 p.m.) Frank Lloyd  Wright Rooms 1 & 2 The Mid-America Club 200 East Randolph Drive Chicago\, IL 60601\n\nPlease note: The Mid-America Club has a dress code of business casual (no jeans or  sneakers)\n\nParking at the Aon Center Garage is $6 if you arrive before 6:00 p.m.\n\nRegistration is free\, easy\, and required. Register via the link provided!\n\nFor questions\, contact Meghan Lee\, Admissions Counselor\, meglee@umich.edu or Janice  Harvey\, Alumni Relations\, jrharvey@umich.edu
UID:4104-913559@events.umich.edu
URL:https://events.umich.edu/event/4104
CLASS:PUBLIC
STATUS:CONFIRMED
CATEGORIES:
LOCATION:
CONTACT:
END:VEVENT
BEGIN:VEVENT
DTSTAMP:20100818T094326
DTSTART;TZID=America/Detroit:20101021T171500
DTEND;TZID=America/Detroit:20101021T180000
SUMMARY:Presentation:Zell Visiting Writers Series: Daniel AlarcÃ³n
DESCRIPTION:Daniel AlarcÃ³n is the author of two story collections\, and the novel Lost City Radio\,  winner of the 2009 International Literature Prize given by the House of World  Cultures in Berlin. His fiction and nonfiction have appeared in Harper's\, The New  Yorker\, Granta\, and the Virginia Quarterly Review. He is Associate Editor of Etiqueta  Negra\, an award-winning magazine published in his native Lima\, Peru\, and a  Visiting Scholar at the UC Berkeley Center for Latin American Studies.
UID:2602-920239@events.umich.edu
URL:https://events.umich.edu/event/2602
CLASS:PUBLIC
STATUS:CONFIRMED
CATEGORIES:literary arts
LOCATION:Museum of Art - Helmut Stern Auditorium
CONTACT:
END:VEVENT
BEGIN:VEVENT
DTSTAMP:20100922T155137
DTSTART;TZID=America/Detroit:20101021T173000
DTEND;TZID=America/Detroit:20101021T190000
SUMMARY:Presentation:Mlibrary for Life Celebration
DESCRIPTION:Join us for a celebration of life to learn about the impact of organ donation and to honor those that have made the decision to donate! \n\nThe University Library\, Gift of Life\, and Donate Life invite you to a panel discussion on organ donation featuring the University of Michigan Transplant Team\, organ donor families\, and recipients.  Refreshments will be served and raffle prizes will be awarded.
UID:3743-919069@events.umich.edu
URL:https://events.umich.edu/event/3743
CLASS:PUBLIC
STATUS:CONFIRMED
CATEGORIES:
LOCATION:Hatcher Graduate Library - 100 (Gallery)
CONTACT:
END:VEVENT
BEGIN:VEVENT
DTSTAMP:20100908T112436
DTSTART;TZID=America/Detroit:20101021T180000
DTEND;TZID=America/Detroit:20101021T193000
SUMMARY:Meeting:LGBT Student Organization Roundtable
DESCRIPTION:LGBT Student Organization Roundtable was kicked off last fall in order to bring  cohesiveness to the more than 20 LGBTQ-related undergraduate and graduate  student organizations planning programs across campus throughout the year. This  group is facilitated by a Spectrum Center staff member and meets on the third  Thursday of each month in the Spectrum Center.  If your student organization is interested in networking\, collaborating\, and being a  part of a wider movement of LGBTQ student organizations\, please email Ariana  Bostian-Kentes at abostian@umich.edu to be added to the listserv.
UID:3488-916535@events.umich.edu
URL:https://events.umich.edu/event/3488
CLASS:PUBLIC
STATUS:CONFIRMED
CATEGORIES:
LOCATION:Michigan Union - 3200
CONTACT:
END:VEVENT
BEGIN:VEVENT
DTSTAMP:20100730T124214
DTSTART;TZID=America/Detroit:20101021T183000
DTEND;TZID=America/Detroit:20101021T210000
SUMMARY:Workshop / Seminar:Under Cover: Tents\, Tarps and Shelter Clinic
DESCRIPTION:Looking to learn the ins and outs of setting up a variety of shelters? Simply wondering about tent set up basics? Or maybe how to decide where to put your shelter in the first place? In this clinic you will be exposed to a variety of tent types\, practice hanging tarps\, discuss other options for shelter\, and learn how to select a (relatively) comfortable and low–impact campsite for any shelter type.
UID:3077-919729@events.umich.edu
URL:https://events.umich.edu/event/3077
CLASS:PUBLIC
STATUS:CONFIRMED
CATEGORIES:
LOCATION:Elbel Field Locker Building - Outdoor Adventures Rental Center 
CONTACT:
END:VEVENT
BEGIN:VEVENT
DTSTAMP:20101111T175612
DTSTART;TZID=America/Detroit:20101021T190000
DTEND;TZID=America/Detroit:20101021T213000
SUMMARY:Performance:Taste of Peace Open Mic Night
DESCRIPTION:A performance space for the community to express thoughts and feelings on peace and justice.
UID:4092-910086@events.umich.edu
URL:https://events.umich.edu/event/4092
CLASS:PUBLIC
STATUS:CONFIRMED
CATEGORIES:
LOCATION:
CONTACT:
END:VEVENT
BEGIN:VEVENT
DTSTAMP:20100830T154413
DTSTART;TZID=America/Detroit:20101021T193000
SUMMARY:Film Screening:The Heretics
DESCRIPTION:The Heretics reveals the inside story of Heresies\, a feminist art collective that was at the  epicenter of the 1970s art world in lower Manhattan. Director Joan Braderman\, who joined  the group in 1971 after moving to New York to become a filmmaker\, charts the collective's  story for the first time in a feature-length film\, revealing its pivotal role in the \"second  wave\" of the women's movement. Unlike more traditional documentaries\, the film is framed  with striking digital motion graphics. Braderman combines intimate interviews with former  collective members\, archival footage from the 1970s\, and documents of the collective to put  the Heresies in the context of the larger second-wave movement\, which was made up of  thousands who met in small\, private group settings to discuss issues and launch programs  and actions relevant to women. The hundreds of Heresies members\, now scattered around  the globe and working as artists\, writers\, architects\, painters\, filmmakers\, designers\, editors\,  curators\, and teachers\, speak intimately about the extraordinary times they shared as they  challenged the terms of gender and power and reimagined the lives of generations to come. \n\nThe screening is part of the IRWG conference \"Sexism in the Media: Why it Persists\, How  Women Talk Back\"
UID:3437-920277@events.umich.edu
URL:https://events.umich.edu/event/3437
CLASS:PUBLIC
STATUS:CONFIRMED
CATEGORIES:
LOCATION:Museum of Art - Helmut Stern Auditorium
CONTACT:
END:VEVENT
BEGIN:VEVENT
DTSTAMP:20101111T175646
DTSTART;TZID=America/Detroit:20101021T200000
SUMMARY:Performance:The Alternate Routes
DESCRIPTION:
UID:3150-912669@events.umich.edu
URL:https://events.umich.edu/event/3150
CLASS:PUBLIC
STATUS:CONFIRMED
CATEGORIES:music
LOCATION:
CONTACT:
END:VEVENT
BEGIN:VEVENT
DTSTAMP:20101111T175637
DTSTART;TZID=America/Detroit:20101021T200000
SUMMARY:Performance:UM Student Program
DESCRIPTION:This exciting performance series falls on the third Thursday of each month and features  different student performers who work in a variety of media including music\, comedy\, dance\,  and spoken word. A great way to spend an evening with your friends and to experience the  exceptional talent of UM students in an intimate setting. This series is curated and produced by  UMMA's Student Programming and Advisory Board. Students interested in performing may view  application details at www.umma.umich.edu/for-students/
UID:3432-912145@events.umich.edu
URL:https://events.umich.edu/event/3432
CLASS:PUBLIC
STATUS:CONFIRMED
CATEGORIES:visual arts,theater,music,literary arts,dance
LOCATION:Museum of Art - Commons
CONTACT:
END:VEVENT
BEGIN:VEVENT
DTSTAMP:20101111T175633
DTSTART;TZID=America/Detroit:20101021T203000
DTEND;TZID=America/Detroit:20101021T230000
SUMMARY:Performance:Poetry Slam
DESCRIPTION:Doors open at 8:30\, and the event starts PROMPTLY at 9pm.\n\nCost is $5 per person.\n\nThere is an OPEN MIC session from 9-9:30pm where poets showcase their skills  without being judged.\n\nThe SLAM is a competition wherein 7 poets have 3 minutes to give the crowd their  best work. The winner of the slam will be photographed\, automatically entered into  the GRAND SLAM\, and will receive a special prize!\n\nFrom 10:15-11pm\, there will be a featured poet!\n\nCome...Listen...Perform...ENJOY!!!
UID:3696-911691@events.umich.edu
URL:https://events.umich.edu/event/3696
CLASS:PUBLIC
STATUS:CONFIRMED
CATEGORIES:literary arts
LOCATION:Michigan Union - The University Club (U-Club)
CONTACT:
END:VEVENT
END:VCALENDAR