BEGIN:VCALENDAR
VERSION:2.0
PRODID:-//UM//UM*Events//EN
CALSCALE:GREGORIAN
BEGIN:VTIMEZONE
TZID:America/Detroit
TZURL:http://tzurl.org/zoneinfo/America/Detroit
X-LIC-LOCATION:America/Detroit
BEGIN:DAYLIGHT
TZOFFSETFROM:-0500
TZOFFSETTO:-0400
TZNAME:EDT
DTSTART:20070311T020000
RRULE:FREQ=YEARLY;BYMONTH=3;BYDAY=2SU
END:DAYLIGHT
BEGIN:STANDARD
TZOFFSETFROM:-0400
TZOFFSETTO:-0500
TZNAME:EST
DTSTART:20071104T020000
RRULE:FREQ=YEARLY;BYMONTH=11;BYDAY=1SU
END:STANDARD
END:VTIMEZONE
BEGIN:VEVENT
DTSTAMP:20101111T175729
DTSTART;TZID=America/Detroit:20101022T000000
SUMMARY:Exhibition:U-M Alumni/Returned Peace Corps Volunteer Exhibition
DESCRIPTION:The University of Michigan School of Art & Design invites submissions of work in all media for a 50th anniversary celebratory exhibition of work by U-M alumni who are Returned Peace Corps Volunteers. Creative work should reflect or respond to the Peace Corps experience. Submitted work will be juried by a committee drawn from the School of Art & Design community.  Submittal information located at http://art-design.umich.edu/exhibitions/submit/peace_corps_alumni_exhibition
UID:3571-915552@events.umich.edu
URL:https://events.umich.edu/event/3571
CLASS:PUBLIC
STATUS:CONFIRMED
CATEGORIES:
LOCATION:Art and Architecture Building - Slusser Gallery
CONTACT:
END:VEVENT
BEGIN:VEVENT
DTSTAMP:20101111T175607
DTSTART;TZID=America/Detroit:20101022T000000
SUMMARY:Exhibition:U-M and the Peace Corps: It All Started Here
DESCRIPTION:This dynamic exhibit showcases the unique role of University of Michigan students and faculty in the creation and popularizing of the Peace Corps. As Sargent Shriver said\, \"It might still be just an idea but for”¦those Michigan students and faculty.\" The exhibit highlights the development of student activism as well as important historical events.\n\nNormal Library Hours: http://www.lib.umich.edu/hours/list.php?singlebuilding=4
UID:3498-909741@events.umich.edu
URL:https://events.umich.edu/event/3498
CLASS:PUBLIC
STATUS:CONFIRMED
CATEGORIES:
LOCATION:Hatcher Graduate Library - Library Gallery (Room 100)
CONTACT:
END:VEVENT
BEGIN:VEVENT
DTSTAMP:20101111T175853
DTSTART;TZID=America/Detroit:20101022T070000
SUMMARY:Exhibition:Peace Corps Photo Exhibit
DESCRIPTION:Come learn more about the University of Michigan's involvement in the founding of the U.S. Peace Corps\, through photos\, stories\, and other artifacts in this inspiring exhibit. As we celebrate the 50th anniversary of the Peace Corps and President Kennedy's speech on the steps of the Michigan Union\, this exhibit gives you a great opportunity to experience history.
UID:4009-921087@events.umich.edu
URL:https://events.umich.edu/event/4009
CLASS:PUBLIC
STATUS:CONFIRMED
CATEGORIES:visual arts
LOCATION:Michigan Union - Art Lounge
CONTACT:
END:VEVENT
BEGIN:VEVENT
DTSTAMP:20100927T141609
DTSTART;TZID=America/Detroit:20101022T080000
DTEND;TZID=America/Detroit:20101022T120000
SUMMARY:Exhibition:\"As I See It\" Photo Competition
DESCRIPTION:In honor of the Peace Corps' 50th anniversary\, \"Peace\" is the theme for October's \"As I See It\" photo competition. Students should submit photos by noon on October 8th. The exhibit will be up  from October 11–22. Cast your vote for your favorite photo online through the Arts At Michigan website  or in any of the three Unions\, and help a student photographer win cool prizes! All current University of Michigan students are eligible.
UID:3500-917908@events.umich.edu
URL:https://events.umich.edu/event/3500
CLASS:PUBLIC
STATUS:CONFIRMED
CATEGORIES:visual arts
LOCATION:Michigan Union - Lobby
CONTACT:
END:VEVENT
BEGIN:VEVENT
DTSTAMP:20100909T114609
DTSTART;TZID=America/Detroit:20101022T083000
DTEND;TZID=America/Detroit:20101022T190000
SUMMARY:Exhibition:From Trace to Text: Highlights from the U-M Papyrus Collection
DESCRIPTION:This exhibit provides a behind-the-scenes look at the work of papyrologists: how they conserve scraps of often badly damaged papyri\, decipher traces of ink\, read and translate the resulting text\, edit and interpret its contents\, and make this available to both scholars and the general public. Modern technology\, such as digitization and multi-spectral imaging\, is aiding papyrologists in all of these efforts.\n\nTexts on display are some of the highlights of the collection. They include a wonderful drawing of an elephant\, a letter from a newly enlisted soldier to his mother\, and\, of course\, some pages of the oldest manuscript with letters of St. Paul (one of the most famous texts of the collection).\n\nIn its 90-year history\, the University of Michigan Papyrus Collection has trained more students and scholars in the field of papyrology than any other institution in North America. Founded by the visionary Francis W. Kelsey\, the Papyrus Collection has been the training ground for papyrologists from around the world and home to many great resident scholars\, such as Herbert and Louise Youtie\, Ludwig Koenen\, and Traianos Gagos\, who died on April 26\, 2010.\n\nPapyrology is the field of scholarship that deciphers and studies the texts written –primarily on papyrus– by people living in the ancient Mediterranean world between 2\,500 BCE and 1\,000 CE. Most of these texts are found in Egypt where the climate is dry enough to preserve this fragile material. It is a highly specialized and technical field\, requiring intensive training in language (Egyptian\, ancient Greek\, Latin\, Arabic)\, history\, and the unique set of skills necessary for reading original documents.\n\nThe exhibit is open during Audubon Room hours: Sun 1-7pm\, Mon-Fri 8:30-7pm\, Sat 10am-6pm.\n\nThis Exhibit is in Honor of Traianos Gagos (1960-2010).
UID:3497-917748@events.umich.edu
URL:https://events.umich.edu/event/3497
CLASS:PUBLIC
STATUS:CONFIRMED
CATEGORIES:
LOCATION:Hatcher Graduate Library - Audubon Room
CONTACT:
END:VEVENT
BEGIN:VEVENT
DTSTAMP:20100902T202613
DTSTART;TZID=America/Detroit:20101022T090000
DTEND;TZID=America/Detroit:20101022T170000
SUMMARY:Exhibition:Lecture on the Weather
DESCRIPTION:This multi-media stage work by John Cage\, based on the texts of Henry David Thoreau\, brings together speech\, music\, film\, lighting\, and a weather soundscape to form a softly political piece as relevant today as the year it was written. \n\nCage (1912-1992) was well known as an experimental composer\, philosopher\, writer\, and visual artist. A protean figure of the postwar avant-garde\, Cage collaborated with Merce Cunningham and visual artists including Joseph Beuys\, Robert Rauschenberg\, and Nam June Paik.\n\nExhibit celebration is Nov. 3\, 5-7pm\, in the gallery.
UID:3471-916201@events.umich.edu
URL:https://events.umich.edu/event/3471
CLASS:PUBLIC
STATUS:CONFIRMED
CATEGORIES:film,visual arts,social justice,music
LOCATION:202 S. Thayer - Gallery
CONTACT:
END:VEVENT
BEGIN:VEVENT
DTSTAMP:20101111T175648
DTSTART;TZID=America/Detroit:20101022T093000
DTEND;TZID=America/Detroit:20101022T143000
SUMMARY:Presentation:Social Work Day 2010
DESCRIPTION:Professors & Administrators will speak on educational opportunities in social work and University of Michigan degree programs:\n\nMaster of Social Work & Ph.D. in Social Work and Social Science
UID:3619-912782@events.umich.edu
URL:https://events.umich.edu/event/3619
CLASS:PUBLIC
STATUS:CONFIRMED
CATEGORIES:
LOCATION:School of Social Work Building - Educational Conference Center (ECC)
CONTACT:
END:VEVENT
BEGIN:VEVENT
DTSTAMP:20100817T114436
DTSTART;TZID=America/Detroit:20101022T100000
SUMMARY:Exhibition:On Beauty and the Everyday: The Prints of James McNeill Whistler
DESCRIPTION:UMMA's rare and important collection of James McNeill Whistler works on paper represents  one of the finest holdings of Whistler's graphic output in North America. This major exhibition  features more than 100 works of art from UMMA's Whistler collection\, which covers the  artist's entire career in Europe\, ranging from his student days and exposure to the vanguard  artistic movements of the 19th century to the groundbreaking and atmospheric lithographs  and etchings of his mature style. It is the first exhibition devoted to Whistler's works at  UMMA since 1994.\n\nNearly all of the Whistler works came to the Museum through the bequest of Margaret  Watson Parker\, an early collector of both Whistler's prints as well as Japanese art. The  exhibition explores Whistler's illustrious life and career\; his artistic themes and concerns\,  including portraiture and his well-known series from England\, Italy\, and France\; the interests  and legacy of early-20th-century Whistler collector Margaret Watson Parker\; and the tools  and techniques that Whistler employed as a printmaker.
UID:3291-921191@events.umich.edu
URL:https://events.umich.edu/event/3291
CLASS:PUBLIC
STATUS:CONFIRMED
CATEGORIES:visual arts
LOCATION:Museum of Art
CONTACT:
END:VEVENT
BEGIN:VEVENT
DTSTAMP:20101111T175737
DTSTART;TZID=America/Detroit:20101022T100000
SUMMARY:Exhibition:Out of the Ordinary: Selections from the Bohlen Wood Art and Fusfeld Folk Art Collections
DESCRIPTION:This exhibition\, which runs from September 11 through Spring of 2011\, allows visitors to  explore two extraordinary collections of art–the Robert M. and Lillian Montalto Bohlen  Collection of Wood Art and the Daniel and Harriet Fusfeld Folk Art Collection. The Bohlen  collection presents an astonishing range of contemporary artworks fashioned from wood and  includes works that explores traditional and non-traditional vessel forms as well as works that  are more purely sculptural. The outstanding objects that make up the Fusfeld collection are both  geographically and historically wide-ranging\, including work by early nineteenth-century  itinerant folk portraitists as well as late twentieth-century sculpture and painting by “outsider”  artists from the American South\, Midwest\, and Northeast.
UID:3293-916119@events.umich.edu
URL:https://events.umich.edu/event/3293
CLASS:PUBLIC
STATUS:CONFIRMED
CATEGORIES:visual arts
LOCATION:Museum of Art
CONTACT:
END:VEVENT
BEGIN:VEVENT
DTSTAMP:20101111T175654
DTSTART;TZID=America/Detroit:20101022T100000
SUMMARY:Exhibition:UMMA Projects: Jakob Kolding
DESCRIPTION:UMMA is pleased to present the first solo exhibition in a North American museum of Berlin- based artist Jakob Kolding. Kolding's work revolves around the experience of life in the  contemporary built environment\, particularly the relationships and contradictions that emerge  between how architectural spaces are planned and how they are actively used. His collages\,  drawings\, posters\, and mixed-media sculptures incorporate a wide range of source material\,  sampling and mixing the visual idiom of modernist art and architecture\, the language of  sociological inquiry\, and such popular cultural forms as hip-hop and electronic music\,  skateboarding\, and soccer. Kolding's dynamic compositions encourage us to actively question  the relationship between space and behavior\, and to imagine forms of self-expression that  use the built environment in creative new ways.
UID:3292-913269@events.umich.edu
URL:https://events.umich.edu/event/3292
CLASS:PUBLIC
STATUS:CONFIRMED
CATEGORIES:visual arts
LOCATION:Museum of Art
CONTACT:
END:VEVENT
BEGIN:VEVENT
DTSTAMP:20100930T155754
DTSTART;TZID=America/Detroit:20101022T120000
DTEND;TZID=America/Detroit:20101022T180000
SUMMARY:Exhibition:Affinity of Form
DESCRIPTION:A photography exhibition by Stanford Lipsey will open on Thursday\, October 7 and  will run through Tuesday\, November 2\, 2010. The exhibition of 45 digital images\,  titled “Affinity of Form” (which also is the title of his recently published book)\, uses  the juxtaposition of photographs to build a comparative concept within a set of two  images. Lipsey graduated from the University of Michigan in 1948 with a degree in  economics and while a student here he was a photographer for the Michigan Daily  and Photography Editor for the Michiganensian.  The Student Publications Building  was named for Stanford Lipsey in 2005.
UID:3907-915733@events.umich.edu
URL:https://events.umich.edu/event/3907
CLASS:PUBLIC
STATUS:CONFIRMED
CATEGORIES:visual arts
LOCATION:Duderstadt Center - Gallery
CONTACT:
END:VEVENT
BEGIN:VEVENT
DTSTAMP:20101007T112340
DTSTART;TZID=America/Detroit:20101022T120000
DTEND;TZID=America/Detroit:20101022T170000
SUMMARY:Lecture / Discussion:Sexism in the Media
DESCRIPTION:Angela McRobbie\, Communications\, Goldsmith College\, University of London Joan Morgan\, Visiting Research Scholar\, Vanderbilt University Janice Radway\, Communications\, Northwestern University Andi Zeisler\, Bitch Magazine Catherine Squires\, Communication Studies\, University of Minnesota Joan Braderman\, Video\, Film and Media Studies\, Hampshire College\n\n 12:00: Welcome\, Susan Douglas\, Chair\, Department of Communication Studies\, \"The Rise of Enlightened Sexism\"  \n\n12:45-2:15: The New Postfeminism: Angela McRobbie\, Professor of Communications\, Goldsmith College\, University of London\, \"The Aftermath of Feminism\" Joan Morgan\, Journalist\, former Executive Editor of Essence\, author\, When Chickenheads Come Home to Roost  \n\n2:30-4:30: Talking Back to Sexism and Racism in the Media: Janice Radway\, Dill Scott Professor of Communications\, Northwestern University\, Andi Zeisler\, Co-founder and Editorial/Creative Director\, Bitch Magazine and author\, Feminism and Pop Culture\, Catherine Squires\, Cowles Professor of Journalism\, Diversity and Equality\, University of Minnesota\, author\, African Americans and the Media  \n\n4:30-5:00:Q&A\, Discussion.
UID:3985-921589@events.umich.edu
URL:https://events.umich.edu/event/3985
CLASS:PUBLIC
STATUS:CONFIRMED
CATEGORIES:
LOCATION:Michigan Union - Kuenzel Room
CONTACT:
END:VEVENT
BEGIN:VEVENT
DTSTAMP:20101111T175649
DTSTART;TZID=America/Detroit:20101022T150000
DTEND;TZID=America/Detroit:20101022T170000
SUMMARY:Workshop / Seminar:Conflict & Culture Conversation
DESCRIPTION:Discussion and workshop for international students on the topics of culture\, communication\, and constructive conflict management.
UID:4090-912869@events.umich.edu
URL:https://events.umich.edu/event/4090
CLASS:PUBLIC
STATUS:CONFIRMED
CATEGORIES:
LOCATION:International Center
CONTACT:
END:VEVENT
BEGIN:VEVENT
DTSTAMP:20101111T175754
DTSTART;TZID=America/Detroit:20101022T170000
DTEND;TZID=America/Detroit:20101022T180000
SUMMARY:Reception / Open House:OSCR Open House
DESCRIPTION:Meet OSCR's new director\, learn about available resources\, and receive on the spot conflict coaching.
UID:4091-917139@events.umich.edu
URL:https://events.umich.edu/event/4091
CLASS:PUBLIC
STATUS:CONFIRMED
CATEGORIES:
LOCATION:South Quad - G121
CONTACT:
END:VEVENT
BEGIN:VEVENT
DTSTAMP:20101111T175846
DTSTART;TZID=America/Detroit:20101022T190000
DTEND;TZID=America/Detroit:20101022T213000
SUMMARY:Other:BiLateral's Bi-annual Speed Dating Event!
DESCRIPTION:From 7pm until 8pm is opposite-gender dating - from 8:30pm until 9:30pm is same-gender dating. Remember\,  speed dating means meeting new people - even if you don't hit it off romantically\, it's also a good way to make  interesting friends.
UID:4010-920678@events.umich.edu
URL:https://events.umich.edu/event/4010
CLASS:PUBLIC
STATUS:CONFIRMED
CATEGORIES:
LOCATION:Michigan Union - Wolverine Room
CONTACT:
END:VEVENT
BEGIN:VEVENT
DTSTAMP:20100915T164955
DTSTART;TZID=America/Detroit:20101022T190000
DTEND;TZID=America/Detroit:20101022T213000
SUMMARY:Film Screening:Hidden Fortress
DESCRIPTION:1958 / 139 min. / 35mm / In Japanese with English subtitles\n\nA general and a plucky princess\, accompanied by two bumbling peasants\, smuggle  treasure out of hostile territory in this film. George Lucas based his initial outline of  Star Wars on Kurosawa's film.
UID:3679-912455@events.umich.edu
URL:https://events.umich.edu/event/3679
CLASS:PUBLIC
STATUS:CONFIRMED
CATEGORIES:
LOCATION:Lorch Hall - Askwith Auditorium
CONTACT:
END:VEVENT
BEGIN:VEVENT
DTSTAMP:20101111T175654
DTSTART;TZID=America/Detroit:20101022T190000
SUMMARY:Reception / Open House:Meedical Student Council Fall Ball
DESCRIPTION:
UID:3737-913192@events.umich.edu
URL:https://events.umich.edu/event/3737
CLASS:PUBLIC
STATUS:CONFIRMED
CATEGORIES:
LOCATION:Michigan League - Ballroom
CONTACT:
END:VEVENT
BEGIN:VEVENT
DTSTAMP:20101111T175739
DTSTART;TZID=America/Detroit:20101022T200000
DTEND;TZID=America/Detroit:20101022T223000
SUMMARY:Other:IGSA Game Night
DESCRIPTION:IGSA is holding its first game night this coming Friday. Come and join us for a relaxing night of playing various joyful games from backgammon to cards\, bluff\, charade\, and Mafia
UID:4121-916238@events.umich.edu
URL:https://events.umich.edu/event/4121
CLASS:PUBLIC
STATUS:CONFIRMED
CATEGORIES:
LOCATION:GG Brown Laboratory - 1040(blue lounge)
CONTACT:
END:VEVENT
BEGIN:VEVENT
DTSTAMP:20101111T175745
DTSTART;TZID=America/Detroit:20101022T200000
SUMMARY:Performance:The Ark at UMMA
DESCRIPTION:The Ark at UMMA invites student songwriters from University of Michigan\, Eastern Michigan  University and Washtenaw Community College to submit their original music demos in order to  compete for a live performance showcase at UMMA and a chance to perform at The Ark. Three  student showcases during October and November will be followed by a finale in December\, at  which the winner will be announced. Join our email list to find out who will be performing! Send  your email address to Emily@theark.org. Visit www.theark.org for more detailed information.
UID:3434-916612@events.umich.edu
URL:https://events.umich.edu/event/3434
CLASS:PUBLIC
STATUS:CONFIRMED
CATEGORIES:music
LOCATION:Museum of Art
CONTACT:
END:VEVENT
BEGIN:VEVENT
DTSTAMP:20101105T235936
DTSTART;TZID=America/Detroit:20101022T203000
DTEND;TZID=America/Detroit:20101022T223000
SUMMARY:Performance:Open Mic Night
DESCRIPTION:Sign-up for performers begins at 7:30 pm. The show begins at 8:30 pm.\n\nThis open mic will feature the theme: Go Blue! in conjunction with the last home football game  weekend of the season. Performers are encouraged to show their spirit in their performance and  attire. The audience will vote on the \"most spirited\" performer and the winner will get a prize.  There will also be a judged contest and prize for the best re-make of Hail to the Victors! \n\nOpen Mic Nights provide a venue for musicians\, singer-songwriters\, and spoken-word artists to perform in a diverse show of creative expression. Each semester culminates in the Best of Best Show (Dec 10 for the Fall semester)\, where performers from previous events who impressed our judges perform and earn a $40 prize.
UID:3927-931115@events.umich.edu
URL:https://events.umich.edu/event/3927
CLASS:PUBLIC
STATUS:CONFIRMED
CATEGORIES:
LOCATION:Michigan League - Underground
CONTACT:
END:VEVENT
END:VCALENDAR