BEGIN:VCALENDAR
VERSION:2.0
PRODID:-//UM//UM*Events//EN
CALSCALE:GREGORIAN
BEGIN:VTIMEZONE
TZID:America/Detroit
TZURL:http://tzurl.org/zoneinfo/America/Detroit
X-LIC-LOCATION:America/Detroit
BEGIN:DAYLIGHT
TZOFFSETFROM:-0500
TZOFFSETTO:-0400
TZNAME:EDT
DTSTART:20070311T020000
RRULE:FREQ=YEARLY;BYMONTH=3;BYDAY=2SU
END:DAYLIGHT
BEGIN:STANDARD
TZOFFSETFROM:-0400
TZOFFSETTO:-0500
TZNAME:EST
DTSTART:20071104T020000
RRULE:FREQ=YEARLY;BYMONTH=11;BYDAY=1SU
END:STANDARD
END:VTIMEZONE
BEGIN:VEVENT
DTSTAMP:20101111T175729
DTSTART;TZID=America/Detroit:20101023T000000
SUMMARY:Exhibition:U-M Alumni/Returned Peace Corps Volunteer Exhibition
DESCRIPTION:The University of Michigan School of Art & Design invites submissions of work in all media for a 50th anniversary celebratory exhibition of work by U-M alumni who are Returned Peace Corps Volunteers. Creative work should reflect or respond to the Peace Corps experience. Submitted work will be juried by a committee drawn from the School of Art & Design community.  Submittal information located at http://art-design.umich.edu/exhibitions/submit/peace_corps_alumni_exhibition
UID:3571-915553@events.umich.edu
URL:https://events.umich.edu/event/3571
CLASS:PUBLIC
STATUS:CONFIRMED
CATEGORIES:
LOCATION:Art and Architecture Building - Slusser Gallery
CONTACT:
END:VEVENT
BEGIN:VEVENT
DTSTAMP:20101111T175607
DTSTART;TZID=America/Detroit:20101023T000000
SUMMARY:Exhibition:U-M and the Peace Corps: It All Started Here
DESCRIPTION:This dynamic exhibit showcases the unique role of University of Michigan students and faculty in the creation and popularizing of the Peace Corps. As Sargent Shriver said\, \"It might still be just an idea but for”¦those Michigan students and faculty.\" The exhibit highlights the development of student activism as well as important historical events.\n\nNormal Library Hours: http://www.lib.umich.edu/hours/list.php?singlebuilding=4
UID:3498-909742@events.umich.edu
URL:https://events.umich.edu/event/3498
CLASS:PUBLIC
STATUS:CONFIRMED
CATEGORIES:
LOCATION:Hatcher Graduate Library - Library Gallery (Room 100)
CONTACT:
END:VEVENT
BEGIN:VEVENT
DTSTAMP:20101111T175853
DTSTART;TZID=America/Detroit:20101023T070000
SUMMARY:Exhibition:Peace Corps Photo Exhibit
DESCRIPTION:Come learn more about the University of Michigan's involvement in the founding of the U.S. Peace Corps\, through photos\, stories\, and other artifacts in this inspiring exhibit. As we celebrate the 50th anniversary of the Peace Corps and President Kennedy's speech on the steps of the Michigan Union\, this exhibit gives you a great opportunity to experience history.
UID:4009-921088@events.umich.edu
URL:https://events.umich.edu/event/4009
CLASS:PUBLIC
STATUS:CONFIRMED
CATEGORIES:visual arts
LOCATION:Michigan Union - Art Lounge
CONTACT:
END:VEVENT
BEGIN:VEVENT
DTSTAMP:20100909T114609
DTSTART;TZID=America/Detroit:20101023T083000
DTEND;TZID=America/Detroit:20101023T190000
SUMMARY:Exhibition:From Trace to Text: Highlights from the U-M Papyrus Collection
DESCRIPTION:This exhibit provides a behind-the-scenes look at the work of papyrologists: how they conserve scraps of often badly damaged papyri\, decipher traces of ink\, read and translate the resulting text\, edit and interpret its contents\, and make this available to both scholars and the general public. Modern technology\, such as digitization and multi-spectral imaging\, is aiding papyrologists in all of these efforts.\n\nTexts on display are some of the highlights of the collection. They include a wonderful drawing of an elephant\, a letter from a newly enlisted soldier to his mother\, and\, of course\, some pages of the oldest manuscript with letters of St. Paul (one of the most famous texts of the collection).\n\nIn its 90-year history\, the University of Michigan Papyrus Collection has trained more students and scholars in the field of papyrology than any other institution in North America. Founded by the visionary Francis W. Kelsey\, the Papyrus Collection has been the training ground for papyrologists from around the world and home to many great resident scholars\, such as Herbert and Louise Youtie\, Ludwig Koenen\, and Traianos Gagos\, who died on April 26\, 2010.\n\nPapyrology is the field of scholarship that deciphers and studies the texts written –primarily on papyrus– by people living in the ancient Mediterranean world between 2\,500 BCE and 1\,000 CE. Most of these texts are found in Egypt where the climate is dry enough to preserve this fragile material. It is a highly specialized and technical field\, requiring intensive training in language (Egyptian\, ancient Greek\, Latin\, Arabic)\, history\, and the unique set of skills necessary for reading original documents.\n\nThe exhibit is open during Audubon Room hours: Sun 1-7pm\, Mon-Fri 8:30-7pm\, Sat 10am-6pm.\n\nThis Exhibit is in Honor of Traianos Gagos (1960-2010).
UID:3497-917749@events.umich.edu
URL:https://events.umich.edu/event/3497
CLASS:PUBLIC
STATUS:CONFIRMED
CATEGORIES:
LOCATION:Hatcher Graduate Library - Audubon Room
CONTACT:
END:VEVENT
BEGIN:VEVENT
DTSTAMP:20100817T133253
DTSTART;TZID=America/Detroit:20101023T100000
DTEND;TZID=America/Detroit:20101023T130000
SUMMARY:Workshop / Seminar:Ann Arbor Art Center Workshops
DESCRIPTION:Explore a different artist\, artifact\, art element\, or art movement one Saturday a month this fall  at the University of Michigan's Museum of Art (UMMA). In response\, you'll create your own  masterpiece and learn a variety of art making techniques\, including mixed media and collage.  Along the way expect gallery games\, scavenger hunts\, and fun! Come with an open mind and a  sense of adventure. Take one workshop or all four\; all levels welcome.
UID:3305-919968@events.umich.edu
URL:https://events.umich.edu/event/3305
CLASS:PUBLIC
STATUS:CONFIRMED
CATEGORIES:visual arts
LOCATION:Museum of Art
CONTACT:
END:VEVENT
BEGIN:VEVENT
DTSTAMP:20100817T114436
DTSTART;TZID=America/Detroit:20101023T100000
SUMMARY:Exhibition:On Beauty and the Everyday: The Prints of James McNeill Whistler
DESCRIPTION:UMMA's rare and important collection of James McNeill Whistler works on paper represents  one of the finest holdings of Whistler's graphic output in North America. This major exhibition  features more than 100 works of art from UMMA's Whistler collection\, which covers the  artist's entire career in Europe\, ranging from his student days and exposure to the vanguard  artistic movements of the 19th century to the groundbreaking and atmospheric lithographs  and etchings of his mature style. It is the first exhibition devoted to Whistler's works at  UMMA since 1994.\n\nNearly all of the Whistler works came to the Museum through the bequest of Margaret  Watson Parker\, an early collector of both Whistler's prints as well as Japanese art. The  exhibition explores Whistler's illustrious life and career\; his artistic themes and concerns\,  including portraiture and his well-known series from England\, Italy\, and France\; the interests  and legacy of early-20th-century Whistler collector Margaret Watson Parker\; and the tools  and techniques that Whistler employed as a printmaker.
UID:3291-921192@events.umich.edu
URL:https://events.umich.edu/event/3291
CLASS:PUBLIC
STATUS:CONFIRMED
CATEGORIES:visual arts
LOCATION:Museum of Art
CONTACT:
END:VEVENT
BEGIN:VEVENT
DTSTAMP:20101111T175737
DTSTART;TZID=America/Detroit:20101023T100000
SUMMARY:Exhibition:Out of the Ordinary: Selections from the Bohlen Wood Art and Fusfeld Folk Art Collections
DESCRIPTION:This exhibition\, which runs from September 11 through Spring of 2011\, allows visitors to  explore two extraordinary collections of art–the Robert M. and Lillian Montalto Bohlen  Collection of Wood Art and the Daniel and Harriet Fusfeld Folk Art Collection. The Bohlen  collection presents an astonishing range of contemporary artworks fashioned from wood and  includes works that explores traditional and non-traditional vessel forms as well as works that  are more purely sculptural. The outstanding objects that make up the Fusfeld collection are both  geographically and historically wide-ranging\, including work by early nineteenth-century  itinerant folk portraitists as well as late twentieth-century sculpture and painting by “outsider”  artists from the American South\, Midwest\, and Northeast.
UID:3293-916120@events.umich.edu
URL:https://events.umich.edu/event/3293
CLASS:PUBLIC
STATUS:CONFIRMED
CATEGORIES:visual arts
LOCATION:Museum of Art
CONTACT:
END:VEVENT
BEGIN:VEVENT
DTSTAMP:20101111T175654
DTSTART;TZID=America/Detroit:20101023T100000
SUMMARY:Exhibition:UMMA Projects: Jakob Kolding
DESCRIPTION:UMMA is pleased to present the first solo exhibition in a North American museum of Berlin- based artist Jakob Kolding. Kolding's work revolves around the experience of life in the  contemporary built environment\, particularly the relationships and contradictions that emerge  between how architectural spaces are planned and how they are actively used. His collages\,  drawings\, posters\, and mixed-media sculptures incorporate a wide range of source material\,  sampling and mixing the visual idiom of modernist art and architecture\, the language of  sociological inquiry\, and such popular cultural forms as hip-hop and electronic music\,  skateboarding\, and soccer. Kolding's dynamic compositions encourage us to actively question  the relationship between space and behavior\, and to imagine forms of self-expression that  use the built environment in creative new ways.
UID:3292-913270@events.umich.edu
URL:https://events.umich.edu/event/3292
CLASS:PUBLIC
STATUS:CONFIRMED
CATEGORIES:visual arts
LOCATION:Museum of Art
CONTACT:
END:VEVENT
BEGIN:VEVENT
DTSTAMP:20101111T175906
DTSTART;TZID=America/Detroit:20101023T103000
DTEND;TZID=America/Detroit:20101023T113000
SUMMARY:Lecture / Discussion:Cochlear Implants: An Amazing Advancement
DESCRIPTION:Cochlear implants are considered to be one of the most significant technological  achievements in the twentieth century for the treatment of deafness. Prior to the  introduction of these implants\, treatment options for profoundly deaf individuals  included visual communication (lipreading or sign language)\, tactile devices\, or  reliance on amplification systems that provided limited auditory information.  Cochlear implants enable most users to detect and recognize speech sounds across  the entire speech spectrum even at very soft levels – a great improvement when  compared to the limited information deaf patients receive with traditional hearing  aids. This increased ability to understand speech has resulted in striking  improvements in spoken language skills\, academic and vocational achievements\,  and quality of life for profoundly deaf individuals. This lecture will discuss this  amazing technology\, including a description of the internal and external  components of contemporary devices\, outline the surgical procedures to place the  electrode array in the inner ear\, and present the outcomes obtained with current  cochlear implant recipients.
UID:3775-921922@events.umich.edu
URL:https://events.umich.edu/event/3775
CLASS:PUBLIC
STATUS:CONFIRMED
CATEGORIES:
LOCATION:Weiser Hall - 170 &amp;amp; 182
CONTACT:
END:VEVENT
BEGIN:VEVENT
DTSTAMP:20101111T175617
DTSTART;TZID=America/Detroit:20101023T120000
DTEND;TZID=America/Detroit:20101023T160000
SUMMARY:Workshop / Seminar:Connect with SI:
DESCRIPTION:The Information Age calls for progressive academic programs to meet the needs of future professionals. At Connect with SI\, you'll learn about our innovative and flexible Master of Science in Information and our Ph.D. in Information. \n\nFind out how a degree from the School of Information can accelerate your career. \n\nReserve your space by Monday\, Oct. 18:    On the Web at si.umich.edu/rsvp \;    By e-mail to si.rsvp@umich.edu \;    Or by phone at (734) 763-2285
UID:4033-910411@events.umich.edu
URL:https://events.umich.edu/event/4033
CLASS:PUBLIC
STATUS:CONFIRMED
CATEGORIES:
LOCATION:Palmer Commons - Great Lakes Room
CONTACT:
END:VEVENT
BEGIN:VEVENT
DTSTAMP:20101111T175843
DTSTART;TZID=America/Detroit:20101023T130000
SUMMARY:Exhibition:Guided Tour
DESCRIPTION:This is one of two new tours that looks at UMMA collections through the lens of a particular  theme. \"Political and Social Expressions in Art\" considers art displaying political and social  issues. Both new tours are offered in conjunction with the UM theme semester \"What Makes Life  Worth Living?\"
UID:3436-920477@events.umich.edu
URL:https://events.umich.edu/event/3436
CLASS:PUBLIC
STATUS:CONFIRMED
CATEGORIES:visual arts
LOCATION:Museum of Art
CONTACT:
END:VEVENT
BEGIN:VEVENT
DTSTAMP:20100826T222954
DTSTART;TZID=America/Detroit:20101023T133000
DTEND;TZID=America/Detroit:20101023T160000
SUMMARY:Workshop / Seminar:Artmaking: Ann Arbor Art Center Workshops
DESCRIPTION:This class focuses on drawing from observation. Become acquainted with exquisite objects from the UMMA collections–abstract sculpture (Giocometti\, Moore\, Calder)\, bronze dancers by Rodin\, African artifacts (nailed ritual objects\, beaded hats\, fertility figures)\, Thai Buddha and Indian Shiva figures\, and Korean pottery–while developing a sense of proportion\, perspective\, line quality\, value\, composition\, and personal style. Approaches introduced will include working on watercolored surface with white conte pencil and graphite pencil\, applying collage\, or writing on drawings. To the first class\, please bring: HB\, 2B\, and 2H graphite pencils\; an eraser\; and an 11 x 14 inch sketchbook. Saturdays\, October 9–Nov 13\, 1:30–4 pm. All levels welcome.
UID:3383-914936@events.umich.edu
URL:https://events.umich.edu/event/3383
CLASS:PUBLIC
STATUS:CONFIRMED
CATEGORIES:visual arts
LOCATION:Museum of Art
CONTACT:
END:VEVENT
BEGIN:VEVENT
DTSTAMP:20101111T175647
DTSTART;TZID=America/Detroit:20101023T140000
SUMMARY:Exhibition:Guided Tour
DESCRIPTION:The Bohlen collection presents an astonishing range of contemporary artworks fashioned from  wood and includes works that explores traditional and non-traditional vessel forms as well as  works that are more purely sculptural. The outstanding objects that make up the Fusfeld  collection are both geographically and historically wide-ranging\, including work by early  nineteenth-century itinerant folk portraitists as well as late twentieth-century sculpture and  painting by “outsider” artists from the American South\, Midwest\, and Northeast.
UID:3433-912733@events.umich.edu
URL:https://events.umich.edu/event/3433
CLASS:PUBLIC
STATUS:CONFIRMED
CATEGORIES:visual arts
LOCATION:Museum of Art
CONTACT:
END:VEVENT
BEGIN:VEVENT
DTSTAMP:20101111T175808
DTSTART;TZID=America/Detroit:20101023T200000
SUMMARY:Performance:Max Weinberg
DESCRIPTION:
UID:3151-918501@events.umich.edu
URL:https://events.umich.edu/event/3151
CLASS:PUBLIC
STATUS:CONFIRMED
CATEGORIES:music
LOCATION:
CONTACT:
END:VEVENT
BEGIN:VEVENT
DTSTAMP:20101111T175842
DTSTART;TZID=America/Detroit:20101023T200000
DTEND;TZID=America/Detroit:20101023T233000
SUMMARY:Ceremony / Service:Mehregan Festival
DESCRIPTION:Persian Festival of Autumn celebrated in honor of friendship\, affection and love.
UID:4086-920440@events.umich.edu
URL:https://events.umich.edu/event/4086
CLASS:PUBLIC
STATUS:CONFIRMED
CATEGORIES:multicultural
LOCATION:Trotter Multicultural Center - 1st floor lounge
CONTACT:
END:VEVENT
END:VCALENDAR