BEGIN:VCALENDAR
VERSION:2.0
PRODID:-//UM//UM*Events//EN
CALSCALE:GREGORIAN
BEGIN:VTIMEZONE
TZID:America/Detroit
TZURL:http://tzurl.org/zoneinfo/America/Detroit
X-LIC-LOCATION:America/Detroit
BEGIN:DAYLIGHT
TZOFFSETFROM:-0500
TZOFFSETTO:-0400
TZNAME:EDT
DTSTART:20070311T020000
RRULE:FREQ=YEARLY;BYMONTH=3;BYDAY=2SU
END:DAYLIGHT
BEGIN:STANDARD
TZOFFSETFROM:-0400
TZOFFSETTO:-0500
TZNAME:EST
DTSTART:20071104T020000
RRULE:FREQ=YEARLY;BYMONTH=11;BYDAY=1SU
END:STANDARD
END:VTIMEZONE
BEGIN:VEVENT
DTSTAMP:20101111T175729
DTSTART;TZID=America/Detroit:20101026T000000
SUMMARY:Exhibition:U-M Alumni/Returned Peace Corps Volunteer Exhibition
DESCRIPTION:The University of Michigan School of Art & Design invites submissions of work in all media for a 50th anniversary celebratory exhibition of work by U-M alumni who are Returned Peace Corps Volunteers. Creative work should reflect or respond to the Peace Corps experience. Submitted work will be juried by a committee drawn from the School of Art & Design community.  Submittal information located at http://art-design.umich.edu/exhibitions/submit/peace_corps_alumni_exhibition
UID:3571-915556@events.umich.edu
URL:https://events.umich.edu/event/3571
CLASS:PUBLIC
STATUS:CONFIRMED
CATEGORIES:
LOCATION:Art and Architecture Building - Slusser Gallery
CONTACT:
END:VEVENT
BEGIN:VEVENT
DTSTAMP:20101111T175607
DTSTART;TZID=America/Detroit:20101026T000000
SUMMARY:Exhibition:U-M and the Peace Corps: It All Started Here
DESCRIPTION:This dynamic exhibit showcases the unique role of University of Michigan students and faculty in the creation and popularizing of the Peace Corps. As Sargent Shriver said\, \"It might still be just an idea but for”¦those Michigan students and faculty.\" The exhibit highlights the development of student activism as well as important historical events.\n\nNormal Library Hours: http://www.lib.umich.edu/hours/list.php?singlebuilding=4
UID:3498-909744@events.umich.edu
URL:https://events.umich.edu/event/3498
CLASS:PUBLIC
STATUS:CONFIRMED
CATEGORIES:
LOCATION:Hatcher Graduate Library - Library Gallery (Room 100)
CONTACT:
END:VEVENT
BEGIN:VEVENT
DTSTAMP:20101111T175853
DTSTART;TZID=America/Detroit:20101026T070000
SUMMARY:Exhibition:Peace Corps Photo Exhibit
DESCRIPTION:Come learn more about the University of Michigan's involvement in the founding of the U.S. Peace Corps\, through photos\, stories\, and other artifacts in this inspiring exhibit. As we celebrate the 50th anniversary of the Peace Corps and President Kennedy's speech on the steps of the Michigan Union\, this exhibit gives you a great opportunity to experience history.
UID:4009-921091@events.umich.edu
URL:https://events.umich.edu/event/4009
CLASS:PUBLIC
STATUS:CONFIRMED
CATEGORIES:visual arts
LOCATION:Michigan Union - Art Lounge
CONTACT:
END:VEVENT
BEGIN:VEVENT
DTSTAMP:20100909T114609
DTSTART;TZID=America/Detroit:20101026T083000
DTEND;TZID=America/Detroit:20101026T190000
SUMMARY:Exhibition:From Trace to Text: Highlights from the U-M Papyrus Collection
DESCRIPTION:This exhibit provides a behind-the-scenes look at the work of papyrologists: how they conserve scraps of often badly damaged papyri\, decipher traces of ink\, read and translate the resulting text\, edit and interpret its contents\, and make this available to both scholars and the general public. Modern technology\, such as digitization and multi-spectral imaging\, is aiding papyrologists in all of these efforts.\n\nTexts on display are some of the highlights of the collection. They include a wonderful drawing of an elephant\, a letter from a newly enlisted soldier to his mother\, and\, of course\, some pages of the oldest manuscript with letters of St. Paul (one of the most famous texts of the collection).\n\nIn its 90-year history\, the University of Michigan Papyrus Collection has trained more students and scholars in the field of papyrology than any other institution in North America. Founded by the visionary Francis W. Kelsey\, the Papyrus Collection has been the training ground for papyrologists from around the world and home to many great resident scholars\, such as Herbert and Louise Youtie\, Ludwig Koenen\, and Traianos Gagos\, who died on April 26\, 2010.\n\nPapyrology is the field of scholarship that deciphers and studies the texts written –primarily on papyrus– by people living in the ancient Mediterranean world between 2\,500 BCE and 1\,000 CE. Most of these texts are found in Egypt where the climate is dry enough to preserve this fragile material. It is a highly specialized and technical field\, requiring intensive training in language (Egyptian\, ancient Greek\, Latin\, Arabic)\, history\, and the unique set of skills necessary for reading original documents.\n\nThe exhibit is open during Audubon Room hours: Sun 1-7pm\, Mon-Fri 8:30-7pm\, Sat 10am-6pm.\n\nThis Exhibit is in Honor of Traianos Gagos (1960-2010).
UID:3497-917752@events.umich.edu
URL:https://events.umich.edu/event/3497
CLASS:PUBLIC
STATUS:CONFIRMED
CATEGORIES:
LOCATION:Hatcher Graduate Library - Audubon Room
CONTACT:
END:VEVENT
BEGIN:VEVENT
DTSTAMP:20100902T202613
DTSTART;TZID=America/Detroit:20101026T090000
DTEND;TZID=America/Detroit:20101026T170000
SUMMARY:Exhibition:Lecture on the Weather
DESCRIPTION:This multi-media stage work by John Cage\, based on the texts of Henry David Thoreau\, brings together speech\, music\, film\, lighting\, and a weather soundscape to form a softly political piece as relevant today as the year it was written. \n\nCage (1912-1992) was well known as an experimental composer\, philosopher\, writer\, and visual artist. A protean figure of the postwar avant-garde\, Cage collaborated with Merce Cunningham and visual artists including Joseph Beuys\, Robert Rauschenberg\, and Nam June Paik.\n\nExhibit celebration is Nov. 3\, 5-7pm\, in the gallery.
UID:3471-916203@events.umich.edu
URL:https://events.umich.edu/event/3471
CLASS:PUBLIC
STATUS:CONFIRMED
CATEGORIES:film,music,social justice,visual arts
LOCATION:202 S. Thayer - Gallery
CONTACT:
END:VEVENT
BEGIN:VEVENT
DTSTAMP:20101018T161821
DTSTART;TZID=America/Detroit:20101026T100000
DTEND;TZID=America/Detroit:20101026T113000
SUMMARY:Workshop / Seminar:Ask the IC: Q&A Open Forum (scholars
DESCRIPTION:Register by October 22nd!\n\nAre you looking for an answer to a question (either regulatory or non-regulatory) in relation to working with J-1 exchange visiting scholars? Come to the Q&A Open Forum to learn with your colleagues and return to your department with an answer to those nagging questions. \n\nAn opportunity to meet and network with colleagues working with J-1 visiting scholars. A representative from the Payroll office will be present to address tax related questions. \n\nFor complete details\, please visit our website below
UID:4099-915349@events.umich.edu
URL:https://events.umich.edu/event/4099
CLASS:PUBLIC
STATUS:CONFIRMED
CATEGORIES:
LOCATION:Lurie Robert H. Engin. Ctr - Johnson Rooms (3rd Floor)
CONTACT:
END:VEVENT
BEGIN:VEVENT
DTSTAMP:20100817T114436
DTSTART;TZID=America/Detroit:20101026T100000
SUMMARY:Exhibition:On Beauty and the Everyday: The Prints of James McNeill Whistler
DESCRIPTION:UMMA's rare and important collection of James McNeill Whistler works on paper represents  one of the finest holdings of Whistler's graphic output in North America. This major exhibition  features more than 100 works of art from UMMA's Whistler collection\, which covers the  artist's entire career in Europe\, ranging from his student days and exposure to the vanguard  artistic movements of the 19th century to the groundbreaking and atmospheric lithographs  and etchings of his mature style. It is the first exhibition devoted to Whistler's works at  UMMA since 1994.\n\nNearly all of the Whistler works came to the Museum through the bequest of Margaret  Watson Parker\, an early collector of both Whistler's prints as well as Japanese art. The  exhibition explores Whistler's illustrious life and career\; his artistic themes and concerns\,  including portraiture and his well-known series from England\, Italy\, and France\; the interests  and legacy of early-20th-century Whistler collector Margaret Watson Parker\; and the tools  and techniques that Whistler employed as a printmaker.
UID:3291-921194@events.umich.edu
URL:https://events.umich.edu/event/3291
CLASS:PUBLIC
STATUS:CONFIRMED
CATEGORIES:visual arts
LOCATION:Museum of Art
CONTACT:
END:VEVENT
BEGIN:VEVENT
DTSTAMP:20101111T175737
DTSTART;TZID=America/Detroit:20101026T100000
SUMMARY:Exhibition:Out of the Ordinary: Selections from the Bohlen Wood Art and Fusfeld Folk Art Collections
DESCRIPTION:This exhibition\, which runs from September 11 through Spring of 2011\, allows visitors to  explore two extraordinary collections of art–the Robert M. and Lillian Montalto Bohlen  Collection of Wood Art and the Daniel and Harriet Fusfeld Folk Art Collection. The Bohlen  collection presents an astonishing range of contemporary artworks fashioned from wood and  includes works that explores traditional and non-traditional vessel forms as well as works that  are more purely sculptural. The outstanding objects that make up the Fusfeld collection are both  geographically and historically wide-ranging\, including work by early nineteenth-century  itinerant folk portraitists as well as late twentieth-century sculpture and painting by “outsider”  artists from the American South\, Midwest\, and Northeast.
UID:3293-916122@events.umich.edu
URL:https://events.umich.edu/event/3293
CLASS:PUBLIC
STATUS:CONFIRMED
CATEGORIES:visual arts
LOCATION:Museum of Art
CONTACT:
END:VEVENT
BEGIN:VEVENT
DTSTAMP:20100930T155754
DTSTART;TZID=America/Detroit:20101026T120000
DTEND;TZID=America/Detroit:20101026T180000
SUMMARY:Exhibition:Affinity of Form
DESCRIPTION:A photography exhibition by Stanford Lipsey will open on Thursday\, October 7 and  will run through Tuesday\, November 2\, 2010. The exhibition of 45 digital images\,  titled “Affinity of Form” (which also is the title of his recently published book)\, uses  the juxtaposition of photographs to build a comparative concept within a set of two  images. Lipsey graduated from the University of Michigan in 1948 with a degree in  economics and while a student here he was a photographer for the Michigan Daily  and Photography Editor for the Michiganensian.  The Student Publications Building  was named for Stanford Lipsey in 2005.
UID:3907-915735@events.umich.edu
URL:https://events.umich.edu/event/3907
CLASS:PUBLIC
STATUS:CONFIRMED
CATEGORIES:visual arts
LOCATION:Duderstadt Center - Gallery
CONTACT:
END:VEVENT
BEGIN:VEVENT
DTSTAMP:20101005T131709
DTSTART;TZID=America/Detroit:20101026T160000
DTEND;TZID=America/Detroit:20101026T173000
SUMMARY:Workshop / Seminar:CSEPH/RWJF HSS Seminar Series
DESCRIPTION:Craig Hadley\, Assistant Professor of Anthropology\, Emory University will talk about  how food insecurity occurs when individuals face unpredictable access to safe and  nutritious foods.  Although a common public health problem\, food insecurity has  rarely been a research priority among those studying population health\; however\,  this has been changing in the face of the global recession.  Dr. Hadley  will discuss the current global food insecurity situation and highlight studies that  have been carried out in East Africa examining the impact of food insecurity on  social\, physical and mental health.  He will then use data from an ongoing  longitudinal study to examine the impact the 2008 global food crisis had on  Ethiopian adolescents and specifically test several hypotheses promulgated in the  popular media about who was most affected by the food crisis. The results suggest  that youth are not buffered from the negative impacts of the global food crisis.  They also suggest that the patterns of vulnerability among Ethiopian youth differ  considerably from those reported in popular media outlets.  He will show that these  data offer a cautionary tale to broad generalizations about who is being affected by  the food crisis and suggest novel hypotheses and new research directions.
UID:3925-910535@events.umich.edu
URL:https://events.umich.edu/event/3925
CLASS:PUBLIC
STATUS:CONFIRMED
CATEGORIES:
LOCATION:School of Public Health Bldg I and Crossroads and Tower - 1655 SPH Crossroads
CONTACT:
END:VEVENT
BEGIN:VEVENT
DTSTAMP:20101006T124447
DTSTART;TZID=America/Detroit:20101026T160000
DTEND;TZID=America/Detroit:20101026T173000
SUMMARY:Presentation:Fellowship for Doctoral Research in Museums by KeunYoung Kim
DESCRIPTION:This lecture discusses China's self assertion as a “unified multi-national country” as  discussed in relation to the status of ethnic museums and how cultural diversity is  addressed within them. It addresses the important project in China of making 56  official ethnic groups into a “unified” country.
UID:3944-921066@events.umich.edu
URL:https://events.umich.edu/event/3944
CLASS:PUBLIC
STATUS:CONFIRMED
CATEGORIES:
LOCATION:Haven Hall - 4701
CONTACT:
END:VEVENT
BEGIN:VEVENT
DTSTAMP:20100826T215804
DTSTART;TZID=America/Detroit:20101026T160000
DTEND;TZID=America/Detroit:20101026T170000
SUMMARY:Lecture / Discussion:The Bitter Taste of Success
DESCRIPTION:Lecturer: Sarai Aharoni\, Bar-Ilan University
UID:3373-921704@events.umich.edu
URL:https://events.umich.edu/event/3373
CLASS:PUBLIC
STATUS:CONFIRMED
CATEGORIES:
LOCATION:202 S. Thayer - 2022
CONTACT:
END:VEVENT
BEGIN:VEVENT
DTSTAMP:20101111T175825
DTSTART;TZID=America/Detroit:20101026T170000
DTEND;TZID=America/Detroit:20101026T190000
SUMMARY:Film Screening:Film:  \"Crude:  The Real Price of Oil\"
DESCRIPTION:The story of a lawsuit by tens of thousands of Ecuadorans against Chevron over contamination of the Ecuadorean Amazon.  This is a first-run film.
UID:4116-919288@events.umich.edu
URL:https://events.umich.edu/event/4116
CLASS:PUBLIC
STATUS:CONFIRMED
CATEGORIES:social justice
LOCATION:School of Public Health Bldg I and Crossroads and Tower - 1755
CONTACT:
END:VEVENT
BEGIN:VEVENT
DTSTAMP:20101008T155407
DTSTART;TZID=America/Detroit:20101026T173000
DTEND;TZID=America/Detroit:20101026T190000
SUMMARY:Lecture / Discussion:Living the Dream: How to Solar Power Your House to Save the World
DESCRIPTION:Do you believe you can make a difference and help change the world? Stephen Forrest will talk about his experiences with his “off-the-grid” house in Vermont.\n\nForrest is Vice President of Research at the University of Michigan as well as a Professor of Engineering\, Computer Science\, and Physics.
UID:4026-915767@events.umich.edu
URL:https://events.umich.edu/event/4026
CLASS:PUBLIC
STATUS:CONFIRMED
CATEGORIES:
LOCATION:Hatcher Graduate Library - Gallery in Room 100
CONTACT:
END:VEVENT
BEGIN:VEVENT
DTSTAMP:20101111T175656
DTSTART;TZID=America/Detroit:20101026T190000
DTEND;TZID=America/Detroit:20101026T210000
SUMMARY:Exhibition:Gleek Out @ Pierpont
DESCRIPTION:Join your fellow Michigan \"Gleeks\" at our weekly Glee watch party! Held every Tuesday\, from 7-9 pm in the Pierpont Commons TV lounge (near UGo's)\, this event will become a regular favorite for all the UM Glee fans out there.\n\nEach week we'll have a different competition to find Michigan's biggest Gleeks\, then watch the show together. (Because we get it. It's awesome.)\n\nHere's the schedule of Gleek Competitions:\n\n10/12-Best McKinley HS Cheer 10/26-Sue Sylvester Zing-Off 11/2-Dress as Your Fave Character Costume Contest 11/9-Name that Glee Tune 11/16-Slushie Eating Contest 11/30-Glee Karaoke Contest 12/7-Extreme Glee Trivia\n\nCome prepared to show your stuff\, and be crowned Michigan's Biggest Gleek!
UID:4007-913342@events.umich.edu
URL:https://events.umich.edu/event/4007
CLASS:PUBLIC
STATUS:CONFIRMED
CATEGORIES:visual arts
LOCATION:Pierpont Commons - TV Lounge (Near UGo&#039;s)
CONTACT:
END:VEVENT
BEGIN:VEVENT
DTSTAMP:20100902T201924
DTSTART;TZID=America/Detroit:20101026T200000
DTEND;TZID=America/Detroit:20101026T230000
SUMMARY:Exhibition:ArtsBreak
DESCRIPTION:Come explore your creative side and make free crafts at ArtsBreak! Held every Tuesday night\, these drop-in events give you the chance to relieve some stress by making a cool\, totally free craft project. Stop by anytime between 8-11 p.m.\n\nFor the most up-to-date list of projects\, check out our website at: http://www.umich.edu/~uuap.
UID:3466-918979@events.umich.edu
URL:https://events.umich.edu/event/3466
CLASS:PUBLIC
STATUS:CONFIRMED
CATEGORIES:visual arts
LOCATION:Michigan Union - MUG (Ground Floor)
CONTACT:
END:VEVENT
BEGIN:VEVENT
DTSTAMP:20101111T175612
DTSTART;TZID=America/Detroit:20101026T200000
SUMMARY:Film Screening:Film Series: International Development Issues–Four Countries
DESCRIPTION:Issues\, problems\, successes and failures of international development will be explored by viewing films about four countries followed by discussion. Taking Root: The Vision of Wangari Maathai is the inspiring story of the Green Belt Movement and its Nobel Laureate founder (Oct. 26). End of the Rainbow is about the impact of gold mining in Guinea (Nov. 2). Poto Mitan is the story of five Haitian women who struggle against huge obstacles to create change through collective action (Nov. 9). Once in Afghanistan  is a film about the work of female Peace Corps vaccinators and its impact on them and Afghans (Nov. 16). This program is co-sponsored by the Global Scholars Program\, LSA Theme Semester and the International Center.
UID:3564-910074@events.umich.edu
URL:https://events.umich.edu/event/3564
CLASS:PUBLIC
STATUS:CONFIRMED
CATEGORIES:
LOCATION:North Quad
CONTACT:
END:VEVENT
BEGIN:VEVENT
DTSTAMP:20100831T120922
DTSTART;TZID=America/Detroit:20101026T200000
SUMMARY:Performance:UM Percussion Ensemble: Expatriations
DESCRIPTION:Just as UMMA's Whistler exhibition highlights the influence of Europe on this American visual artist\, the UM Percussion Ensemble\, directed by Professor Joseph Gramley\, presents works influenced by the adopted countries of several international composers\, including a new commission from Kojiro Umezaki\, raised in Japan but making his career in the United States\, and two works by Argentine-born composers who now live and work abroad: Alejandro Vinao and Osvaldo Golijov.
UID:3442-910107@events.umich.edu
URL:https://events.umich.edu/event/3442
CLASS:PUBLIC
STATUS:CONFIRMED
CATEGORIES:visual arts,music
LOCATION:Undergraduate Science Building - Apse
CONTACT:
END:VEVENT
END:VCALENDAR