BEGIN:VCALENDAR
VERSION:2.0
PRODID:-//UM//UM*Events//EN
CALSCALE:GREGORIAN
BEGIN:VTIMEZONE
TZID:America/Detroit
TZURL:http://tzurl.org/zoneinfo/America/Detroit
X-LIC-LOCATION:America/Detroit
BEGIN:DAYLIGHT
TZOFFSETFROM:-0500
TZOFFSETTO:-0400
TZNAME:EDT
DTSTART:20070311T020000
RRULE:FREQ=YEARLY;BYMONTH=3;BYDAY=2SU
END:DAYLIGHT
BEGIN:STANDARD
TZOFFSETFROM:-0400
TZOFFSETTO:-0500
TZNAME:EST
DTSTART:20071104T020000
RRULE:FREQ=YEARLY;BYMONTH=11;BYDAY=1SU
END:STANDARD
END:VTIMEZONE
BEGIN:VEVENT
DTSTAMP:20101111T175729
DTSTART;TZID=America/Detroit:20101027T000000
SUMMARY:Exhibition:U-M Alumni/Returned Peace Corps Volunteer Exhibition
DESCRIPTION:The University of Michigan School of Art & Design invites submissions of work in all media for a 50th anniversary celebratory exhibition of work by U-M alumni who are Returned Peace Corps Volunteers. Creative work should reflect or respond to the Peace Corps experience. Submitted work will be juried by a committee drawn from the School of Art & Design community.  Submittal information located at http://art-design.umich.edu/exhibitions/submit/peace_corps_alumni_exhibition
UID:3571-915557@events.umich.edu
URL:https://events.umich.edu/event/3571
CLASS:PUBLIC
STATUS:CONFIRMED
CATEGORIES:
LOCATION:Art and Architecture Building - Slusser Gallery
CONTACT:
END:VEVENT
BEGIN:VEVENT
DTSTAMP:20101111T175607
DTSTART;TZID=America/Detroit:20101027T000000
SUMMARY:Exhibition:U-M and the Peace Corps: It All Started Here
DESCRIPTION:This dynamic exhibit showcases the unique role of University of Michigan students and faculty in the creation and popularizing of the Peace Corps. As Sargent Shriver said\, \"It might still be just an idea but for”¦those Michigan students and faculty.\" The exhibit highlights the development of student activism as well as important historical events.\n\nNormal Library Hours: http://www.lib.umich.edu/hours/list.php?singlebuilding=4
UID:3498-909745@events.umich.edu
URL:https://events.umich.edu/event/3498
CLASS:PUBLIC
STATUS:CONFIRMED
CATEGORIES:
LOCATION:Hatcher Graduate Library - Library Gallery (Room 100)
CONTACT:
END:VEVENT
BEGIN:VEVENT
DTSTAMP:20101111T175853
DTSTART;TZID=America/Detroit:20101027T070000
SUMMARY:Exhibition:Peace Corps Photo Exhibit
DESCRIPTION:Come learn more about the University of Michigan's involvement in the founding of the U.S. Peace Corps\, through photos\, stories\, and other artifacts in this inspiring exhibit. As we celebrate the 50th anniversary of the Peace Corps and President Kennedy's speech on the steps of the Michigan Union\, this exhibit gives you a great opportunity to experience history.
UID:4009-921092@events.umich.edu
URL:https://events.umich.edu/event/4009
CLASS:PUBLIC
STATUS:CONFIRMED
CATEGORIES:visual arts
LOCATION:Michigan Union - Art Lounge
CONTACT:
END:VEVENT
BEGIN:VEVENT
DTSTAMP:20100909T114609
DTSTART;TZID=America/Detroit:20101027T083000
DTEND;TZID=America/Detroit:20101027T190000
SUMMARY:Exhibition:From Trace to Text: Highlights from the U-M Papyrus Collection
DESCRIPTION:This exhibit provides a behind-the-scenes look at the work of papyrologists: how they conserve scraps of often badly damaged papyri\, decipher traces of ink\, read and translate the resulting text\, edit and interpret its contents\, and make this available to both scholars and the general public. Modern technology\, such as digitization and multi-spectral imaging\, is aiding papyrologists in all of these efforts.\n\nTexts on display are some of the highlights of the collection. They include a wonderful drawing of an elephant\, a letter from a newly enlisted soldier to his mother\, and\, of course\, some pages of the oldest manuscript with letters of St. Paul (one of the most famous texts of the collection).\n\nIn its 90-year history\, the University of Michigan Papyrus Collection has trained more students and scholars in the field of papyrology than any other institution in North America. Founded by the visionary Francis W. Kelsey\, the Papyrus Collection has been the training ground for papyrologists from around the world and home to many great resident scholars\, such as Herbert and Louise Youtie\, Ludwig Koenen\, and Traianos Gagos\, who died on April 26\, 2010.\n\nPapyrology is the field of scholarship that deciphers and studies the texts written –primarily on papyrus– by people living in the ancient Mediterranean world between 2\,500 BCE and 1\,000 CE. Most of these texts are found in Egypt where the climate is dry enough to preserve this fragile material. It is a highly specialized and technical field\, requiring intensive training in language (Egyptian\, ancient Greek\, Latin\, Arabic)\, history\, and the unique set of skills necessary for reading original documents.\n\nThe exhibit is open during Audubon Room hours: Sun 1-7pm\, Mon-Fri 8:30-7pm\, Sat 10am-6pm.\n\nThis Exhibit is in Honor of Traianos Gagos (1960-2010).
UID:3497-917753@events.umich.edu
URL:https://events.umich.edu/event/3497
CLASS:PUBLIC
STATUS:CONFIRMED
CATEGORIES:
LOCATION:Hatcher Graduate Library - Audubon Room
CONTACT:
END:VEVENT
BEGIN:VEVENT
DTSTAMP:20100902T202613
DTSTART;TZID=America/Detroit:20101027T090000
DTEND;TZID=America/Detroit:20101027T170000
SUMMARY:Exhibition:Lecture on the Weather
DESCRIPTION:This multi-media stage work by John Cage\, based on the texts of Henry David Thoreau\, brings together speech\, music\, film\, lighting\, and a weather soundscape to form a softly political piece as relevant today as the year it was written. \n\nCage (1912-1992) was well known as an experimental composer\, philosopher\, writer\, and visual artist. A protean figure of the postwar avant-garde\, Cage collaborated with Merce Cunningham and visual artists including Joseph Beuys\, Robert Rauschenberg\, and Nam June Paik.\n\nExhibit celebration is Nov. 3\, 5-7pm\, in the gallery.
UID:3471-916204@events.umich.edu
URL:https://events.umich.edu/event/3471
CLASS:PUBLIC
STATUS:CONFIRMED
CATEGORIES:visual arts,social justice,music,film
LOCATION:202 S. Thayer - Gallery
CONTACT:
END:VEVENT
BEGIN:VEVENT
DTSTAMP:20100817T114436
DTSTART;TZID=America/Detroit:20101027T100000
SUMMARY:Exhibition:On Beauty and the Everyday: The Prints of James McNeill Whistler
DESCRIPTION:UMMA's rare and important collection of James McNeill Whistler works on paper represents  one of the finest holdings of Whistler's graphic output in North America. This major exhibition  features more than 100 works of art from UMMA's Whistler collection\, which covers the  artist's entire career in Europe\, ranging from his student days and exposure to the vanguard  artistic movements of the 19th century to the groundbreaking and atmospheric lithographs  and etchings of his mature style. It is the first exhibition devoted to Whistler's works at  UMMA since 1994.\n\nNearly all of the Whistler works came to the Museum through the bequest of Margaret  Watson Parker\, an early collector of both Whistler's prints as well as Japanese art. The  exhibition explores Whistler's illustrious life and career\; his artistic themes and concerns\,  including portraiture and his well-known series from England\, Italy\, and France\; the interests  and legacy of early-20th-century Whistler collector Margaret Watson Parker\; and the tools  and techniques that Whistler employed as a printmaker.
UID:3291-921195@events.umich.edu
URL:https://events.umich.edu/event/3291
CLASS:PUBLIC
STATUS:CONFIRMED
CATEGORIES:visual arts
LOCATION:Museum of Art
CONTACT:
END:VEVENT
BEGIN:VEVENT
DTSTAMP:20101111T175737
DTSTART;TZID=America/Detroit:20101027T100000
SUMMARY:Exhibition:Out of the Ordinary: Selections from the Bohlen Wood Art and Fusfeld Folk Art Collections
DESCRIPTION:This exhibition\, which runs from September 11 through Spring of 2011\, allows visitors to  explore two extraordinary collections of art–the Robert M. and Lillian Montalto Bohlen  Collection of Wood Art and the Daniel and Harriet Fusfeld Folk Art Collection. The Bohlen  collection presents an astonishing range of contemporary artworks fashioned from wood and  includes works that explores traditional and non-traditional vessel forms as well as works that  are more purely sculptural. The outstanding objects that make up the Fusfeld collection are both  geographically and historically wide-ranging\, including work by early nineteenth-century  itinerant folk portraitists as well as late twentieth-century sculpture and painting by “outsider”  artists from the American South\, Midwest\, and Northeast.
UID:3293-916123@events.umich.edu
URL:https://events.umich.edu/event/3293
CLASS:PUBLIC
STATUS:CONFIRMED
CATEGORIES:visual arts
LOCATION:Museum of Art
CONTACT:
END:VEVENT
BEGIN:VEVENT
DTSTAMP:20100930T155754
DTSTART;TZID=America/Detroit:20101027T120000
DTEND;TZID=America/Detroit:20101027T180000
SUMMARY:Exhibition:Affinity of Form
DESCRIPTION:A photography exhibition by Stanford Lipsey will open on Thursday\, October 7 and  will run through Tuesday\, November 2\, 2010. The exhibition of 45 digital images\,  titled “Affinity of Form” (which also is the title of his recently published book)\, uses  the juxtaposition of photographs to build a comparative concept within a set of two  images. Lipsey graduated from the University of Michigan in 1948 with a degree in  economics and while a student here he was a photographer for the Michigan Daily  and Photography Editor for the Michiganensian.  The Student Publications Building  was named for Stanford Lipsey in 2005.
UID:3907-915736@events.umich.edu
URL:https://events.umich.edu/event/3907
CLASS:PUBLIC
STATUS:CONFIRMED
CATEGORIES:visual arts
LOCATION:Duderstadt Center - Gallery
CONTACT:
END:VEVENT
BEGIN:VEVENT
DTSTAMP:20100810T175852
DTSTART;TZID=America/Detroit:20101027T120000
DTEND;TZID=America/Detroit:20101027T133000
SUMMARY:Lecture / Discussion:CREES/IPC Noon Panel
DESCRIPTION:Panelists: Rutherford Hubbard\, REES MA/JD student\, U-M\, and RPCV (Armenia 2006-08) Mahima Mahadevan\, MPP student\, U-M. and RPCV (Kyrgyz Republic 2004-06) Will Nash\, Immigration Specialist\, International Center\, U-M\, and RPCV (Ukraine 2001-03) Maria Smith\, REES MA/MPP student\, U-M\, and RPCV (Azerbaijan 2006-08)\n\nThis event is part of U-M's 50th Anniversary of the Peace Corps series and LSA Theme Semester (“What Makes Life Worth Living”).
UID:3255-912553@events.umich.edu
URL:https://events.umich.edu/event/3255
CLASS:PUBLIC
STATUS:CONFIRMED
CATEGORIES:social justice
LOCATION:School of Social Work Building - 1636
CONTACT:
END:VEVENT
BEGIN:VEVENT
DTSTAMP:20101008T155625
DTSTART;TZID=America/Detroit:20101027T120000
DTEND;TZID=America/Detroit:20101027T133000
SUMMARY:Film Screening:Lioness
DESCRIPTION:Government policy prohibits women from fighting in ground combat\, so they aren't trained for it -- but that doesn't mean that they don't get caught in skirmishes. This compelling documentary about women soldiers in Iraq gives an inside look at the first women in U.S. history to engage in ground combat.\n\nInvesting in Ability Week promotes a greater recognition of the skills and talents which people with disabilities contribute to the University and the greater society. For more information about Investing in Ability Week\, and a list of events\, see http://hr.umich.edu/ability/iaw/index.html.
UID:4027-920756@events.umich.edu
URL:https://events.umich.edu/event/4027
CLASS:PUBLIC
STATUS:CONFIRMED
CATEGORIES:
LOCATION:Hatcher Graduate Library - Gallery in Room 100
CONTACT:
END:VEVENT
BEGIN:VEVENT
DTSTAMP:20101022T140903
DTSTART;TZID=America/Detroit:20101027T133000
DTEND;TZID=America/Detroit:20101027T150000
SUMMARY:Lecture / Discussion:Someone Like Me\, An Unlikely Story of Challenge and Triumph Over Cerebral Palsy
DESCRIPTION:Living with a handicap – a life filled with pain\, laughter and love –  is described by  John W. Quinn in \"Someone Like Me\, An Unlikely Story of Challenge and Triumph  Over Cerebral Palsy.\"  John retired at the age of forty after a highly successful  twenty-year career in a major corporation: the United States Navy. He did it all while  keeping his condition a complete secret out of a deep desire to be treated just like  everyone else.\n\nIntroduction by Dr. Edward Hurvitz\, Chair\, Department of Physical Medicine and  Rehabilitation. Book signing after presentation.\n\nInvesting in Ability Week promotes a greater recognition of the skills and talents  which people with disabilities contribute to the University and the greater society.
UID:4131-914347@events.umich.edu
URL:https://events.umich.edu/event/4131
CLASS:PUBLIC
STATUS:CONFIRMED
CATEGORIES:
LOCATION:Hatcher Graduate Library - Gallery in Room 100
CONTACT:
END:VEVENT
BEGIN:VEVENT
DTSTAMP:20101111T175754
DTSTART;TZID=America/Detroit:20101027T153000
DTEND;TZID=America/Detroit:20101027T170000
SUMMARY:Lecture / Discussion:Expressive Writing Panel
DESCRIPTION:Veterans from the Ann Arbor VA Healthcare system will share their stories  contributing to their recovery. The Expressive Writing Workshop helps Veterans use  expressive writing for recovery from war. This panel of Veterans from the  Workshop  will be introduced by Dr. Beau Nelson\, Recovery Coordinator\, Ann Arbor VA Hospital.\n\nInvesting in Ability Week promotes a greater recognition of the skills and talents  which people with disabilities contribute to the University and the greater society. For  more information about Investing in Ability Week\, and a list of events\, see  http://hr.umich.edu/ability/iaw/index.html.
UID:4132-917144@events.umich.edu
URL:https://events.umich.edu/event/4132
CLASS:PUBLIC
STATUS:CONFIRMED
CATEGORIES:
LOCATION:Hatcher Graduate Library - Gallery in Room 100
CONTACT:
END:VEVENT
BEGIN:VEVENT
DTSTAMP:20101021T165338
DTSTART;TZID=America/Detroit:20101027T180000
DTEND;TZID=America/Detroit:20101027T200000
SUMMARY:Reception / Open House:YHO Student-Faculty Benefit Dinner 2010-\"Many Hands Lighten The Load\"
DESCRIPTION:YHO is hosting its 3RD ANNUAL STUDENT-FACULTY DINNER on Wednesday\, October 27\, 2010\, with the purpose of bringing together students and faculty members from various disciplines on campus through a common concern for a social cause.\n\nWe hope to raise awareness about the status quo and reconstruction progress in Haiti\, and to encourage donations at the event. Two UM faculty speakers will be speaking at the dinner to share their experiences and knowledge about Haiti. Student organizations with similar interests in service will also be invited to display their works at the event. There will be performances by student groups as well\, such as Kopitonez and Michigan Bhangra.The Student-Faculty Dinner brings together people from all expertise to create dialogue about cultural and social issues in Haiti. \n\nSo\, come enjoy a free dinner & student performances\, hear and learn about Haiti and mingle with professors interested in health care/social issue!\n\nGo to yho signup.tk for more details and RSVP to reserve a seat at the table for dinner!=)
UID:4114-909089@events.umich.edu
URL:https://events.umich.edu/event/4114
CLASS:PUBLIC
STATUS:CONFIRMED
CATEGORIES:multicultural,social justice
LOCATION:Michigan Union - Rogel Ballroom
CONTACT:
END:VEVENT
BEGIN:VEVENT
DTSTAMP:20101025T155810
DTSTART;TZID=America/Detroit:20101027T190000
SUMMARY:Film Screening:Friends of Dorothy: Oz's Legacy to the LGBT Community
DESCRIPTION:Judy Garland's portrayal of Dorothy Gale helped make her a gay icon and \"Somewhere Over the Rainbow\" became the gay anthem -- a yearning for a home far away from the small-town provincialism of a black-and-white existence. Audience members will join panelists in discussing the historical and ongoing legacy of the Oz books and movies for the shaping of the LGBT psyche.\n\nWith special guests:  Martin Contreras\, co-owner of Aut Bar and Common Language Bookstore David Halperin\, Professor of History and Theory of Sexuality Nadine Hubbs\, Associate Professor\, Women's Studies and Music Charles Sutherland\, Actor
UID:4118-915753@events.umich.edu
URL:https://events.umich.edu/event/4118
CLASS:PUBLIC
STATUS:CONFIRMED
CATEGORIES:
LOCATION:East Quadrangle - 126
CONTACT:
END:VEVENT
BEGIN:VEVENT
DTSTAMP:20100727T174505
DTSTART;TZID=America/Detroit:20101027T200000
SUMMARY:Performance:Big Bad Voodoo Daddy
DESCRIPTION:
UID:3085-915434@events.umich.edu
URL:https://events.umich.edu/event/3085
CLASS:PUBLIC
STATUS:CONFIRMED
CATEGORIES:music
LOCATION:
CONTACT:
END:VEVENT
END:VCALENDAR