BEGIN:VCALENDAR
VERSION:2.0
PRODID:-//UM//UM*Events//EN
CALSCALE:GREGORIAN
BEGIN:VTIMEZONE
TZID:America/Detroit
TZURL:http://tzurl.org/zoneinfo/America/Detroit
X-LIC-LOCATION:America/Detroit
BEGIN:DAYLIGHT
TZOFFSETFROM:-0500
TZOFFSETTO:-0400
TZNAME:EDT
DTSTART:20070311T020000
RRULE:FREQ=YEARLY;BYMONTH=3;BYDAY=2SU
END:DAYLIGHT
BEGIN:STANDARD
TZOFFSETFROM:-0400
TZOFFSETTO:-0500
TZNAME:EST
DTSTART:20071104T020000
RRULE:FREQ=YEARLY;BYMONTH=11;BYDAY=1SU
END:STANDARD
END:VTIMEZONE
BEGIN:VEVENT
DTSTAMP:20101111T175729
DTSTART;TZID=America/Detroit:20101028T000000
SUMMARY:Exhibition:U-M Alumni/Returned Peace Corps Volunteer Exhibition
DESCRIPTION:The University of Michigan School of Art & Design invites submissions of work in all media for a 50th anniversary celebratory exhibition of work by U-M alumni who are Returned Peace Corps Volunteers. Creative work should reflect or respond to the Peace Corps experience. Submitted work will be juried by a committee drawn from the School of Art & Design community.  Submittal information located at http://art-design.umich.edu/exhibitions/submit/peace_corps_alumni_exhibition
UID:3571-915558@events.umich.edu
URL:https://events.umich.edu/event/3571
CLASS:PUBLIC
STATUS:CONFIRMED
CATEGORIES:
LOCATION:Art and Architecture Building - Slusser Gallery
CONTACT:
END:VEVENT
BEGIN:VEVENT
DTSTAMP:20101111T175607
DTSTART;TZID=America/Detroit:20101028T000000
SUMMARY:Exhibition:U-M and the Peace Corps: It All Started Here
DESCRIPTION:This dynamic exhibit showcases the unique role of University of Michigan students and faculty in the creation and popularizing of the Peace Corps. As Sargent Shriver said\, \"It might still be just an idea but for”¦those Michigan students and faculty.\" The exhibit highlights the development of student activism as well as important historical events.\n\nNormal Library Hours: http://www.lib.umich.edu/hours/list.php?singlebuilding=4
UID:3498-909746@events.umich.edu
URL:https://events.umich.edu/event/3498
CLASS:PUBLIC
STATUS:CONFIRMED
CATEGORIES:
LOCATION:Hatcher Graduate Library - Library Gallery (Room 100)
CONTACT:
END:VEVENT
BEGIN:VEVENT
DTSTAMP:20101111T175853
DTSTART;TZID=America/Detroit:20101028T070000
SUMMARY:Exhibition:Peace Corps Photo Exhibit
DESCRIPTION:Come learn more about the University of Michigan's involvement in the founding of the U.S. Peace Corps\, through photos\, stories\, and other artifacts in this inspiring exhibit. As we celebrate the 50th anniversary of the Peace Corps and President Kennedy's speech on the steps of the Michigan Union\, this exhibit gives you a great opportunity to experience history.
UID:4009-921093@events.umich.edu
URL:https://events.umich.edu/event/4009
CLASS:PUBLIC
STATUS:CONFIRMED
CATEGORIES:visual arts
LOCATION:Michigan Union - Art Lounge
CONTACT:
END:VEVENT
BEGIN:VEVENT
DTSTAMP:20100909T114609
DTSTART;TZID=America/Detroit:20101028T083000
DTEND;TZID=America/Detroit:20101028T190000
SUMMARY:Exhibition:From Trace to Text: Highlights from the U-M Papyrus Collection
DESCRIPTION:This exhibit provides a behind-the-scenes look at the work of papyrologists: how they conserve scraps of often badly damaged papyri\, decipher traces of ink\, read and translate the resulting text\, edit and interpret its contents\, and make this available to both scholars and the general public. Modern technology\, such as digitization and multi-spectral imaging\, is aiding papyrologists in all of these efforts.\n\nTexts on display are some of the highlights of the collection. They include a wonderful drawing of an elephant\, a letter from a newly enlisted soldier to his mother\, and\, of course\, some pages of the oldest manuscript with letters of St. Paul (one of the most famous texts of the collection).\n\nIn its 90-year history\, the University of Michigan Papyrus Collection has trained more students and scholars in the field of papyrology than any other institution in North America. Founded by the visionary Francis W. Kelsey\, the Papyrus Collection has been the training ground for papyrologists from around the world and home to many great resident scholars\, such as Herbert and Louise Youtie\, Ludwig Koenen\, and Traianos Gagos\, who died on April 26\, 2010.\n\nPapyrology is the field of scholarship that deciphers and studies the texts written –primarily on papyrus– by people living in the ancient Mediterranean world between 2\,500 BCE and 1\,000 CE. Most of these texts are found in Egypt where the climate is dry enough to preserve this fragile material. It is a highly specialized and technical field\, requiring intensive training in language (Egyptian\, ancient Greek\, Latin\, Arabic)\, history\, and the unique set of skills necessary for reading original documents.\n\nThe exhibit is open during Audubon Room hours: Sun 1-7pm\, Mon-Fri 8:30-7pm\, Sat 10am-6pm.\n\nThis Exhibit is in Honor of Traianos Gagos (1960-2010).
UID:3497-917754@events.umich.edu
URL:https://events.umich.edu/event/3497
CLASS:PUBLIC
STATUS:CONFIRMED
CATEGORIES:
LOCATION:Hatcher Graduate Library - Audubon Room
CONTACT:
END:VEVENT
BEGIN:VEVENT
DTSTAMP:20100902T202613
DTSTART;TZID=America/Detroit:20101028T090000
DTEND;TZID=America/Detroit:20101028T170000
SUMMARY:Exhibition:Lecture on the Weather
DESCRIPTION:This multi-media stage work by John Cage\, based on the texts of Henry David Thoreau\, brings together speech\, music\, film\, lighting\, and a weather soundscape to form a softly political piece as relevant today as the year it was written. \n\nCage (1912-1992) was well known as an experimental composer\, philosopher\, writer\, and visual artist. A protean figure of the postwar avant-garde\, Cage collaborated with Merce Cunningham and visual artists including Joseph Beuys\, Robert Rauschenberg\, and Nam June Paik.\n\nExhibit celebration is Nov. 3\, 5-7pm\, in the gallery.
UID:3471-916205@events.umich.edu
URL:https://events.umich.edu/event/3471
CLASS:PUBLIC
STATUS:CONFIRMED
CATEGORIES:visual arts,social justice,music,film
LOCATION:202 S. Thayer - Gallery
CONTACT:
END:VEVENT
BEGIN:VEVENT
DTSTAMP:20100817T114436
DTSTART;TZID=America/Detroit:20101028T100000
SUMMARY:Exhibition:On Beauty and the Everyday: The Prints of James McNeill Whistler
DESCRIPTION:UMMA's rare and important collection of James McNeill Whistler works on paper represents  one of the finest holdings of Whistler's graphic output in North America. This major exhibition  features more than 100 works of art from UMMA's Whistler collection\, which covers the  artist's entire career in Europe\, ranging from his student days and exposure to the vanguard  artistic movements of the 19th century to the groundbreaking and atmospheric lithographs  and etchings of his mature style. It is the first exhibition devoted to Whistler's works at  UMMA since 1994.\n\nNearly all of the Whistler works came to the Museum through the bequest of Margaret  Watson Parker\, an early collector of both Whistler's prints as well as Japanese art. The  exhibition explores Whistler's illustrious life and career\; his artistic themes and concerns\,  including portraiture and his well-known series from England\, Italy\, and France\; the interests  and legacy of early-20th-century Whistler collector Margaret Watson Parker\; and the tools  and techniques that Whistler employed as a printmaker.
UID:3291-921196@events.umich.edu
URL:https://events.umich.edu/event/3291
CLASS:PUBLIC
STATUS:CONFIRMED
CATEGORIES:visual arts
LOCATION:Museum of Art
CONTACT:
END:VEVENT
BEGIN:VEVENT
DTSTAMP:20101111T175737
DTSTART;TZID=America/Detroit:20101028T100000
SUMMARY:Exhibition:Out of the Ordinary: Selections from the Bohlen Wood Art and Fusfeld Folk Art Collections
DESCRIPTION:This exhibition\, which runs from September 11 through Spring of 2011\, allows visitors to  explore two extraordinary collections of art–the Robert M. and Lillian Montalto Bohlen  Collection of Wood Art and the Daniel and Harriet Fusfeld Folk Art Collection. The Bohlen  collection presents an astonishing range of contemporary artworks fashioned from wood and  includes works that explores traditional and non-traditional vessel forms as well as works that  are more purely sculptural. The outstanding objects that make up the Fusfeld collection are both  geographically and historically wide-ranging\, including work by early nineteenth-century  itinerant folk portraitists as well as late twentieth-century sculpture and painting by “outsider”  artists from the American South\, Midwest\, and Northeast.
UID:3293-916124@events.umich.edu
URL:https://events.umich.edu/event/3293
CLASS:PUBLIC
STATUS:CONFIRMED
CATEGORIES:visual arts
LOCATION:Museum of Art
CONTACT:
END:VEVENT
BEGIN:VEVENT
DTSTAMP:20100930T155754
DTSTART;TZID=America/Detroit:20101028T120000
DTEND;TZID=America/Detroit:20101028T180000
SUMMARY:Exhibition:Affinity of Form
DESCRIPTION:A photography exhibition by Stanford Lipsey will open on Thursday\, October 7 and  will run through Tuesday\, November 2\, 2010. The exhibition of 45 digital images\,  titled “Affinity of Form” (which also is the title of his recently published book)\, uses  the juxtaposition of photographs to build a comparative concept within a set of two  images. Lipsey graduated from the University of Michigan in 1948 with a degree in  economics and while a student here he was a photographer for the Michigan Daily  and Photography Editor for the Michiganensian.  The Student Publications Building  was named for Stanford Lipsey in 2005.
UID:3907-915737@events.umich.edu
URL:https://events.umich.edu/event/3907
CLASS:PUBLIC
STATUS:CONFIRMED
CATEGORIES:visual arts
LOCATION:Duderstadt Center - Gallery
CONTACT:
END:VEVENT
BEGIN:VEVENT
DTSTAMP:20101111T175802
DTSTART;TZID=America/Detroit:20101028T120000
DTEND;TZID=America/Detroit:20101028T130000
SUMMARY:Lecture / Discussion:CJS Fall 2010 Noon Lecture Series
DESCRIPTION:Patricia Steinhoff\, Professor\, Sociology\, University of Hawaii
UID:3686-917917@events.umich.edu
URL:https://events.umich.edu/event/3686
CLASS:PUBLIC
STATUS:CONFIRMED
CATEGORIES:
LOCATION:School of Social Work Building - 1636
CONTACT:
END:VEVENT
BEGIN:VEVENT
DTSTAMP:20100827T222504
DTSTART;TZID=America/Detroit:20101028T120000
DTEND;TZID=America/Detroit:20101028T130000
SUMMARY:Lecture / Discussion:Communism\, Publishing\, and Paths to Polishness in Postwar Warsaw
DESCRIPTION:Lecturer: Karen Auerbach\, University of Southampton (UK)
UID:3425-921273@events.umich.edu
URL:https://events.umich.edu/event/3425
CLASS:PUBLIC
STATUS:CONFIRMED
CATEGORIES:
LOCATION:Alumni Center - A &amp; B
CONTACT:
END:VEVENT
BEGIN:VEVENT
DTSTAMP:20101019T173057
DTSTART;TZID=America/Detroit:20101028T160000
DTEND;TZID=America/Detroit:20101028T173000
SUMMARY:Lecture / Discussion:U.S. global warming policy: Where do we go from here?
DESCRIPTION:Dr. Dan Lashof will lead a discussion on \"U.S. global warming policy: Where do we go from here?\" Dr. Lashof has written extensively on global warming and national energy policy. His recent publications include \"Dangerous Addiction: Ending America's Oil Dependence\,\" \"A Responsible Energy Policy for the 21st Century\,\" and \"The Role of Biotic Carbon Stocks in Stabilizing Greenhouse Gas Concentration at Safe Levels.\" Dr. Lashof was also a Lead Author of the IPCC Special Report Land Use\, Land-Use Change\, and Forestry. Using law\, science and the support of 1.3 million members\, the Natural Resources Defense Council works to protect the planet to ensure a safe and healthy environment for all living things. Light refreshments will be provided.
UID:4106-921120@events.umich.edu
URL:https://events.umich.edu/event/4106
CLASS:PUBLIC
STATUS:CONFIRMED
CATEGORIES:
LOCATION:Dana Natural Resources  Building - 1040 Dana Building
CONTACT:
END:VEVENT
BEGIN:VEVENT
DTSTAMP:20101111T175705
DTSTART;TZID=America/Detroit:20101028T170000
DTEND;TZID=America/Detroit:20101028T183000
SUMMARY:Lecture / Discussion:Penny Stamps Presents: Sarah Chayes
DESCRIPTION:From 1996\, Sarah Chayes was Paris reporter for National Public Radio. She was dispatched to a number of conflict and post-conflict zones. Her work during the Kosovo crisis of 1999 earned her the Foreign Press Club and Sigma Delta Chi awards\, along with her NPR colleagues.\n\nSarah left reporting in 2002 to remain in the field in Afghanistan. With President Hamid Karzai's older brother Qayum\, she established Afghans for Civil Society in Kandahar. Among other projects\, ACS rebuilt a village\, and launched a radio station and a successful women's income generation project. In 2004\, she left ACS to focus on economic development\, and since May 2005 has been running Arghand\, a privately funded venture that buys products from local farmers and turns them into seven varieties of soaps.
UID:1204-914040@events.umich.edu
URL:https://events.umich.edu/event/1204
CLASS:PUBLIC
STATUS:CONFIRMED
CATEGORIES:multicultural,literary arts
LOCATION:
CONTACT:
END:VEVENT
BEGIN:VEVENT
DTSTAMP:20100831T121950
DTSTART;TZID=America/Detroit:20101028T170000
SUMMARY:Lecture / Discussion:Writers Series Lecture: Yusef Komunyakaa
DESCRIPTION:Yusef Komunyakaa's numerous books of poems include Talking Dirty to the Gods\; Thieves of Paradise\, which was a finalist for the National Book Critics Circle Award\; Neon Vernacular: New & Selected Poems 1977-1989\, for which he received the Pulitzer Prize and the Kingsley Tufts Poetry Award\; Magic City\; Dien Cai Dau\, which won The Dark Room Poetry Prize\; I Apologize for the Eyes in My Head\, winner of the San Francisco Poetry Center Award\; and Copacetic. He also co-edited The Jazz Poetry Anthology and co-translated The Insomnia of Fire by Nguyen Quang Thieu. His honors include the William Faulkner Prize from the Université de Rennes\, the Thomas Forcade Award\, the Hanes Poetry Prize\, fellowships from the Fine Arts Work Center in Provincetown\, the Louisiana Arts Council\, and the National Endowment for the Arts\, and the Bronze Star for his service in Vietnam\, where he served as a correspondent and managing editor of the Southern Cross. In 1999\, he was elected a Chancellor of the Academy of American Poets. Yusef Komunyakaa is the Senior Distinguished Poet in the Graduate Writing Program at NYU.\n\nUMMA is pleased to be the site for the Department of English Program in Creative Writing Zell Visiting Writers Series\, which brings outstanding writers each semester. The Series is made possible through a generous gift from UM alumna Helen Zell ('64). For more information\, please see www.lsa.umich.edu/english/grad/mfa/mfaeve.asp.
UID:3443-914713@events.umich.edu
URL:https://events.umich.edu/event/3443
CLASS:PUBLIC
STATUS:CONFIRMED
CATEGORIES:literary arts
LOCATION:Museum of Art - Helmut Stern Auditorium
CONTACT:
END:VEVENT
BEGIN:VEVENT
DTSTAMP:20101018T124014
DTSTART;TZID=America/Detroit:20101028T173000
DTEND;TZID=America/Detroit:20101028T193000
SUMMARY:Presentation:Student Presentations About Field Studies in East Africa
DESCRIPTION:\"Sustainability Challenges and Opportunities in East Africa.\" That's the overall subject of some extensive field research and coursework undergraduate and graduate students pursued at the Mpala Research Center and Wildlife Refuge in Kenya over the summer (through an initiative sponsored by PitE and the Graham Institute).\n\nUndergraduate students who participated in the field studies will be talking about their Mpala experience at a student panel discussion titled \"Field Lessons from Mpala: Society\, Ecology\, and Sustainability Views from Kenya's Laikipia Valley\" on Thursday\, October 28\, 2010 from 5:30 to 7:30 p.m. in the Dana Building (Room 1040).\n\nAll are welcome to come hear about what they learned–as well as about future opportunities to get involved. Food and refreshments will be served.
UID:4098-910902@events.umich.edu
URL:https://events.umich.edu/event/4098
CLASS:PUBLIC
STATUS:CONFIRMED
CATEGORIES:
LOCATION:Dana Natural Resources  Building - 1040
CONTACT:
END:VEVENT
BEGIN:VEVENT
DTSTAMP:20100726T141006
DTSTART;TZID=America/Detroit:20101028T183000
DTEND;TZID=America/Detroit:20101028T210000
SUMMARY:Workshop / Seminar:FREE Climbing Basics Clinic
DESCRIPTION:Haven't yet made it out to the MROCK? This is your opportunity to do so for free! Whether you are an experienced climber that is new to the U and simply looking for a place to crank\, or you are new to climbing altogether – come out to the MROCK\, get certified\, and climb for free. You will go through both belay school and a quick lesson in boulder skills before we set you loose to climb the rest of the evening for free. Total novice? Have no fear – our friendly staff will be more than happy to help you with proper form and technique on the wall for as long as you care to listen. All are welcome at the MROCK!
UID:3078-911782@events.umich.edu
URL:https://events.umich.edu/event/3078
CLASS:PUBLIC
STATUS:CONFIRMED
CATEGORIES:
LOCATION:Intramural Sports Building - MRock
CONTACT:
END:VEVENT
BEGIN:VEVENT
DTSTAMP:20100914T091916
DTSTART;TZID=America/Detroit:20101028T190000
DTEND;TZID=America/Detroit:20101028T220000
SUMMARY:Lecture / Discussion:Friends of Dorothy: Oz's Legacy to the LGBTQ Community
DESCRIPTION:Judy Garland's portrayal of Dorothy Gale helped make her a gay icon and “Somewhere Over the Rainbow” became the gay anthem – a yearning for a home far away from the small-town provincialism of a black-and-white existence.  Audience members will join panelists in discussing the historical and ongoing legacy of the OZ books and movies for the shaping of the LGBTQ psyche.\n\nSpecial guests include Professors David Halperin (W.H> Auden Collegiate Professor of the History and Theory of Sexuality) and Nadine Hubbs (Undergraduate Director of Women's Studies).
UID:3659-912672@events.umich.edu
URL:https://events.umich.edu/event/3659
CLASS:PUBLIC
STATUS:CONFIRMED
CATEGORIES:film
LOCATION:East Quadrangle - 126
CONTACT:
END:VEVENT
BEGIN:VEVENT
DTSTAMP:20101111T175754
DTSTART;TZID=America/Detroit:20101028T193000
SUMMARY:Lecture / Discussion:Lecture
DESCRIPTION:Pulitzer Prize-winning Washington Post fashion editor Robin Givhan will give the Vivian R. Shaw lecture\, in which Ms. Givhan will discuss the convergence of fashion\, power\, and politics. \n\nDetroit native Robin Givhan received her Bachelor of Arts in English from Princeton University and a Masters of Science in journalism from the University of Michigan. Since 1995 she has been the fashion editor of the Washington Post where she covers the news\, trends\, and business of the international fashion industry. She also writes a weekly culture column. In 2009\, she began covering Michelle Obama and the cultural and social shifts stirred by the first African American family in the White House and is the author of Michelle: Her First Year As First Lady\, a joint project with the Washington Post. Following the lecture\, Ms. Givhan will sign copies of her latest book on Mrs. Obama.
UID:3481-917171@events.umich.edu
URL:https://events.umich.edu/event/3481
CLASS:PUBLIC
STATUS:CONFIRMED
CATEGORIES:
LOCATION:Museum of Art - Helmut Stern Auditorium
CONTACT:
END:VEVENT
BEGIN:VEVENT
DTSTAMP:20101111T175701
DTSTART;TZID=America/Detroit:20101028T200000
SUMMARY:Performance:Chris Buhalis & Jo Serrapere
DESCRIPTION:
UID:1053-913715@events.umich.edu
URL:https://events.umich.edu/event/1053
CLASS:PUBLIC
STATUS:CONFIRMED
CATEGORIES:music
LOCATION:
CONTACT:
END:VEVENT
BEGIN:VEVENT
DTSTAMP:20101111T175645
DTSTART;TZID=America/Detroit:20101028T200000
DTEND;TZID=America/Detroit:20101028T213000
SUMMARY:Lecture / Discussion:Veritas Forum:  The Music\, Art\, and Ethics of Suffering
DESCRIPTION:in answer to the university theme semester question \"What makes life worth living?\"\,  the Veritas Forum at UM examines the role of suffering in deepening life and shaping  the human soul.  Bio-ethicist Ray DeVries (UM)\, artist Tim Lowly (North Park University)\,  and jazz musician John Rapson (U. Iowa) bring their perspectives to bear on the  meaning of suffering.
UID:4071-912653@events.umich.edu
URL:https://events.umich.edu/event/4071
CLASS:PUBLIC
STATUS:CONFIRMED
CATEGORIES:visual arts,music
LOCATION:Power Center for the Performing Arts
CONTACT:
END:VEVENT
END:VCALENDAR