BEGIN:VCALENDAR
VERSION:2.0
PRODID:-//UM//UM*Events//EN
CALSCALE:GREGORIAN
BEGIN:VTIMEZONE
TZID:America/Detroit
TZURL:http://tzurl.org/zoneinfo/America/Detroit
X-LIC-LOCATION:America/Detroit
BEGIN:DAYLIGHT
TZOFFSETFROM:-0500
TZOFFSETTO:-0400
TZNAME:EDT
DTSTART:20070311T020000
RRULE:FREQ=YEARLY;BYMONTH=3;BYDAY=2SU
END:DAYLIGHT
BEGIN:STANDARD
TZOFFSETFROM:-0400
TZOFFSETTO:-0500
TZNAME:EST
DTSTART:20071104T020000
RRULE:FREQ=YEARLY;BYMONTH=11;BYDAY=1SU
END:STANDARD
END:VTIMEZONE
BEGIN:VEVENT
DTSTAMP:20101111T175729
DTSTART;TZID=America/Detroit:20101029T000000
SUMMARY:Exhibition:U-M Alumni/Returned Peace Corps Volunteer Exhibition
DESCRIPTION:The University of Michigan School of Art & Design invites submissions of work in all media for a 50th anniversary celebratory exhibition of work by U-M alumni who are Returned Peace Corps Volunteers. Creative work should reflect or respond to the Peace Corps experience. Submitted work will be juried by a committee drawn from the School of Art & Design community.  Submittal information located at http://art-design.umich.edu/exhibitions/submit/peace_corps_alumni_exhibition
UID:3571-915559@events.umich.edu
URL:https://events.umich.edu/event/3571
CLASS:PUBLIC
STATUS:CONFIRMED
CATEGORIES:
LOCATION:Art and Architecture Building - Slusser Gallery
CONTACT:
END:VEVENT
BEGIN:VEVENT
DTSTAMP:20101111T175607
DTSTART;TZID=America/Detroit:20101029T000000
SUMMARY:Exhibition:U-M and the Peace Corps: It All Started Here
DESCRIPTION:This dynamic exhibit showcases the unique role of University of Michigan students and faculty in the creation and popularizing of the Peace Corps. As Sargent Shriver said\, \"It might still be just an idea but for”¦those Michigan students and faculty.\" The exhibit highlights the development of student activism as well as important historical events.\n\nNormal Library Hours: http://www.lib.umich.edu/hours/list.php?singlebuilding=4
UID:3498-909747@events.umich.edu
URL:https://events.umich.edu/event/3498
CLASS:PUBLIC
STATUS:CONFIRMED
CATEGORIES:
LOCATION:Hatcher Graduate Library - Library Gallery (Room 100)
CONTACT:
END:VEVENT
BEGIN:VEVENT
DTSTAMP:20101111T175853
DTSTART;TZID=America/Detroit:20101029T070000
SUMMARY:Exhibition:Peace Corps Photo Exhibit
DESCRIPTION:Come learn more about the University of Michigan's involvement in the founding of the U.S. Peace Corps\, through photos\, stories\, and other artifacts in this inspiring exhibit. As we celebrate the 50th anniversary of the Peace Corps and President Kennedy's speech on the steps of the Michigan Union\, this exhibit gives you a great opportunity to experience history.
UID:4009-921094@events.umich.edu
URL:https://events.umich.edu/event/4009
CLASS:PUBLIC
STATUS:CONFIRMED
CATEGORIES:visual arts
LOCATION:Michigan Union - Art Lounge
CONTACT:
END:VEVENT
BEGIN:VEVENT
DTSTAMP:20101004T161244
DTSTART;TZID=America/Detroit:20101029T083000
DTEND;TZID=America/Detroit:20101029T173000
SUMMARY:Conference / Symposium:Critical Theory Concerning Cultural Production of African Literature and Cinema
DESCRIPTION:This conference provides a comparative perspective on the question of borders  within and outside the continent of Africa. Bringing together specialists from diverse  disciplines and fields within African studies\, the conference will revisit questions of  cultural production across borders\, inside and outside the continent\, and promote a  sustained discussion on a comparative basis in order to probe the limits and  possibilities of new approaches to global economy.
UID:3920-911734@events.umich.edu
URL:https://events.umich.edu/event/3920
CLASS:PUBLIC
STATUS:CONFIRMED
CATEGORIES:literary arts,multicultural,social justice,visual arts
LOCATION:Michigan Union - Wolverine
CONTACT:
END:VEVENT
BEGIN:VEVENT
DTSTAMP:20100909T114609
DTSTART;TZID=America/Detroit:20101029T083000
DTEND;TZID=America/Detroit:20101029T190000
SUMMARY:Exhibition:From Trace to Text: Highlights from the U-M Papyrus Collection
DESCRIPTION:This exhibit provides a behind-the-scenes look at the work of papyrologists: how they conserve scraps of often badly damaged papyri\, decipher traces of ink\, read and translate the resulting text\, edit and interpret its contents\, and make this available to both scholars and the general public. Modern technology\, such as digitization and multi-spectral imaging\, is aiding papyrologists in all of these efforts.\n\nTexts on display are some of the highlights of the collection. They include a wonderful drawing of an elephant\, a letter from a newly enlisted soldier to his mother\, and\, of course\, some pages of the oldest manuscript with letters of St. Paul (one of the most famous texts of the collection).\n\nIn its 90-year history\, the University of Michigan Papyrus Collection has trained more students and scholars in the field of papyrology than any other institution in North America. Founded by the visionary Francis W. Kelsey\, the Papyrus Collection has been the training ground for papyrologists from around the world and home to many great resident scholars\, such as Herbert and Louise Youtie\, Ludwig Koenen\, and Traianos Gagos\, who died on April 26\, 2010.\n\nPapyrology is the field of scholarship that deciphers and studies the texts written –primarily on papyrus– by people living in the ancient Mediterranean world between 2\,500 BCE and 1\,000 CE. Most of these texts are found in Egypt where the climate is dry enough to preserve this fragile material. It is a highly specialized and technical field\, requiring intensive training in language (Egyptian\, ancient Greek\, Latin\, Arabic)\, history\, and the unique set of skills necessary for reading original documents.\n\nThe exhibit is open during Audubon Room hours: Sun 1-7pm\, Mon-Fri 8:30-7pm\, Sat 10am-6pm.\n\nThis Exhibit is in Honor of Traianos Gagos (1960-2010).
UID:3497-917755@events.umich.edu
URL:https://events.umich.edu/event/3497
CLASS:PUBLIC
STATUS:CONFIRMED
CATEGORIES:
LOCATION:Hatcher Graduate Library - Audubon Room
CONTACT:
END:VEVENT
BEGIN:VEVENT
DTSTAMP:20101111T175749
DTSTART;TZID=America/Detroit:20101029T090000
DTEND;TZID=America/Detroit:20101029T103000
SUMMARY:Lecture / Discussion:A Conversation on Faith\, Creativity\, and Art with John Rapson
DESCRIPTION:John Rapson\, professor of Jazz studies at the University of Iowa\, holds a conversation  with Christopher Harding\, music professor at the University of Michigan\, on the  relationship between religious faith\, creativity\, and the arts. This discussion is a part of  the Veritas Forum at the University of Michigan.
UID:4072-916765@events.umich.edu
URL:https://events.umich.edu/event/4072
CLASS:PUBLIC
STATUS:CONFIRMED
CATEGORIES:visual arts,music
LOCATION:Earl V. Moore Building - Britton Recital Hall
CONTACT:
END:VEVENT
BEGIN:VEVENT
DTSTAMP:20100902T202613
DTSTART;TZID=America/Detroit:20101029T090000
DTEND;TZID=America/Detroit:20101029T170000
SUMMARY:Exhibition:Lecture on the Weather
DESCRIPTION:This multi-media stage work by John Cage\, based on the texts of Henry David Thoreau\, brings together speech\, music\, film\, lighting\, and a weather soundscape to form a softly political piece as relevant today as the year it was written. \n\nCage (1912-1992) was well known as an experimental composer\, philosopher\, writer\, and visual artist. A protean figure of the postwar avant-garde\, Cage collaborated with Merce Cunningham and visual artists including Joseph Beuys\, Robert Rauschenberg\, and Nam June Paik.\n\nExhibit celebration is Nov. 3\, 5-7pm\, in the gallery.
UID:3471-916206@events.umich.edu
URL:https://events.umich.edu/event/3471
CLASS:PUBLIC
STATUS:CONFIRMED
CATEGORIES:visual arts,social justice,music,film
LOCATION:202 S. Thayer - Gallery
CONTACT:
END:VEVENT
BEGIN:VEVENT
DTSTAMP:20100927T115342
DTSTART;TZID=America/Detroit:20101029T090000
DTEND;TZID=America/Detroit:20101029T180000
SUMMARY:Conference / Symposium:Relevant/Obsolete? Rethinking Area Studies in the U.S. Academy
DESCRIPTION:Relevant/Obsolete? addresses the future of area studies in the U.S. academy. Five leading scholars from across the nation will discuss the changing relationships between area studies and the disciplines\, the future of area studies centers\, and the role of area studies in future research\, policy\, and public education agendas. These topics will be presented in a lecture format\, followed by prepared responses by a panel of U-M faculty.
UID:3784-909641@events.umich.edu
URL:https://events.umich.edu/event/3784
CLASS:PUBLIC
STATUS:CONFIRMED
CATEGORIES:
LOCATION:School of Social Work Building - 1636
CONTACT:
END:VEVENT
BEGIN:VEVENT
DTSTAMP:20100817T114436
DTSTART;TZID=America/Detroit:20101029T100000
SUMMARY:Exhibition:On Beauty and the Everyday: The Prints of James McNeill Whistler
DESCRIPTION:UMMA's rare and important collection of James McNeill Whistler works on paper represents  one of the finest holdings of Whistler's graphic output in North America. This major exhibition  features more than 100 works of art from UMMA's Whistler collection\, which covers the  artist's entire career in Europe\, ranging from his student days and exposure to the vanguard  artistic movements of the 19th century to the groundbreaking and atmospheric lithographs  and etchings of his mature style. It is the first exhibition devoted to Whistler's works at  UMMA since 1994.\n\nNearly all of the Whistler works came to the Museum through the bequest of Margaret  Watson Parker\, an early collector of both Whistler's prints as well as Japanese art. The  exhibition explores Whistler's illustrious life and career\; his artistic themes and concerns\,  including portraiture and his well-known series from England\, Italy\, and France\; the interests  and legacy of early-20th-century Whistler collector Margaret Watson Parker\; and the tools  and techniques that Whistler employed as a printmaker.
UID:3291-921197@events.umich.edu
URL:https://events.umich.edu/event/3291
CLASS:PUBLIC
STATUS:CONFIRMED
CATEGORIES:visual arts
LOCATION:Museum of Art
CONTACT:
END:VEVENT
BEGIN:VEVENT
DTSTAMP:20101111T175737
DTSTART;TZID=America/Detroit:20101029T100000
SUMMARY:Exhibition:Out of the Ordinary: Selections from the Bohlen Wood Art and Fusfeld Folk Art Collections
DESCRIPTION:This exhibition\, which runs from September 11 through Spring of 2011\, allows visitors to  explore two extraordinary collections of art–the Robert M. and Lillian Montalto Bohlen  Collection of Wood Art and the Daniel and Harriet Fusfeld Folk Art Collection. The Bohlen  collection presents an astonishing range of contemporary artworks fashioned from wood and  includes works that explores traditional and non-traditional vessel forms as well as works that  are more purely sculptural. The outstanding objects that make up the Fusfeld collection are both  geographically and historically wide-ranging\, including work by early nineteenth-century  itinerant folk portraitists as well as late twentieth-century sculpture and painting by “outsider”  artists from the American South\, Midwest\, and Northeast.
UID:3293-916125@events.umich.edu
URL:https://events.umich.edu/event/3293
CLASS:PUBLIC
STATUS:CONFIRMED
CATEGORIES:visual arts
LOCATION:Museum of Art
CONTACT:
END:VEVENT
BEGIN:VEVENT
DTSTAMP:20101111T175653
DTSTART;TZID=America/Detroit:20101029T103000
DTEND;TZID=America/Detroit:20101029T113000
SUMMARY:Lecture / Discussion:A Conversation on Painting as an Act of Resistance and Solidarity
DESCRIPTION:Artist Tim Lowly\, professor of art at North Park University and curator of the art gallery  there\, will hold a conversation about the nature of art and its social role.  This  presentation is a part of the Veritas Forum at the University of Michigan
UID:4107-913113@events.umich.edu
URL:https://events.umich.edu/event/4107
CLASS:PUBLIC
STATUS:CONFIRMED
CATEGORIES:visual arts,social justice
LOCATION:Art and Architecture Building - Room 2116
CONTACT:
END:VEVENT
BEGIN:VEVENT
DTSTAMP:20100930T155754
DTSTART;TZID=America/Detroit:20101029T120000
DTEND;TZID=America/Detroit:20101029T180000
SUMMARY:Exhibition:Affinity of Form
DESCRIPTION:A photography exhibition by Stanford Lipsey will open on Thursday\, October 7 and  will run through Tuesday\, November 2\, 2010. The exhibition of 45 digital images\,  titled “Affinity of Form” (which also is the title of his recently published book)\, uses  the juxtaposition of photographs to build a comparative concept within a set of two  images. Lipsey graduated from the University of Michigan in 1948 with a degree in  economics and while a student here he was a photographer for the Michigan Daily  and Photography Editor for the Michiganensian.  The Student Publications Building  was named for Stanford Lipsey in 2005.
UID:3907-915738@events.umich.edu
URL:https://events.umich.edu/event/3907
CLASS:PUBLIC
STATUS:CONFIRMED
CATEGORIES:visual arts
LOCATION:Duderstadt Center - Gallery
CONTACT:
END:VEVENT
BEGIN:VEVENT
DTSTAMP:20101111T175802
DTSTART;TZID=America/Detroit:20101029T120000
DTEND;TZID=America/Detroit:20101029T140000
SUMMARY:Workshop / Seminar:Business Etiquette Luncheon
DESCRIPTION:Business Etiquette Luncheon presented by: University Union's Keith Soster\n\nFriday\, October 29th\, from 12-2 Michigan Union\, Pendelton Room\n\nGet a four course meal for only $10!\n\nCome and learn the \"do's and dont's\" of formal dining.  University Union's own Keith Soster will walk you through a four course meal.\n\nPlease register at http://uuis.umich.edu/workshop2\n\nThis event is only open to 40 students\, so reserve your seat today!
UID:3995-917945@events.umich.edu
URL:https://events.umich.edu/event/3995
CLASS:PUBLIC
STATUS:CONFIRMED
CATEGORIES:
LOCATION:Michigan Union - Pendelton Room
CONTACT:
END:VEVENT
BEGIN:VEVENT
DTSTAMP:20101111T175609
DTSTART;TZID=America/Detroit:20101029T123000
DTEND;TZID=America/Detroit:20101029T143000
SUMMARY:Lecture / Discussion:Art by Committee:  Chaos or Community?
DESCRIPTION:Prof. John Rapson (Jazz studies at the University of Iowa) discusses the collaborative  and collegial nature of jazz composition and performance\, highlighting ways in which  the process moves towards community and avoids chaos.
UID:4073-909850@events.umich.edu
URL:https://events.umich.edu/event/4073
CLASS:PUBLIC
STATUS:CONFIRMED
CATEGORIES:music
LOCATION:Earl V. Moore Building - Room 2058
CONTACT:
END:VEVENT
BEGIN:VEVENT
DTSTAMP:20101111T175717
DTSTART;TZID=America/Detroit:20101029T131500
DTEND;TZID=America/Detroit:20101029T183000
SUMMARY:Other:Architecture Graduate Open House
DESCRIPTION:The Taubman College of Architecture and Urban Planning would like to introduce itself: our people\, the courses\, and facilities. Learn about the architecture programs and admission process\, see faculty discuss their latest work\, talk with current students\, tour the facilities\, sit in on student reviews and hear a lecture by guest speaker Richard Sennett. Please register on our website. If you plan to bring a guest or guests\, please also have them complete the online registration. \n\nAdditional questions? Please contact Taubman College Student Services at taubmancollegestudentservices@umich.edu or call 734-764-1649.\n\nWe hope to see you there!
UID:3667-914745@events.umich.edu
URL:https://events.umich.edu/event/3667
CLASS:PUBLIC
STATUS:CONFIRMED
CATEGORIES:visual arts,multicultural,architecture
LOCATION:Art and Architecture Building - 2104
CONTACT:
END:VEVENT
BEGIN:VEVENT
DTSTAMP:20101111T175613
DTSTART;TZID=America/Detroit:20101029T160000
DTEND;TZID=America/Detroit:20101029T173000
SUMMARY:Lecture / Discussion:Teaching Graeco-Roman Egypt to a Broader Audience: The Legacy of Traianos Gagos
DESCRIPTION:This keynote address\, “Teaching Graeco-Roman Egypt to a Broader Audience: The  Legacy of Traianos Gagos\,” by Roger Bagnall (New York University\, Director of the  Institute for the Study of the Ancient World\, President of the Association  Internationale de Papyrologues) will celebrate and commemorate the extensive  work of Traianos Gagos\, University of Michigan Professor of Papyrology and Greek  and archivist for the U-M Library's papyrus collection. Dr. Gagos passed away  suddenly this year at the age of 49.\n\nThis is the first in a series of events honoring Traianos Gagos. For more  information\, see http://www.lsa.umich.edu/classics.\n\nSponsors: American Society of Papyrologists\, Dean of Libraries\, Department of Near  Eastern Studies Else Fund of the Department of Classical Studies\, Kelsey Museum  of Archaeology\, Interdepartmental Program in Classical Art and Archaeology\,  Interdepartmental Program in Greek and Roman History\, Modern Greek Program\,  Rackham Graduate School\, Residential College
UID:4133-910091@events.umich.edu
URL:https://events.umich.edu/event/4133
CLASS:PUBLIC
STATUS:CONFIRMED
CATEGORIES:
LOCATION:Hatcher Graduate Library - Gallery in Room 100
CONTACT:
END:VEVENT
BEGIN:VEVENT
DTSTAMP:20100915T165723
DTSTART;TZID=America/Detroit:20101029T190000
DTEND;TZID=America/Detroit:20101029T220000
SUMMARY:Film Screening:High and Low
DESCRIPTION:1963 / 143 min. / 35mm / In Japanese with English subtitles\n\nIn Kurosawa's film noir\, a kidnapping goes wrong and a wealthy executive is forced  to confront both his own morality and the kidnappers who think they have his son.
UID:3683-915159@events.umich.edu
URL:https://events.umich.edu/event/3683
CLASS:PUBLIC
STATUS:CONFIRMED
CATEGORIES:
LOCATION:Lorch Hall - Askwith Auditorium
CONTACT:
END:VEVENT
BEGIN:VEVENT
DTSTAMP:20101111T175708
DTSTART;TZID=America/Detroit:20101029T200000
SUMMARY:Performance:Impact Dance
DESCRIPTION:A dance performance showcasing jazz and contemporary styles to all your favorite music!
UID:4156-914203@events.umich.edu
URL:https://events.umich.edu/event/4156
CLASS:PUBLIC
STATUS:CONFIRMED
CATEGORIES:dance
LOCATION:Lydia Mendelssohn Theatre
CONTACT:
END:VEVENT
BEGIN:VEVENT
DTSTAMP:20101111T175618
DTSTART;TZID=America/Detroit:20101029T200000
SUMMARY:Performance:Los Straitjackets
DESCRIPTION:Los Straitjackets\, who bill themselves as America's Instrumental Rock & Roll Combo\, wear Mexican Lucha Libre (pro wrestling) masks and make hot vintage music inspired by Mexico City's great garage and rockabilly madmen of the 1960s (like Los Rockin' Devils and Los Teen Tops)\, as well as the border country rock of Freddy Fender. Big Sandy and His Fly-Rite Boys are well known to Michigan audiences for elegant songs lying right in the sweet spot between rockabilly and California-style Western swing. It's a great roots rock double bill with tight yet sizzling instrumental work from both groups! Los Straitjackets and Big Sandy and His Fly-Rite Boys will perform separate sets\, and look for Big Sandy to add some rock en espaÃ±ol vocals to the music of Los Straitjackets -- they did a memorable high-voltage show together a few years back at The Ark.
UID:393-910489@events.umich.edu
URL:https://events.umich.edu/event/393
CLASS:PUBLIC
STATUS:CONFIRMED
CATEGORIES:music
LOCATION:
CONTACT:
END:VEVENT
END:VCALENDAR