BEGIN:VCALENDAR
VERSION:2.0
PRODID:-//UM//UM*Events//EN
CALSCALE:GREGORIAN
BEGIN:VTIMEZONE
TZID:America/Detroit
TZURL:http://tzurl.org/zoneinfo/America/Detroit
X-LIC-LOCATION:America/Detroit
BEGIN:DAYLIGHT
TZOFFSETFROM:-0500
TZOFFSETTO:-0400
TZNAME:EDT
DTSTART:20070311T020000
RRULE:FREQ=YEARLY;BYMONTH=3;BYDAY=2SU
END:DAYLIGHT
BEGIN:STANDARD
TZOFFSETFROM:-0400
TZOFFSETTO:-0500
TZNAME:EST
DTSTART:20071104T020000
RRULE:FREQ=YEARLY;BYMONTH=11;BYDAY=1SU
END:STANDARD
END:VTIMEZONE
BEGIN:VEVENT
DTSTAMP:20101111T175729
DTSTART;TZID=America/Detroit:20101105T000000
SUMMARY:Exhibition:U-M Alumni/Returned Peace Corps Volunteer Exhibition
DESCRIPTION:The University of Michigan School of Art & Design invites submissions of work in all media for a 50th anniversary celebratory exhibition of work by U-M alumni who are Returned Peace Corps Volunteers. Creative work should reflect or respond to the Peace Corps experience. Submitted work will be juried by a committee drawn from the School of Art & Design community.  Submittal information located at http://art-design.umich.edu/exhibitions/submit/peace_corps_alumni_exhibition
UID:3571-915566@events.umich.edu
URL:https://events.umich.edu/event/3571
CLASS:PUBLIC
STATUS:CONFIRMED
CATEGORIES:
LOCATION:Art and Architecture Building - Slusser Gallery
CONTACT:
END:VEVENT
BEGIN:VEVENT
DTSTAMP:20101111T175607
DTSTART;TZID=America/Detroit:20101105T000000
SUMMARY:Exhibition:U-M and the Peace Corps: It All Started Here
DESCRIPTION:This dynamic exhibit showcases the unique role of University of Michigan students and faculty in the creation and popularizing of the Peace Corps. As Sargent Shriver said\, \"It might still be just an idea but for”¦those Michigan students and faculty.\" The exhibit highlights the development of student activism as well as important historical events.\n\nNormal Library Hours: http://www.lib.umich.edu/hours/list.php?singlebuilding=4
UID:3498-909753@events.umich.edu
URL:https://events.umich.edu/event/3498
CLASS:PUBLIC
STATUS:CONFIRMED
CATEGORIES:
LOCATION:Hatcher Graduate Library - Library Gallery (Room 100)
CONTACT:
END:VEVENT
BEGIN:VEVENT
DTSTAMP:20100909T114609
DTSTART;TZID=America/Detroit:20101105T083000
DTEND;TZID=America/Detroit:20101105T190000
SUMMARY:Exhibition:From Trace to Text: Highlights from the U-M Papyrus Collection
DESCRIPTION:This exhibit provides a behind-the-scenes look at the work of papyrologists: how they conserve scraps of often badly damaged papyri\, decipher traces of ink\, read and translate the resulting text\, edit and interpret its contents\, and make this available to both scholars and the general public. Modern technology\, such as digitization and multi-spectral imaging\, is aiding papyrologists in all of these efforts.\n\nTexts on display are some of the highlights of the collection. They include a wonderful drawing of an elephant\, a letter from a newly enlisted soldier to his mother\, and\, of course\, some pages of the oldest manuscript with letters of St. Paul (one of the most famous texts of the collection).\n\nIn its 90-year history\, the University of Michigan Papyrus Collection has trained more students and scholars in the field of papyrology than any other institution in North America. Founded by the visionary Francis W. Kelsey\, the Papyrus Collection has been the training ground for papyrologists from around the world and home to many great resident scholars\, such as Herbert and Louise Youtie\, Ludwig Koenen\, and Traianos Gagos\, who died on April 26\, 2010.\n\nPapyrology is the field of scholarship that deciphers and studies the texts written –primarily on papyrus– by people living in the ancient Mediterranean world between 2\,500 BCE and 1\,000 CE. Most of these texts are found in Egypt where the climate is dry enough to preserve this fragile material. It is a highly specialized and technical field\, requiring intensive training in language (Egyptian\, ancient Greek\, Latin\, Arabic)\, history\, and the unique set of skills necessary for reading original documents.\n\nThe exhibit is open during Audubon Room hours: Sun 1-7pm\, Mon-Fri 8:30-7pm\, Sat 10am-6pm.\n\nThis Exhibit is in Honor of Traianos Gagos (1960-2010).
UID:3497-917762@events.umich.edu
URL:https://events.umich.edu/event/3497
CLASS:PUBLIC
STATUS:CONFIRMED
CATEGORIES:
LOCATION:Hatcher Graduate Library - Audubon Room
CONTACT:
END:VEVENT
BEGIN:VEVENT
DTSTAMP:20100902T202613
DTSTART;TZID=America/Detroit:20101105T090000
DTEND;TZID=America/Detroit:20101105T170000
SUMMARY:Exhibition:Lecture on the Weather
DESCRIPTION:This multi-media stage work by John Cage\, based on the texts of Henry David Thoreau\, brings together speech\, music\, film\, lighting\, and a weather soundscape to form a softly political piece as relevant today as the year it was written. \n\nCage (1912-1992) was well known as an experimental composer\, philosopher\, writer\, and visual artist. A protean figure of the postwar avant-garde\, Cage collaborated with Merce Cunningham and visual artists including Joseph Beuys\, Robert Rauschenberg\, and Nam June Paik.\n\nExhibit celebration is Nov. 3\, 5-7pm\, in the gallery.
UID:3471-916211@events.umich.edu
URL:https://events.umich.edu/event/3471
CLASS:PUBLIC
STATUS:CONFIRMED
CATEGORIES:social justice,visual arts,music,film
LOCATION:202 S. Thayer - Gallery
CONTACT:
END:VEVENT
BEGIN:VEVENT
DTSTAMP:20100817T114436
DTSTART;TZID=America/Detroit:20101105T100000
SUMMARY:Exhibition:On Beauty and the Everyday: The Prints of James McNeill Whistler
DESCRIPTION:UMMA's rare and important collection of James McNeill Whistler works on paper represents  one of the finest holdings of Whistler's graphic output in North America. This major exhibition  features more than 100 works of art from UMMA's Whistler collection\, which covers the  artist's entire career in Europe\, ranging from his student days and exposure to the vanguard  artistic movements of the 19th century to the groundbreaking and atmospheric lithographs  and etchings of his mature style. It is the first exhibition devoted to Whistler's works at  UMMA since 1994.\n\nNearly all of the Whistler works came to the Museum through the bequest of Margaret  Watson Parker\, an early collector of both Whistler's prints as well as Japanese art. The  exhibition explores Whistler's illustrious life and career\; his artistic themes and concerns\,  including portraiture and his well-known series from England\, Italy\, and France\; the interests  and legacy of early-20th-century Whistler collector Margaret Watson Parker\; and the tools  and techniques that Whistler employed as a printmaker.
UID:3291-921203@events.umich.edu
URL:https://events.umich.edu/event/3291
CLASS:PUBLIC
STATUS:CONFIRMED
CATEGORIES:visual arts
LOCATION:Museum of Art
CONTACT:
END:VEVENT
BEGIN:VEVENT
DTSTAMP:20101111T175737
DTSTART;TZID=America/Detroit:20101105T100000
SUMMARY:Exhibition:Out of the Ordinary: Selections from the Bohlen Wood Art and Fusfeld Folk Art Collections
DESCRIPTION:This exhibition\, which runs from September 11 through Spring of 2011\, allows visitors to  explore two extraordinary collections of art–the Robert M. and Lillian Montalto Bohlen  Collection of Wood Art and the Daniel and Harriet Fusfeld Folk Art Collection. The Bohlen  collection presents an astonishing range of contemporary artworks fashioned from wood and  includes works that explores traditional and non-traditional vessel forms as well as works that  are more purely sculptural. The outstanding objects that make up the Fusfeld collection are both  geographically and historically wide-ranging\, including work by early nineteenth-century  itinerant folk portraitists as well as late twentieth-century sculpture and painting by “outsider”  artists from the American South\, Midwest\, and Northeast.
UID:3293-916131@events.umich.edu
URL:https://events.umich.edu/event/3293
CLASS:PUBLIC
STATUS:CONFIRMED
CATEGORIES:visual arts
LOCATION:Museum of Art
CONTACT:
END:VEVENT
BEGIN:VEVENT
DTSTAMP:20100914T200039
DTSTART;TZID=America/Detroit:20101105T133000
DTEND;TZID=America/Detroit:20101105T163000
SUMMARY:Other:Urban and Regional Planning Open House
DESCRIPTION:The Taubman College of Architecture and Urban Planning would like to introduce itself: our people\, the courses\, and facilities. Please join us to learn more about the architecture program and admissions process\, see student work\, hear from current faculty\, tour the facilities\, and enjoy a reception. Please register on our website. If you plan to bring a guest or guests\, please have your guest(s) complete the online registration as well.\n\nAdditional questions? Please contact Taubman College Student Services at taubmancollegestudentservices@umich.edu or call 734-763-1275.\n\nWe hope to see you there!
UID:3668-919490@events.umich.edu
URL:https://events.umich.edu/event/3668
CLASS:PUBLIC
STATUS:CONFIRMED
CATEGORIES:architecture,visual arts
LOCATION:Art and Architecture Building - 2104
CONTACT:
END:VEVENT
BEGIN:VEVENT
DTSTAMP:20101005T093118
DTSTART;TZID=America/Detroit:20101105T140000
DTEND;TZID=America/Detroit:20101105T160000
SUMMARY:Other:Deutsche Bank Presentation & Networking Event for LGBT Students
DESCRIPTION:Dress Code: Business Casual Description: Short presentation and possible panel discussion\, followed by networking.
UID:3912-912689@events.umich.edu
URL:https://events.umich.edu/event/3912
CLASS:PUBLIC
STATUS:CONFIRMED
CATEGORIES:
LOCATION:Ross School of Business - R0240
CONTACT:
END:VEVENT
BEGIN:VEVENT
DTSTAMP:20101111T175617
DTSTART;TZID=America/Detroit:20101105T160000
DTEND;TZID=America/Detroit:20101105T180000
SUMMARY:Community Service:Community Based Research Fellowship Symposium
DESCRIPTION:Join us as the community based research fellows present their summer projects  working with 21 community based organizations throughout the state of Michigan.  The symposium will serve as an opportunity for partner organizations to network  with each other and for prospective program paticipants--students\, organizations\,  and faculty--to learn about this unique opportunity to engage in a research and  service partnership.
UID:4109-910384@events.umich.edu
URL:https://events.umich.edu/event/4109
CLASS:PUBLIC
STATUS:CONFIRMED
CATEGORIES:
LOCATION:Undergraduate Science Building - Plaza level foyer
CONTACT:
END:VEVENT
BEGIN:VEVENT
DTSTAMP:20101111T175655
DTSTART;TZID=America/Detroit:20101105T170000
SUMMARY:Exhibition:UMMA Projects: Simon Dybbroe MÃ¸ller
DESCRIPTION:Danish artist Simon Dybbroe MÃ¸ller will speak about his work\, which often presents familiar forms in unexpected configurations. An abstract wall painting emerges from beneath a layer of peeling plaster. A group of minimalist sculptures turn out to be the pieces of an enlarged Soma cube. This uncertainty is central to the experience of Dybbroe MÃ¸ller's work\, where an initial misrecognition leads to a moment of aesthetic discovery. Meet the artist in the gallery after the talk.
UID:4055-913283@events.umich.edu
URL:https://events.umich.edu/event/4055
CLASS:PUBLIC
STATUS:CONFIRMED
CATEGORIES:visual arts
LOCATION:Museum of Art - Helmut Stern Auditorium
CONTACT:
END:VEVENT
BEGIN:VEVENT
DTSTAMP:20101111T175604
DTSTART;TZID=America/Detroit:20101105T180000
SUMMARY:Exercise / Fitness:Leave No Trace Training Course
DESCRIPTION:This course is designed to enhance your understanding of Leave No Trace practices  and ethics and to increase your level of expertise and confidence in teaching Leave  No Trace skills. Through focused activities\, hands-on field experience\, and both  formal and informal discussions\, you will be introduced to concepts and methods  that will advance your knowledge of Leave No Trace issues\, expand your repertoire  of low-impact skills\, and increase your effectiveness in teaching these important  skills to others. Instruction will concentrate on the incorporation of low impact  techniques in camping and backpacking settings\, but we will not be teaching basic  camping skills. This is a fun course where all participants have a part in  demonstrating the choices that can be made to minimize our impact on the land  and our resources. On completion of this course\, participants will be registered as  Leave No Trace Trainers with the national Leave No Trace Center for Outdoor Ethics.
UID:3052-909604@events.umich.edu
URL:https://events.umich.edu/event/3052
CLASS:PUBLIC
STATUS:CONFIRMED
CATEGORIES:
LOCATION:
CONTACT:
END:VEVENT
BEGIN:VEVENT
DTSTAMP:20101026T135345
DTSTART;TZID=America/Detroit:20101105T183000
DTEND;TZID=America/Detroit:20101105T200000
SUMMARY:Lecture / Discussion:Thresholds Studio Lecture: Benjamin Bratton\, Associate Professor of Visual Arts\, University of California\, San Diego
DESCRIPTION:November 2\, 2010 06:30 PM A+A Auditorium (Rm 2104) Art + Architecture Building\n\nBenjamin H. Bratton is sociological\, media\, and design theorist. He is Associate Professor of Visual Arts at the University of California\, San Diego\, and Director of the Center for Design & Geopolitics at the California Institute of Telecommunications and Information Technology\, one of the premier applied research institutes in the application of supercomputing and very-large scale data visualization across the sciences\, humanities and social sciences.\n\nHis work sits at the intersections of contemporary social and political theory\, computational media & infrastructure\, and architectural & urban design problems and methodologies. Current research interests include: the philosophical problematics of the interfaciality\, digital urbanism & media architecture\, contemporary continental philosophy & aesthetic theory\, institutional technology transfer protocols and platforms\, design research management & methodologies\, classical and contemporary sociological theory\, history of the social sciences\, organizational theory\, and interaction and interface design.\n\nBratton has lectured widely\, and is the author of many articles\, book chapters\, in both academic and popular publications. Bratton has published widely\, from AD:Architectural Design and Volume to BlackBook and Theory\, Culture & Society\, and has been an visiting lecturer and critic at Columbia\, Pratt\, Yale\, Architectural Association of London\, Penn\, USC\, UCLA\, Art Center College of Design\, Michigan\, Brown\, the University of Applied Arts in Vienna\, among others. He was also co-chair of ambient:interface\, the 54th (and final) International Aspen Design Conference.\n\nHe is a frequent advisor and consultant to public and private organizations. He is the former Director of the Advanced Strategies Group at Yahoo! in Sunnyvale and Burbank\, CA\, and former Director of Information Architecture at Razorfish in Los Angeles and New York. As principal of The Culture Industry\, a strategic research and planning consultancy he has developed projects with Motorola\, Microsoft\, Imaginary Forces\, the U.S. Conference of Mayors\, among others.\n\nHe splits time between Los Angeles and La Jolla with his partner\, Bruna Mori and their son\, Lucien.
UID:4157-918828@events.umich.edu
URL:https://events.umich.edu/event/4157
CLASS:PUBLIC
STATUS:CONFIRMED
CATEGORIES:
LOCATION:Art and Architecture Building - 2104
CONTACT:
END:VEVENT
BEGIN:VEVENT
DTSTAMP:20101111T175803
DTSTART;TZID=America/Detroit:20101105T190000
SUMMARY:Exhibition:Mark Webster Reading Series
DESCRIPTION:One MFA fiction student and one poetry student\, each introduced by a peer\, will read their work. The Mark Webster Reading Series presents emerging writers in a warm and relaxed setting. We encourage you to bring your friends - it's an excellent way to spend a Friday night.
UID:4057-918006@events.umich.edu
URL:https://events.umich.edu/event/4057
CLASS:PUBLIC
STATUS:CONFIRMED
CATEGORIES:literary arts
LOCATION:Museum of Art - Helmut Stern Auditorium
CONTACT:
END:VEVENT
BEGIN:VEVENT
DTSTAMP:20100917T111152
DTSTART;TZID=America/Detroit:20101105T190000
DTEND;TZID=America/Detroit:20101105T210000
SUMMARY:Film Screening:Yojimbo
DESCRIPTION:1961 / 110 min. / 35mm / In Japanese with English subtitles\n\nIn this dark comedy\, a gang hires a masterless samurai as a yojimbo\, or strong arm man.  But  the man has a mind of his own\, and his wit and his sword clear a town of all gangsters\, including  those with the temerity to hire him.
UID:3692-920187@events.umich.edu
URL:https://events.umich.edu/event/3692
CLASS:PUBLIC
STATUS:CONFIRMED
CATEGORIES:
LOCATION:Lorch Hall - Askwith Auditorium
CONTACT:
END:VEVENT
BEGIN:VEVENT
DTSTAMP:20100721T084357
DTSTART;TZID=America/Detroit:20101105T200000
SUMMARY:Performance:Alasdair Fraser & Natlie Haas
DESCRIPTION:Fiddle and cello\, renewing Scots traditions recognized as one of the finest fiddle players Scotland has ever produced\, Alasdair Fraser combines terrific stage presence\, a deep understanding of centuries of Scottish tradition\, and a sweet tone that makes the heartstrings resonate in sympathetic vibrations when he lays on the Celtic melancholy. He's joined on stage by his newest collaborator\, the young American cellist Natalie Haas\, who first came to his attention when she was 11 and attended one of his Valley of the Moon Scottish fiddling camps. Haas's cello has both melodic and rhythmic roles in the duo\, and according to Fraser that's nothing new in Scots music. \"People may be familiar with the gorgeous\, melodic cello sound\,\" he has said\, \"but they're surprised to learn that the cello used to comprise the rhythm section in Scottish dance bands.\"
UID:1334-914963@events.umich.edu
URL:https://events.umich.edu/event/1334
CLASS:PUBLIC
STATUS:CONFIRMED
CATEGORIES:music
LOCATION:
CONTACT:
END:VEVENT
BEGIN:VEVENT
DTSTAMP:20101106T000335
DTSTART;TZID=America/Detroit:20101105T200000
DTEND;TZID=America/Detroit:20101105T220000
SUMMARY:Film Screening:IGSA movie night
DESCRIPTION:Crismon Gold by Jafar Panahi will be screened. The movie is in Farsi with English subtitles.
UID:4202-938423@events.umich.edu
URL:https://events.umich.edu/event/4202
CLASS:PUBLIC
STATUS:CONFIRMED
CATEGORIES:
LOCATION:Chrysler Center - Chesebrough Auditorium
CONTACT:
END:VEVENT
END:VCALENDAR