BEGIN:VCALENDAR
VERSION:2.0
PRODID:-//UM//UM*Events//EN
CALSCALE:GREGORIAN
BEGIN:VTIMEZONE
TZID:America/Detroit
TZURL:http://tzurl.org/zoneinfo/America/Detroit
X-LIC-LOCATION:America/Detroit
BEGIN:DAYLIGHT
TZOFFSETFROM:-0500
TZOFFSETTO:-0400
TZNAME:EDT
DTSTART:20070311T020000
RRULE:FREQ=YEARLY;BYMONTH=3;BYDAY=2SU
END:DAYLIGHT
BEGIN:STANDARD
TZOFFSETFROM:-0400
TZOFFSETTO:-0500
TZNAME:EST
DTSTART:20071104T020000
RRULE:FREQ=YEARLY;BYMONTH=11;BYDAY=1SU
END:STANDARD
END:VTIMEZONE
BEGIN:VEVENT
DTSTAMP:20101111T175729
DTSTART;TZID=America/Detroit:20101109T000000
SUMMARY:Exhibition:U-M Alumni/Returned Peace Corps Volunteer Exhibition
DESCRIPTION:The University of Michigan School of Art & Design invites submissions of work in all media for a 50th anniversary celebratory exhibition of work by U-M alumni who are Returned Peace Corps Volunteers. Creative work should reflect or respond to the Peace Corps experience. Submitted work will be juried by a committee drawn from the School of Art & Design community.  Submittal information located at http://art-design.umich.edu/exhibitions/submit/peace_corps_alumni_exhibition
UID:3571-915570@events.umich.edu
URL:https://events.umich.edu/event/3571
CLASS:PUBLIC
STATUS:CONFIRMED
CATEGORIES:
LOCATION:Art and Architecture Building - Slusser Gallery
CONTACT:
END:VEVENT
BEGIN:VEVENT
DTSTAMP:20101111T175607
DTSTART;TZID=America/Detroit:20101109T000000
SUMMARY:Exhibition:U-M and the Peace Corps: It All Started Here
DESCRIPTION:This dynamic exhibit showcases the unique role of University of Michigan students and faculty in the creation and popularizing of the Peace Corps. As Sargent Shriver said\, \"It might still be just an idea but for”¦those Michigan students and faculty.\" The exhibit highlights the development of student activism as well as important historical events.\n\nNormal Library Hours: http://www.lib.umich.edu/hours/list.php?singlebuilding=4
UID:3498-909756@events.umich.edu
URL:https://events.umich.edu/event/3498
CLASS:PUBLIC
STATUS:CONFIRMED
CATEGORIES:
LOCATION:Hatcher Graduate Library - Library Gallery (Room 100)
CONTACT:
END:VEVENT
BEGIN:VEVENT
DTSTAMP:20100909T114609
DTSTART;TZID=America/Detroit:20101109T083000
DTEND;TZID=America/Detroit:20101109T190000
SUMMARY:Exhibition:From Trace to Text: Highlights from the U-M Papyrus Collection
DESCRIPTION:This exhibit provides a behind-the-scenes look at the work of papyrologists: how they conserve scraps of often badly damaged papyri\, decipher traces of ink\, read and translate the resulting text\, edit and interpret its contents\, and make this available to both scholars and the general public. Modern technology\, such as digitization and multi-spectral imaging\, is aiding papyrologists in all of these efforts.\n\nTexts on display are some of the highlights of the collection. They include a wonderful drawing of an elephant\, a letter from a newly enlisted soldier to his mother\, and\, of course\, some pages of the oldest manuscript with letters of St. Paul (one of the most famous texts of the collection).\n\nIn its 90-year history\, the University of Michigan Papyrus Collection has trained more students and scholars in the field of papyrology than any other institution in North America. Founded by the visionary Francis W. Kelsey\, the Papyrus Collection has been the training ground for papyrologists from around the world and home to many great resident scholars\, such as Herbert and Louise Youtie\, Ludwig Koenen\, and Traianos Gagos\, who died on April 26\, 2010.\n\nPapyrology is the field of scholarship that deciphers and studies the texts written –primarily on papyrus– by people living in the ancient Mediterranean world between 2\,500 BCE and 1\,000 CE. Most of these texts are found in Egypt where the climate is dry enough to preserve this fragile material. It is a highly specialized and technical field\, requiring intensive training in language (Egyptian\, ancient Greek\, Latin\, Arabic)\, history\, and the unique set of skills necessary for reading original documents.\n\nThe exhibit is open during Audubon Room hours: Sun 1-7pm\, Mon-Fri 8:30-7pm\, Sat 10am-6pm.\n\nThis Exhibit is in Honor of Traianos Gagos (1960-2010).
UID:3497-917766@events.umich.edu
URL:https://events.umich.edu/event/3497
CLASS:PUBLIC
STATUS:CONFIRMED
CATEGORIES:
LOCATION:Hatcher Graduate Library - Audubon Room
CONTACT:
END:VEVENT
BEGIN:VEVENT
DTSTAMP:20100817T114436
DTSTART;TZID=America/Detroit:20101109T100000
SUMMARY:Exhibition:On Beauty and the Everyday: The Prints of James McNeill Whistler
DESCRIPTION:UMMA's rare and important collection of James McNeill Whistler works on paper represents  one of the finest holdings of Whistler's graphic output in North America. This major exhibition  features more than 100 works of art from UMMA's Whistler collection\, which covers the  artist's entire career in Europe\, ranging from his student days and exposure to the vanguard  artistic movements of the 19th century to the groundbreaking and atmospheric lithographs  and etchings of his mature style. It is the first exhibition devoted to Whistler's works at  UMMA since 1994.\n\nNearly all of the Whistler works came to the Museum through the bequest of Margaret  Watson Parker\, an early collector of both Whistler's prints as well as Japanese art. The  exhibition explores Whistler's illustrious life and career\; his artistic themes and concerns\,  including portraiture and his well-known series from England\, Italy\, and France\; the interests  and legacy of early-20th-century Whistler collector Margaret Watson Parker\; and the tools  and techniques that Whistler employed as a printmaker.
UID:3291-921206@events.umich.edu
URL:https://events.umich.edu/event/3291
CLASS:PUBLIC
STATUS:CONFIRMED
CATEGORIES:visual arts
LOCATION:Museum of Art
CONTACT:
END:VEVENT
BEGIN:VEVENT
DTSTAMP:20101111T175737
DTSTART;TZID=America/Detroit:20101109T100000
SUMMARY:Exhibition:Out of the Ordinary: Selections from the Bohlen Wood Art and Fusfeld Folk Art Collections
DESCRIPTION:This exhibition\, which runs from September 11 through Spring of 2011\, allows visitors to  explore two extraordinary collections of art–the Robert M. and Lillian Montalto Bohlen  Collection of Wood Art and the Daniel and Harriet Fusfeld Folk Art Collection. The Bohlen  collection presents an astonishing range of contemporary artworks fashioned from wood and  includes works that explores traditional and non-traditional vessel forms as well as works that  are more purely sculptural. The outstanding objects that make up the Fusfeld collection are both  geographically and historically wide-ranging\, including work by early nineteenth-century  itinerant folk portraitists as well as late twentieth-century sculpture and painting by “outsider”  artists from the American South\, Midwest\, and Northeast.
UID:3293-916134@events.umich.edu
URL:https://events.umich.edu/event/3293
CLASS:PUBLIC
STATUS:CONFIRMED
CATEGORIES:visual arts
LOCATION:Museum of Art
CONTACT:
END:VEVENT
BEGIN:VEVENT
DTSTAMP:20101111T175904
DTSTART;TZID=America/Detroit:20101109T100000
SUMMARY:Exhibition:UMMA Projects: Simon Dybbroe MÃ¸ller
DESCRIPTION:Things are not always as they seem in the work of Simon Dybbroe MÃ¸ller. Indeed\, the Danish artist's works can at times appear to have been teleported from a slightly askew\, alternate version of the past. Seemingly familiar forms often appear in unexpected configurations and objects we think we recognize turn out to be something else entirely. An abstract wall painting emerges from beneath a layer of peeling plaster. A group of minimalist sculptures turn out to be the pieces of an enlarged Soma cube. This uncertainty is central to the experience of Dybbroe MÃ¸ller's work\, where an initial misrecognition leads to a moment of aesthetic discovery.\n\nDybbroe MÃ¸ller's penchant for puzzles and paradoxes reflects his interest in modernism's theoretical aspirations as well as its practical failings. Similarly\, his frequent adoption of “outmoded” media both provides him with a diverse artistic palette and a means of questioning the past century's faith in progress through technology and the avant-garde promise of continual artistic development.\n\nFor Dybbroe MÃ¸ller's first solo exhibition in a North American museum\, UMMA will present a new body of work that continues his ongoing engagement with and critique of the modernist paradigm of transparency.
UID:4185-921752@events.umich.edu
URL:https://events.umich.edu/event/4185
CLASS:PUBLIC
STATUS:CONFIRMED
CATEGORIES:visual arts
LOCATION:Museum of Art - Projects Gallery
CONTACT:
END:VEVENT
BEGIN:VEVENT
DTSTAMP:20101109T105530
DTSTART;TZID=America/Detroit:20101109T161500
DTEND;TZID=America/Detroit:20101109T173000
SUMMARY:Presentation:Qualtrics: Supercharge your Research
DESCRIPTION:You have access to Qualtrics through the University of Michigan...come learn tips\, tricks and suggestions for conducting all levels of survey research.   Who Should Attend: ”¢	Faculty\, Staff and Students ”¢	Anyone interested in research\, or improving their research   What you'll learn: ”¢	The latest trends in market research technology ”¢	Why Qualtrics is used by all 30 of Business Week's Top 30 Business Schools ”¢	How Qualtrics can save you time\, and help you collect priceless info to drive data-based decisions   Details: Tuesday\, November 9th Time: 4:15 pm 1324 East Hall Psychology Auditorium Pizza is included!
UID:4209-959542@events.umich.edu
URL:https://events.umich.edu/event/4209
CLASS:PUBLIC
STATUS:CONFIRMED
CATEGORIES:
LOCATION:East Hall - 1324
CONTACT:
END:VEVENT
BEGIN:VEVENT
DTSTAMP:20101111T175634
DTSTART;TZID=America/Detroit:20101109T170000
DTEND;TZID=America/Detroit:20101109T190000
SUMMARY:Film Screening:Film: The Greatest Silence: Rape in the Congo
DESCRIPTION:Since 1998 a brutal war has been raging in the Democratic Republic of Congo (DRC). Over 4 million people have died. And there are the uncountable casualties: the many tens of thousands of women & girls who have been systematically kidnapped\, raped\, mutilated & tortured by soldiers from both foreign militias & the Congolese army.   In The Greatest Silence: Rape in the Congo these brave women finally speak.  Note that depicted in the film is Dr. Denis Mukwege\, the 2010 recipient of the U-M Wallenberg medal.  http://www.wallenberg.umich.edu/Mukwege.html
UID:4120-911727@events.umich.edu
URL:https://events.umich.edu/event/4120
CLASS:PUBLIC
STATUS:CONFIRMED
CATEGORIES:multicultural,social justice
LOCATION:School of Public Health Bldg I and Crossroads and Tower - 1755 Auditorium
CONTACT:
END:VEVENT
BEGIN:VEVENT
DTSTAMP:20101111T175656
DTSTART;TZID=America/Detroit:20101109T190000
DTEND;TZID=America/Detroit:20101109T210000
SUMMARY:Exhibition:Gleek Out @ Pierpont
DESCRIPTION:Join your fellow Michigan \"Gleeks\" at our weekly Glee watch party! Held every Tuesday\, from 7-9 pm in the Pierpont Commons TV lounge (near UGo's)\, this event will become a regular favorite for all the UM Glee fans out there.\n\nEach week we'll have a different competition to find Michigan's biggest Gleeks\, then watch the show together. (Because we get it. It's awesome.)\n\nHere's the schedule of Gleek Competitions:\n\n10/12-Best McKinley HS Cheer 10/26-Sue Sylvester Zing-Off 11/2-Dress as Your Fave Character Costume Contest 11/9-Name that Glee Tune 11/16-Slushie Eating Contest 11/30-Glee Karaoke Contest 12/7-Extreme Glee Trivia\n\nCome prepared to show your stuff\, and be crowned Michigan's Biggest Gleek!
UID:4007-913344@events.umich.edu
URL:https://events.umich.edu/event/4007
CLASS:PUBLIC
STATUS:CONFIRMED
CATEGORIES:visual arts
LOCATION:Pierpont Commons - TV Lounge (Near UGo&#039;s)
CONTACT:
END:VEVENT
BEGIN:VEVENT
DTSTAMP:20100826T215443
DTSTART;TZID=America/Detroit:20101109T190000
DTEND;TZID=America/Detroit:20101109T200000
SUMMARY:Lecture / Discussion:The Rescue of Children and Youths at Buchenwald
DESCRIPTION:Lecturer: Ken Waltzer\, Michigan State University
UID:3370-912674@events.umich.edu
URL:https://events.umich.edu/event/3370
CLASS:PUBLIC
STATUS:CONFIRMED
CATEGORIES:
LOCATION:202 S. Thayer - 2022
CONTACT:
END:VEVENT
BEGIN:VEVENT
DTSTAMP:20100902T201924
DTSTART;TZID=America/Detroit:20101109T200000
DTEND;TZID=America/Detroit:20101109T230000
SUMMARY:Exhibition:ArtsBreak
DESCRIPTION:Come explore your creative side and make free crafts at ArtsBreak! Held every Tuesday night\, these drop-in events give you the chance to relieve some stress by making a cool\, totally free craft project. Stop by anytime between 8-11 p.m.\n\nFor the most up-to-date list of projects\, check out our website at: http://www.umich.edu/~uuap.
UID:3466-918981@events.umich.edu
URL:https://events.umich.edu/event/3466
CLASS:PUBLIC
STATUS:CONFIRMED
CATEGORIES:visual arts
LOCATION:Michigan Union - MUG (Ground Floor)
CONTACT:
END:VEVENT
BEGIN:VEVENT
DTSTAMP:20101111T175612
DTSTART;TZID=America/Detroit:20101109T200000
SUMMARY:Film Screening:Film Series: International Development Issues–Four Countries
DESCRIPTION:Issues\, problems\, successes and failures of international development will be explored by viewing films about four countries followed by discussion. Taking Root: The Vision of Wangari Maathai is the inspiring story of the Green Belt Movement and its Nobel Laureate founder (Oct. 26). End of the Rainbow is about the impact of gold mining in Guinea (Nov. 2). Poto Mitan is the story of five Haitian women who struggle against huge obstacles to create change through collective action (Nov. 9). Once in Afghanistan  is a film about the work of female Peace Corps vaccinators and its impact on them and Afghans (Nov. 16). This program is co-sponsored by the Global Scholars Program\, LSA Theme Semester and the International Center.
UID:3564-910076@events.umich.edu
URL:https://events.umich.edu/event/3564
CLASS:PUBLIC
STATUS:CONFIRMED
CATEGORIES:
LOCATION:North Quad
CONTACT:
END:VEVENT
BEGIN:VEVENT
DTSTAMP:20100826T220912
DTSTART;TZID=America/Detroit:20101109T200000
SUMMARY:Performance:Will Kimbrough
DESCRIPTION:
UID:3386-917447@events.umich.edu
URL:https://events.umich.edu/event/3386
CLASS:PUBLIC
STATUS:CONFIRMED
CATEGORIES:music
LOCATION:
CONTACT:
END:VEVENT
END:VCALENDAR