BEGIN:VCALENDAR
VERSION:2.0
PRODID:-//UM//UM*Events//EN
CALSCALE:GREGORIAN
BEGIN:VTIMEZONE
TZID:America/Detroit
TZURL:http://tzurl.org/zoneinfo/America/Detroit
X-LIC-LOCATION:America/Detroit
BEGIN:DAYLIGHT
TZOFFSETFROM:-0500
TZOFFSETTO:-0400
TZNAME:EDT
DTSTART:20070311T020000
RRULE:FREQ=YEARLY;BYMONTH=3;BYDAY=2SU
END:DAYLIGHT
BEGIN:STANDARD
TZOFFSETFROM:-0400
TZOFFSETTO:-0500
TZNAME:EST
DTSTART:20071104T020000
RRULE:FREQ=YEARLY;BYMONTH=11;BYDAY=1SU
END:STANDARD
END:VTIMEZONE
BEGIN:VEVENT
DTSTAMP:20101111T175729
DTSTART;TZID=America/Detroit:20101112T000000
SUMMARY:Exhibition:U-M Alumni/Returned Peace Corps Volunteer Exhibition
DESCRIPTION:The University of Michigan School of Art & Design invites submissions of work in all media for a 50th anniversary celebratory exhibition of work by U-M alumni who are Returned Peace Corps Volunteers. Creative work should reflect or respond to the Peace Corps experience. Submitted work will be juried by a committee drawn from the School of Art & Design community.  Submittal information located at http://art-design.umich.edu/exhibitions/submit/peace_corps_alumni_exhibition
UID:3571-915573@events.umich.edu
URL:https://events.umich.edu/event/3571
CLASS:PUBLIC
STATUS:CONFIRMED
CATEGORIES:
LOCATION:Art and Architecture Building - Slusser Gallery
CONTACT:
END:VEVENT
BEGIN:VEVENT
DTSTAMP:20101111T175607
DTSTART;TZID=America/Detroit:20101112T000000
SUMMARY:Exhibition:U-M and the Peace Corps: It All Started Here
DESCRIPTION:This dynamic exhibit showcases the unique role of University of Michigan students and faculty in the creation and popularizing of the Peace Corps. As Sargent Shriver said\, \"It might still be just an idea but for”¦those Michigan students and faculty.\" The exhibit highlights the development of student activism as well as important historical events.\n\nNormal Library Hours: http://www.lib.umich.edu/hours/list.php?singlebuilding=4
UID:3498-909759@events.umich.edu
URL:https://events.umich.edu/event/3498
CLASS:PUBLIC
STATUS:CONFIRMED
CATEGORIES:
LOCATION:Hatcher Graduate Library - Library Gallery (Room 100)
CONTACT:
END:VEVENT
BEGIN:VEVENT
DTSTAMP:20100909T114609
DTSTART;TZID=America/Detroit:20101112T083000
DTEND;TZID=America/Detroit:20101112T190000
SUMMARY:Exhibition:From Trace to Text: Highlights from the U-M Papyrus Collection
DESCRIPTION:This exhibit provides a behind-the-scenes look at the work of papyrologists: how they conserve scraps of often badly damaged papyri\, decipher traces of ink\, read and translate the resulting text\, edit and interpret its contents\, and make this available to both scholars and the general public. Modern technology\, such as digitization and multi-spectral imaging\, is aiding papyrologists in all of these efforts.\n\nTexts on display are some of the highlights of the collection. They include a wonderful drawing of an elephant\, a letter from a newly enlisted soldier to his mother\, and\, of course\, some pages of the oldest manuscript with letters of St. Paul (one of the most famous texts of the collection).\n\nIn its 90-year history\, the University of Michigan Papyrus Collection has trained more students and scholars in the field of papyrology than any other institution in North America. Founded by the visionary Francis W. Kelsey\, the Papyrus Collection has been the training ground for papyrologists from around the world and home to many great resident scholars\, such as Herbert and Louise Youtie\, Ludwig Koenen\, and Traianos Gagos\, who died on April 26\, 2010.\n\nPapyrology is the field of scholarship that deciphers and studies the texts written –primarily on papyrus– by people living in the ancient Mediterranean world between 2\,500 BCE and 1\,000 CE. Most of these texts are found in Egypt where the climate is dry enough to preserve this fragile material. It is a highly specialized and technical field\, requiring intensive training in language (Egyptian\, ancient Greek\, Latin\, Arabic)\, history\, and the unique set of skills necessary for reading original documents.\n\nThe exhibit is open during Audubon Room hours: Sun 1-7pm\, Mon-Fri 8:30-7pm\, Sat 10am-6pm.\n\nThis Exhibit is in Honor of Traianos Gagos (1960-2010).
UID:3497-917769@events.umich.edu
URL:https://events.umich.edu/event/3497
CLASS:PUBLIC
STATUS:CONFIRMED
CATEGORIES:
LOCATION:Hatcher Graduate Library - Audubon Room
CONTACT:
END:VEVENT
BEGIN:VEVENT
DTSTAMP:20100826T223421
DTSTART;TZID=America/Detroit:20101112T090000
SUMMARY:Exhibition:The View From Below
DESCRIPTION:Curator: Sara Blair\, University of Michigan
UID:3384-917828@events.umich.edu
URL:https://events.umich.edu/event/3384
CLASS:PUBLIC
STATUS:CONFIRMED
CATEGORIES:visual arts
LOCATION:202 S. Thayer - Humanities Gallery
CONTACT:
END:VEVENT
BEGIN:VEVENT
DTSTAMP:20100817T114436
DTSTART;TZID=America/Detroit:20101112T100000
SUMMARY:Exhibition:On Beauty and the Everyday: The Prints of James McNeill Whistler
DESCRIPTION:UMMA's rare and important collection of James McNeill Whistler works on paper represents  one of the finest holdings of Whistler's graphic output in North America. This major exhibition  features more than 100 works of art from UMMA's Whistler collection\, which covers the  artist's entire career in Europe\, ranging from his student days and exposure to the vanguard  artistic movements of the 19th century to the groundbreaking and atmospheric lithographs  and etchings of his mature style. It is the first exhibition devoted to Whistler's works at  UMMA since 1994.\n\nNearly all of the Whistler works came to the Museum through the bequest of Margaret  Watson Parker\, an early collector of both Whistler's prints as well as Japanese art. The  exhibition explores Whistler's illustrious life and career\; his artistic themes and concerns\,  including portraiture and his well-known series from England\, Italy\, and France\; the interests  and legacy of early-20th-century Whistler collector Margaret Watson Parker\; and the tools  and techniques that Whistler employed as a printmaker.
UID:3291-921209@events.umich.edu
URL:https://events.umich.edu/event/3291
CLASS:PUBLIC
STATUS:CONFIRMED
CATEGORIES:visual arts
LOCATION:Museum of Art
CONTACT:
END:VEVENT
BEGIN:VEVENT
DTSTAMP:20101111T175737
DTSTART;TZID=America/Detroit:20101112T100000
SUMMARY:Exhibition:Out of the Ordinary: Selections from the Bohlen Wood Art and Fusfeld Folk Art Collections
DESCRIPTION:This exhibition\, which runs from September 11 through Spring of 2011\, allows visitors to  explore two extraordinary collections of art–the Robert M. and Lillian Montalto Bohlen  Collection of Wood Art and the Daniel and Harriet Fusfeld Folk Art Collection. The Bohlen  collection presents an astonishing range of contemporary artworks fashioned from wood and  includes works that explores traditional and non-traditional vessel forms as well as works that  are more purely sculptural. The outstanding objects that make up the Fusfeld collection are both  geographically and historically wide-ranging\, including work by early nineteenth-century  itinerant folk portraitists as well as late twentieth-century sculpture and painting by “outsider”  artists from the American South\, Midwest\, and Northeast.
UID:3293-916137@events.umich.edu
URL:https://events.umich.edu/event/3293
CLASS:PUBLIC
STATUS:CONFIRMED
CATEGORIES:visual arts
LOCATION:Museum of Art
CONTACT:
END:VEVENT
BEGIN:VEVENT
DTSTAMP:20101111T175904
DTSTART;TZID=America/Detroit:20101112T100000
SUMMARY:Exhibition:UMMA Projects: Simon Dybbroe MÃ¸ller
DESCRIPTION:Things are not always as they seem in the work of Simon Dybbroe MÃ¸ller. Indeed\, the Danish artist's works can at times appear to have been teleported from a slightly askew\, alternate version of the past. Seemingly familiar forms often appear in unexpected configurations and objects we think we recognize turn out to be something else entirely. An abstract wall painting emerges from beneath a layer of peeling plaster. A group of minimalist sculptures turn out to be the pieces of an enlarged Soma cube. This uncertainty is central to the experience of Dybbroe MÃ¸ller's work\, where an initial misrecognition leads to a moment of aesthetic discovery.\n\nDybbroe MÃ¸ller's penchant for puzzles and paradoxes reflects his interest in modernism's theoretical aspirations as well as its practical failings. Similarly\, his frequent adoption of “outmoded” media both provides him with a diverse artistic palette and a means of questioning the past century's faith in progress through technology and the avant-garde promise of continual artistic development.\n\nFor Dybbroe MÃ¸ller's first solo exhibition in a North American museum\, UMMA will present a new body of work that continues his ongoing engagement with and critique of the modernist paradigm of transparency.
UID:4185-921755@events.umich.edu
URL:https://events.umich.edu/event/4185
CLASS:PUBLIC
STATUS:CONFIRMED
CATEGORIES:visual arts
LOCATION:Museum of Art - Projects Gallery
CONTACT:
END:VEVENT
BEGIN:VEVENT
DTSTAMP:20101111T175745
DTSTART;TZID=America/Detroit:20101112T130000
DTEND;TZID=America/Detroit:20101112T143000
SUMMARY:Lecture / Discussion:Pelvis Floor Disorders
DESCRIPTION:This talk is part of the series Gender\, Sexual and Reproductive Health: A Global Perspective. Dr Fenner's presentation will review the epidemiology\, impact and pathophysiology of three major pelvic floor disorders: urinary incontinence\, pelvic organ prolapse\, and fecal incontinence. An emphasis on birth and aging as contributing factors to these conditions will be highlighted. A description of preventative measures and treatments will be discussed.
UID:4124-916613@events.umich.edu
URL:https://events.umich.edu/event/4124
CLASS:PUBLIC
STATUS:CONFIRMED
CATEGORIES:
LOCATION:
CONTACT:
END:VEVENT
BEGIN:VEVENT
DTSTAMP:20101109T133809
DTSTART;TZID=America/Detroit:20101112T183000
DTEND;TZID=America/Detroit:20101112T200000
SUMMARY:Lecture / Discussion:J. Robert Swanson Lecture: Jeff Kipnis
DESCRIPTION:http://www.tcaup.umich.edu/news_and_events/events/?event=0000c0a8de10000007e205030000012a9cffdd5faed488f8\n\nFor more than two decades Jeffrey Kipnis's work has shaped the thinking\, imagination and creative work of architects and critics. From seminal studies of the work of such key practitioners as Philip Johnson\, Peter Eisenman\, Rem Koolhaas and Daniel Libeskind\, to theoretical reflections on the intellectual\, cultural and political role of contemporary architecture in such essays as Toward a New Architecture\, Twisting the Separatrix and Political Space I\, as well as his award-winning film on the work of Frank Gehry\, and his exhibitions on architectural drawing and design\, Kipnis has brought a restless\, generous and provocative originality to bear on the issues that have defined contemporary architecture.
UID:4222-959567@events.umich.edu
URL:https://events.umich.edu/event/4222
CLASS:PUBLIC
STATUS:CONFIRMED
CATEGORIES:
LOCATION:Art and Architecture Building - 2104
CONTACT:
END:VEVENT
BEGIN:VEVENT
DTSTAMP:20101111T175626
DTSTART;TZID=America/Detroit:20101112T190000
SUMMARY:Performance:Samasti: The Elements of Illusion
DESCRIPTION:The annual IASA Cultural Show is the largest run student production in North  America. Every year the show uses vivid colors\, songs\, and dance to show the  intricate workings of the Indian culture. This year's show entitled\, Samasti: The  Elements of Illusion\, emphasizes the elements of dance that compose the makeup  of India.\n\nWith humble beginnings more than 20 years ago\, the IASA Cultural Show has grown  from an unknown University of Michigan campus event held in East Quad Dormitory  Theatre to the largest student run cultural show on the continent held in critically  acclaimed Hill Auditorium. Proceeds from the show are donated to an Indian charity  in hopes of improving the lives of people in India. This year\, proceeds will be going  to One World Health\, a group dedicated to providing medicine to those in  developing countries who currently may not have access.\n\nThis event will take place on Friday\, November 12 of 2010 at Hill Auditorium.  Students\, families\, and local metro-Detroit citizens are welcome to enjoy a night of  Indian culture and diversity.  Tickets are now available at the Michigan Union Ticket  Office (MUTO) located in the basement of the Union\, or online at  www.ticketmaster.com.  Get them before they sell out!
UID:4179-911297@events.umich.edu
URL:https://events.umich.edu/event/4179
CLASS:PUBLIC
STATUS:CONFIRMED
CATEGORIES:dance,multicultural,music,theater,visual arts
LOCATION:Hill Auditorium
CONTACT:
END:VEVENT
BEGIN:VEVENT
DTSTAMP:20101111T175638
DTSTART;TZID=America/Detroit:20101112T190000
DTEND;TZID=America/Detroit:20101112T210000
SUMMARY:Film Screening:Sanjuro
DESCRIPTION:1962 / 96 min. / 35mm / In Japanese with English subtitles\n\nIn another comedy with swords\, the masterless samurai of Yojimbo returns to  impose his brand of justice on a corrupt clan\, in the process teaching a group of  youngsters what it really means to be a samurai.
UID:3675-912185@events.umich.edu
URL:https://events.umich.edu/event/3675
CLASS:PUBLIC
STATUS:CONFIRMED
CATEGORIES:
LOCATION:Lorch Hall - Askwith Auditorium
CONTACT:
END:VEVENT
BEGIN:VEVENT
DTSTAMP:20100721T084810
DTSTART;TZID=America/Detroit:20101112T200000
SUMMARY:Performance:Enter the Haggis
DESCRIPTION:A haggis is a tasty Scottish dish consisting of sheep heart\, liver\, and lungs\, mixed with oatmeal\, onion\, suet\, and spices\, and then boiled inside a sheep's stomach. The Canadian-Scots band Enter the Haggis (bagpiper Craig Downie is from Scotland) has just about as much variety in their style -- a high-speed collision of Celtic music\, rock\, bluegrass\, funk\, and world music. An Enter the Haggis live show is a musical feast -- dynamic\, emotionally uplifting\, and intellectually stimulating. The band's music darts effortlessly from the traditional strains of the Chieftains and the Pogues to the frenetic pop of early Elvis Costello and even to Latin and African sounds. Enter the Haggis appeared last January at the Ann Arbor Folk Festival\, and their busy schedule since then has included a tour of Ireland.
UID:479-911706@events.umich.edu
URL:https://events.umich.edu/event/479
CLASS:PUBLIC
STATUS:CONFIRMED
CATEGORIES:music
LOCATION:
CONTACT:
END:VEVENT
END:VCALENDAR