BEGIN:VCALENDAR
VERSION:2.0
PRODID:-//UM//UM*Events//EN
CALSCALE:GREGORIAN
BEGIN:VTIMEZONE
TZID:America/Detroit
TZURL:http://tzurl.org/zoneinfo/America/Detroit
X-LIC-LOCATION:America/Detroit
BEGIN:DAYLIGHT
TZOFFSETFROM:-0500
TZOFFSETTO:-0400
TZNAME:EDT
DTSTART:20070311T020000
RRULE:FREQ=YEARLY;BYMONTH=3;BYDAY=2SU
END:DAYLIGHT
BEGIN:STANDARD
TZOFFSETFROM:-0400
TZOFFSETTO:-0500
TZNAME:EST
DTSTART:20071104T020000
RRULE:FREQ=YEARLY;BYMONTH=11;BYDAY=1SU
END:STANDARD
END:VTIMEZONE
BEGIN:VEVENT
DTSTAMP:20101111T175607
DTSTART;TZID=America/Detroit:20101113T000000
SUMMARY:Exhibition:U-M and the Peace Corps: It All Started Here
DESCRIPTION:This dynamic exhibit showcases the unique role of University of Michigan students and faculty in the creation and popularizing of the Peace Corps. As Sargent Shriver said\, \"It might still be just an idea but for”¦those Michigan students and faculty.\" The exhibit highlights the development of student activism as well as important historical events.\n\nNormal Library Hours: http://www.lib.umich.edu/hours/list.php?singlebuilding=4
UID:3498-909760@events.umich.edu
URL:https://events.umich.edu/event/3498
CLASS:PUBLIC
STATUS:CONFIRMED
CATEGORIES:
LOCATION:Hatcher Graduate Library - Library Gallery (Room 100)
CONTACT:
END:VEVENT
BEGIN:VEVENT
DTSTAMP:20100909T114609
DTSTART;TZID=America/Detroit:20101113T083000
DTEND;TZID=America/Detroit:20101113T190000
SUMMARY:Exhibition:From Trace to Text: Highlights from the U-M Papyrus Collection
DESCRIPTION:This exhibit provides a behind-the-scenes look at the work of papyrologists: how they conserve scraps of often badly damaged papyri\, decipher traces of ink\, read and translate the resulting text\, edit and interpret its contents\, and make this available to both scholars and the general public. Modern technology\, such as digitization and multi-spectral imaging\, is aiding papyrologists in all of these efforts.\n\nTexts on display are some of the highlights of the collection. They include a wonderful drawing of an elephant\, a letter from a newly enlisted soldier to his mother\, and\, of course\, some pages of the oldest manuscript with letters of St. Paul (one of the most famous texts of the collection).\n\nIn its 90-year history\, the University of Michigan Papyrus Collection has trained more students and scholars in the field of papyrology than any other institution in North America. Founded by the visionary Francis W. Kelsey\, the Papyrus Collection has been the training ground for papyrologists from around the world and home to many great resident scholars\, such as Herbert and Louise Youtie\, Ludwig Koenen\, and Traianos Gagos\, who died on April 26\, 2010.\n\nPapyrology is the field of scholarship that deciphers and studies the texts written –primarily on papyrus– by people living in the ancient Mediterranean world between 2\,500 BCE and 1\,000 CE. Most of these texts are found in Egypt where the climate is dry enough to preserve this fragile material. It is a highly specialized and technical field\, requiring intensive training in language (Egyptian\, ancient Greek\, Latin\, Arabic)\, history\, and the unique set of skills necessary for reading original documents.\n\nThe exhibit is open during Audubon Room hours: Sun 1-7pm\, Mon-Fri 8:30-7pm\, Sat 10am-6pm.\n\nThis Exhibit is in Honor of Traianos Gagos (1960-2010).
UID:3497-917770@events.umich.edu
URL:https://events.umich.edu/event/3497
CLASS:PUBLIC
STATUS:CONFIRMED
CATEGORIES:
LOCATION:Hatcher Graduate Library - Audubon Room
CONTACT:
END:VEVENT
BEGIN:VEVENT
DTSTAMP:20100826T223421
DTSTART;TZID=America/Detroit:20101113T090000
SUMMARY:Exhibition:The View From Below
DESCRIPTION:Curator: Sara Blair\, University of Michigan
UID:3384-917829@events.umich.edu
URL:https://events.umich.edu/event/3384
CLASS:PUBLIC
STATUS:CONFIRMED
CATEGORIES:visual arts
LOCATION:202 S. Thayer - Humanities Gallery
CONTACT:
END:VEVENT
BEGIN:VEVENT
DTSTAMP:20100817T133253
DTSTART;TZID=America/Detroit:20101113T100000
DTEND;TZID=America/Detroit:20101113T130000
SUMMARY:Workshop / Seminar:Ann Arbor Art Center Workshops
DESCRIPTION:Explore a different artist\, artifact\, art element\, or art movement one Saturday a month this fall  at the University of Michigan's Museum of Art (UMMA). In response\, you'll create your own  masterpiece and learn a variety of art making techniques\, including mixed media and collage.  Along the way expect gallery games\, scavenger hunts\, and fun! Come with an open mind and a  sense of adventure. Take one workshop or all four\; all levels welcome.
UID:3305-919969@events.umich.edu
URL:https://events.umich.edu/event/3305
CLASS:PUBLIC
STATUS:CONFIRMED
CATEGORIES:visual arts
LOCATION:Museum of Art
CONTACT:
END:VEVENT
BEGIN:VEVENT
DTSTAMP:20101111T175621
DTSTART;TZID=America/Detroit:20101113T100000
SUMMARY:Workshop / Seminar:Mixed Media Workshop Series
DESCRIPTION:Explore a different artist\, artifact\, art element\, or art movement one Saturday a month this fall at the University of Michigan's Museum of Art (UMMA). In response\, you'll create your own masterpiece and learn a variety of art making techniques\, including mixed media and collage. Along the way expect gallery games\, scavenger hunts\, and fun! Come with an open mind and a sense of adventure. Take one or both workshops (also offered Saturday\, December 11). All levels welcome.
UID:4051-910907@events.umich.edu
URL:https://events.umich.edu/event/4051
CLASS:PUBLIC
STATUS:CONFIRMED
CATEGORIES:visual arts
LOCATION:Museum of Art - Multipurpose Room
CONTACT:
END:VEVENT
BEGIN:VEVENT
DTSTAMP:20100817T114436
DTSTART;TZID=America/Detroit:20101113T100000
SUMMARY:Exhibition:On Beauty and the Everyday: The Prints of James McNeill Whistler
DESCRIPTION:UMMA's rare and important collection of James McNeill Whistler works on paper represents  one of the finest holdings of Whistler's graphic output in North America. This major exhibition  features more than 100 works of art from UMMA's Whistler collection\, which covers the  artist's entire career in Europe\, ranging from his student days and exposure to the vanguard  artistic movements of the 19th century to the groundbreaking and atmospheric lithographs  and etchings of his mature style. It is the first exhibition devoted to Whistler's works at  UMMA since 1994.\n\nNearly all of the Whistler works came to the Museum through the bequest of Margaret  Watson Parker\, an early collector of both Whistler's prints as well as Japanese art. The  exhibition explores Whistler's illustrious life and career\; his artistic themes and concerns\,  including portraiture and his well-known series from England\, Italy\, and France\; the interests  and legacy of early-20th-century Whistler collector Margaret Watson Parker\; and the tools  and techniques that Whistler employed as a printmaker.
UID:3291-921210@events.umich.edu
URL:https://events.umich.edu/event/3291
CLASS:PUBLIC
STATUS:CONFIRMED
CATEGORIES:visual arts
LOCATION:Museum of Art
CONTACT:
END:VEVENT
BEGIN:VEVENT
DTSTAMP:20101111T175737
DTSTART;TZID=America/Detroit:20101113T100000
SUMMARY:Exhibition:Out of the Ordinary: Selections from the Bohlen Wood Art and Fusfeld Folk Art Collections
DESCRIPTION:This exhibition\, which runs from September 11 through Spring of 2011\, allows visitors to  explore two extraordinary collections of art–the Robert M. and Lillian Montalto Bohlen  Collection of Wood Art and the Daniel and Harriet Fusfeld Folk Art Collection. The Bohlen  collection presents an astonishing range of contemporary artworks fashioned from wood and  includes works that explores traditional and non-traditional vessel forms as well as works that  are more purely sculptural. The outstanding objects that make up the Fusfeld collection are both  geographically and historically wide-ranging\, including work by early nineteenth-century  itinerant folk portraitists as well as late twentieth-century sculpture and painting by “outsider”  artists from the American South\, Midwest\, and Northeast.
UID:3293-916138@events.umich.edu
URL:https://events.umich.edu/event/3293
CLASS:PUBLIC
STATUS:CONFIRMED
CATEGORIES:visual arts
LOCATION:Museum of Art
CONTACT:
END:VEVENT
BEGIN:VEVENT
DTSTAMP:20101111T175730
DTSTART;TZID=America/Detroit:20101113T100000
SUMMARY:Conference / Symposium:The 2nd Annual History of Art Graduate Student Symposium: Mis/re/presentation
DESCRIPTION:This year's theme considers the various arrangements of presentation in art. With the intention of broadening art and its history beyond a singular or dominant narrative\, our symposium will focus its line of questioning on the ways in which artistic mis/re/presentation lends itself to an investigation of existing descriptive paradigms as well as the implications of such an endeavor. The speakers will consider modes and forms of misrepresentation across all time periods\, media\, and locations of art production from prehistoric to contemporary. The goal of our symposium is to spur interdisciplinary dialogue within and beyond the community of art historians and other scholars working with visual material and culture at the University of Michigan. We are excited to welcome an international group of graduate student presenters and a keynote lecturer to reflect upon this theme through a wide range of topics. Light refreshments and coffee will be provided immediately before the symposium in the Commons.
UID:4058-915588@events.umich.edu
URL:https://events.umich.edu/event/4058
CLASS:PUBLIC
STATUS:CONFIRMED
CATEGORIES:
LOCATION:Museum of Art - Helmut Stern Auditorium
CONTACT:
END:VEVENT
BEGIN:VEVENT
DTSTAMP:20101111T175904
DTSTART;TZID=America/Detroit:20101113T100000
SUMMARY:Exhibition:UMMA Projects: Simon Dybbroe MÃ¸ller
DESCRIPTION:Things are not always as they seem in the work of Simon Dybbroe MÃ¸ller. Indeed\, the Danish artist's works can at times appear to have been teleported from a slightly askew\, alternate version of the past. Seemingly familiar forms often appear in unexpected configurations and objects we think we recognize turn out to be something else entirely. An abstract wall painting emerges from beneath a layer of peeling plaster. A group of minimalist sculptures turn out to be the pieces of an enlarged Soma cube. This uncertainty is central to the experience of Dybbroe MÃ¸ller's work\, where an initial misrecognition leads to a moment of aesthetic discovery.\n\nDybbroe MÃ¸ller's penchant for puzzles and paradoxes reflects his interest in modernism's theoretical aspirations as well as its practical failings. Similarly\, his frequent adoption of “outmoded” media both provides him with a diverse artistic palette and a means of questioning the past century's faith in progress through technology and the avant-garde promise of continual artistic development.\n\nFor Dybbroe MÃ¸ller's first solo exhibition in a North American museum\, UMMA will present a new body of work that continues his ongoing engagement with and critique of the modernist paradigm of transparency.
UID:4185-921756@events.umich.edu
URL:https://events.umich.edu/event/4185
CLASS:PUBLIC
STATUS:CONFIRMED
CATEGORIES:visual arts
LOCATION:Museum of Art - Projects Gallery
CONTACT:
END:VEVENT
BEGIN:VEVENT
DTSTAMP:20101111T175612
DTSTART;TZID=America/Detroit:20101113T103000
DTEND;TZID=America/Detroit:20101113T113000
SUMMARY:Lecture / Discussion:Meeting the World's Energy Needs with the Fusion Hybrid Reactor
DESCRIPTION:The World's energy needs by the mid century\, when its population is expected to  reach 10 billion\, is projected to be 10-30 Terrawatts of carbon free power. The  fusion hybrid reactor is uniquely suited to meet these needs since it is self-fueling\,  can produce abundant power safely\, and securely for decades.
UID:3778-910064@events.umich.edu
URL:https://events.umich.edu/event/3778
CLASS:PUBLIC
STATUS:CONFIRMED
CATEGORIES:
LOCATION:Weiser Hall - 170 &amp;amp; 182
CONTACT:
END:VEVENT
BEGIN:VEVENT
DTSTAMP:20101111T175607
DTSTART;TZID=America/Detroit:20101113T130000
SUMMARY:Exhibition:UMMA Tour: The Collector's Eye
DESCRIPTION:This is one of two new tours that looks at UMMA collections through the lens of a particular theme. \"The Collector's Eye\" considers donors and collectors who have shaped UMMA holdings. Both new tours are offered in conjunction with the UM theme semester \"What Makes Life Worth Living?\"
UID:4052-909720@events.umich.edu
URL:https://events.umich.edu/event/4052
CLASS:PUBLIC
STATUS:CONFIRMED
CATEGORIES:visual arts
LOCATION:Museum of Art
CONTACT:
END:VEVENT
BEGIN:VEVENT
DTSTAMP:20100826T222954
DTSTART;TZID=America/Detroit:20101113T133000
DTEND;TZID=America/Detroit:20101113T160000
SUMMARY:Workshop / Seminar:Artmaking: Ann Arbor Art Center Workshops
DESCRIPTION:This class focuses on drawing from observation. Become acquainted with exquisite objects from the UMMA collections–abstract sculpture (Giocometti\, Moore\, Calder)\, bronze dancers by Rodin\, African artifacts (nailed ritual objects\, beaded hats\, fertility figures)\, Thai Buddha and Indian Shiva figures\, and Korean pottery–while developing a sense of proportion\, perspective\, line quality\, value\, composition\, and personal style. Approaches introduced will include working on watercolored surface with white conte pencil and graphite pencil\, applying collage\, or writing on drawings. To the first class\, please bring: HB\, 2B\, and 2H graphite pencils\; an eraser\; and an 11 x 14 inch sketchbook. Saturdays\, October 9–Nov 13\, 1:30–4 pm. All levels welcome.
UID:3383-914939@events.umich.edu
URL:https://events.umich.edu/event/3383
CLASS:PUBLIC
STATUS:CONFIRMED
CATEGORIES:visual arts
LOCATION:Museum of Art
CONTACT:
END:VEVENT
BEGIN:VEVENT
DTSTAMP:20101111T175824
DTSTART;TZID=America/Detroit:20101113T140000
SUMMARY:Exhibition:UMMA Tour: On Beauty and the Everyday: The Prints of James McNeill Whistler
DESCRIPTION:Tour this major exhibition of more than 100 works of art from UMMA's rare and important Whistler collection\, including portraits and his well-known series from England\, Italy\, and France.
UID:4060-919259@events.umich.edu
URL:https://events.umich.edu/event/4060
CLASS:PUBLIC
STATUS:CONFIRMED
CATEGORIES:visual arts
LOCATION:Museum of Art
CONTACT:
END:VEVENT
BEGIN:VEVENT
DTSTAMP:20101025T104856
DTSTART;TZID=America/Detroit:20101113T190000
DTEND;TZID=America/Detroit:20101113T210000
SUMMARY:Film Screening:The Trial (Orson Welles\, 1963)
DESCRIPTION:Brilliantly capturing the oppressive paranoia of Franz Kafka's classic novel\, Orson  Welles' THE TRIAL is the story of the young clerk\, Josef K.\, who is arrested\, tried  and finally executed–all without knowing his crime.  Welles filmed this baroque  work of genius in a deserted Belle Epoque railway station in Paris.  The strange  setting perfectly captured the bizarre and nightmarish world of Kafka's mythical and  totalitarian state.  35mm restored print.
UID:4140-920589@events.umich.edu
URL:https://events.umich.edu/event/4140
CLASS:PUBLIC
STATUS:CONFIRMED
CATEGORIES:
LOCATION:
CONTACT:
END:VEVENT
BEGIN:VEVENT
DTSTAMP:20101111T175811
DTSTART;TZID=America/Detroit:20101113T200000
SUMMARY:Performance:11th Annual MACFest
DESCRIPTION:Michigan A Capella's 11th Annual A Capella Showcase: MACFest!
UID:4108-918683@events.umich.edu
URL:https://events.umich.edu/event/4108
CLASS:PUBLIC
STATUS:CONFIRMED
CATEGORIES:music
LOCATION:Rackham Graduate School (Horace H.) - Rackham Auditorium
CONTACT:
END:VEVENT
BEGIN:VEVENT
DTSTAMP:20101111T175705
DTSTART;TZID=America/Detroit:20101113T200000
SUMMARY:Performance:Frog Island Fest Revival
DESCRIPTION:During The Ark's 45th anniversary year we're reviving the spirit of the annual Frog  Island Music Festival. Presented each summer in Ypsilanti's Frog Island Park by  WEMU and The Ark from1982 to 2001\, it featured diverse musical styles–Jazz\,  Blues\, Zydeco\, and other musical styles that grew out of the African American  musical heritage. It was known at the time as “the world's biggest block party!”  Those who attended remember fun\, cultural diversity\, unpredictable weather and  fantastic music! Wear your summertime festival attire–your vintage Frog Island  Festival t-shirt if you have one!\n\nMyrick \"Freeze\" Guillory inherited some great songs and a hot band from his  mother\, Queen Ida (who performed at Frog Island). Freeze is charging ahead to  carry on the cultural traditions of zydeco music through high-energy\, creative shows.  Freeze\, who played his first shows with the Queen Ida band in the mid-1970s\, has  become a featured performer with the group. Although he's committed to the time  honored waltzes and peppery two-steps that characterize Ida's shows\, Freeze adds  some solid rhythm-and-blues numbers to his show\, in keeping with one of Zydeco's  most important traditions– innovation.\n\nAl Hill is a soul singer\, a blues piano master\, and an outstanding guitarist. His  music is rooted in the blues\, but pulls freely from soul\, country\, and jazz. A  mainstay of the Detroit music scene for years\, he relocated to Nashville in 2008.  Don't miss your chance to experience him in a rare local show. \n\nThe evening will also feature live jazz from the Community High Jazz Combo during  a buffet dinner provided by Zingerman's Roadhouse for those at the Gourmet Jazz  Picnickers level and up.
UID:4000-914038@events.umich.edu
URL:https://events.umich.edu/event/4000
CLASS:PUBLIC
STATUS:CONFIRMED
CATEGORIES:music
LOCATION:
CONTACT:
END:VEVENT
END:VCALENDAR