BEGIN:VCALENDAR
VERSION:2.0
PRODID:-//UM//UM*Events//EN
CALSCALE:GREGORIAN
BEGIN:VTIMEZONE
TZID:America/Detroit
TZURL:http://tzurl.org/zoneinfo/America/Detroit
X-LIC-LOCATION:America/Detroit
BEGIN:DAYLIGHT
TZOFFSETFROM:-0500
TZOFFSETTO:-0400
TZNAME:EDT
DTSTART:20070311T020000
RRULE:FREQ=YEARLY;BYMONTH=3;BYDAY=2SU
END:DAYLIGHT
BEGIN:STANDARD
TZOFFSETFROM:-0400
TZOFFSETTO:-0500
TZNAME:EST
DTSTART:20071104T020000
RRULE:FREQ=YEARLY;BYMONTH=11;BYDAY=1SU
END:STANDARD
END:VTIMEZONE
BEGIN:VEVENT
DTSTAMP:20100909T114609
DTSTART;TZID=America/Detroit:20101114T083000
DTEND;TZID=America/Detroit:20101114T190000
SUMMARY:Exhibition:From Trace to Text: Highlights from the U-M Papyrus Collection
DESCRIPTION:This exhibit provides a behind-the-scenes look at the work of papyrologists: how they conserve scraps of often badly damaged papyri\, decipher traces of ink\, read and translate the resulting text\, edit and interpret its contents\, and make this available to both scholars and the general public. Modern technology\, such as digitization and multi-spectral imaging\, is aiding papyrologists in all of these efforts.\n\nTexts on display are some of the highlights of the collection. They include a wonderful drawing of an elephant\, a letter from a newly enlisted soldier to his mother\, and\, of course\, some pages of the oldest manuscript with letters of St. Paul (one of the most famous texts of the collection).\n\nIn its 90-year history\, the University of Michigan Papyrus Collection has trained more students and scholars in the field of papyrology than any other institution in North America. Founded by the visionary Francis W. Kelsey\, the Papyrus Collection has been the training ground for papyrologists from around the world and home to many great resident scholars\, such as Herbert and Louise Youtie\, Ludwig Koenen\, and Traianos Gagos\, who died on April 26\, 2010.\n\nPapyrology is the field of scholarship that deciphers and studies the texts written –primarily on papyrus– by people living in the ancient Mediterranean world between 2\,500 BCE and 1\,000 CE. Most of these texts are found in Egypt where the climate is dry enough to preserve this fragile material. It is a highly specialized and technical field\, requiring intensive training in language (Egyptian\, ancient Greek\, Latin\, Arabic)\, history\, and the unique set of skills necessary for reading original documents.\n\nThe exhibit is open during Audubon Room hours: Sun 1-7pm\, Mon-Fri 8:30-7pm\, Sat 10am-6pm.\n\nThis Exhibit is in Honor of Traianos Gagos (1960-2010).
UID:3497-917771@events.umich.edu
URL:https://events.umich.edu/event/3497
CLASS:PUBLIC
STATUS:CONFIRMED
CATEGORIES:
LOCATION:Hatcher Graduate Library - Audubon Room
CONTACT:
END:VEVENT
BEGIN:VEVENT
DTSTAMP:20100826T223421
DTSTART;TZID=America/Detroit:20101114T090000
SUMMARY:Exhibition:The View From Below
DESCRIPTION:Curator: Sara Blair\, University of Michigan
UID:3384-917830@events.umich.edu
URL:https://events.umich.edu/event/3384
CLASS:PUBLIC
STATUS:CONFIRMED
CATEGORIES:visual arts
LOCATION:202 S. Thayer - Humanities Gallery
CONTACT:
END:VEVENT
BEGIN:VEVENT
DTSTAMP:20101123T110027
DTSTART;TZID=America/Detroit:20101114T100000
DTEND;TZID=America/Detroit:20101114T160000
SUMMARY:Workshop / Seminar:LGBTQ Ally Training
DESCRIPTION:The LGBTQ Ally Training Program\, started in 2005\, seeks to empower members of the University community to be active allies to LGBTQ people. More than just a Safe Space program\, the Ally Training Program uses a social justice framework to guide participants through a curriculum that bridges new knowledge of developmental theory to the lived experiences of LGBTQ and Ally-identified people.\n\nThe LGBTQ Ally Training Program is open to all members of the community regardless of sexual orientation\, gender identity and gender expression. Participants affirm a commitment to supporting the right of LGBTQ people to fair and equal treatment\; a commitment to serving as a source of support and/or information about LGBTQ people and issues\; a commitment to learning about and promoting principles of social justice\; an ability to commit to training time.
UID:3587-1031331@events.umich.edu
URL:https://events.umich.edu/event/3587
CLASS:PUBLIC
STATUS:CONFIRMED
CATEGORIES:social justice,multicultural
LOCATION:Michigan Union
CONTACT:
END:VEVENT
BEGIN:VEVENT
DTSTAMP:20100817T114436
DTSTART;TZID=America/Detroit:20101114T100000
SUMMARY:Exhibition:On Beauty and the Everyday: The Prints of James McNeill Whistler
DESCRIPTION:UMMA's rare and important collection of James McNeill Whistler works on paper represents  one of the finest holdings of Whistler's graphic output in North America. This major exhibition  features more than 100 works of art from UMMA's Whistler collection\, which covers the  artist's entire career in Europe\, ranging from his student days and exposure to the vanguard  artistic movements of the 19th century to the groundbreaking and atmospheric lithographs  and etchings of his mature style. It is the first exhibition devoted to Whistler's works at  UMMA since 1994.\n\nNearly all of the Whistler works came to the Museum through the bequest of Margaret  Watson Parker\, an early collector of both Whistler's prints as well as Japanese art. The  exhibition explores Whistler's illustrious life and career\; his artistic themes and concerns\,  including portraiture and his well-known series from England\, Italy\, and France\; the interests  and legacy of early-20th-century Whistler collector Margaret Watson Parker\; and the tools  and techniques that Whistler employed as a printmaker.
UID:3291-921211@events.umich.edu
URL:https://events.umich.edu/event/3291
CLASS:PUBLIC
STATUS:CONFIRMED
CATEGORIES:visual arts
LOCATION:Museum of Art
CONTACT:
END:VEVENT
BEGIN:VEVENT
DTSTAMP:20101111T175737
DTSTART;TZID=America/Detroit:20101114T100000
SUMMARY:Exhibition:Out of the Ordinary: Selections from the Bohlen Wood Art and Fusfeld Folk Art Collections
DESCRIPTION:This exhibition\, which runs from September 11 through Spring of 2011\, allows visitors to  explore two extraordinary collections of art–the Robert M. and Lillian Montalto Bohlen  Collection of Wood Art and the Daniel and Harriet Fusfeld Folk Art Collection. The Bohlen  collection presents an astonishing range of contemporary artworks fashioned from wood and  includes works that explores traditional and non-traditional vessel forms as well as works that  are more purely sculptural. The outstanding objects that make up the Fusfeld collection are both  geographically and historically wide-ranging\, including work by early nineteenth-century  itinerant folk portraitists as well as late twentieth-century sculpture and painting by “outsider”  artists from the American South\, Midwest\, and Northeast.
UID:3293-916139@events.umich.edu
URL:https://events.umich.edu/event/3293
CLASS:PUBLIC
STATUS:CONFIRMED
CATEGORIES:visual arts
LOCATION:Museum of Art
CONTACT:
END:VEVENT
BEGIN:VEVENT
DTSTAMP:20101118T230149
DTSTART;TZID=America/Detroit:20101114T100000
DTEND;TZID=America/Detroit:20101114T130000
SUMMARY:Performance:Ring of Steel Action Theatre
DESCRIPTION:Theatrical combat is a multidisciplinary art that combines acting with elements of  fencing\, martial arts\, dance\, and music to develop a safe and effective  performance. It is a distinct area of study\; essentially a marital art where the focus  is not to injure your partner. As with any martial art\, years of training are needed  before an individual is prepared to safely share their skills on the stage.\n\nThe Ring of Steel offers theatrical combat training in a wide range of weapons and  combat styles\, based in large part on Aikido and late period rapier.
UID:4253-973309@events.umich.edu
URL:https://events.umich.edu/event/4253
CLASS:PUBLIC
STATUS:CONFIRMED
CATEGORIES:visual arts,theater,music,literary arts,film,architecture,dance
LOCATION:
CONTACT:
END:VEVENT
BEGIN:VEVENT
DTSTAMP:20101111T175904
DTSTART;TZID=America/Detroit:20101114T100000
SUMMARY:Exhibition:UMMA Projects: Simon Dybbroe MÃ¸ller
DESCRIPTION:Things are not always as they seem in the work of Simon Dybbroe MÃ¸ller. Indeed\, the Danish artist's works can at times appear to have been teleported from a slightly askew\, alternate version of the past. Seemingly familiar forms often appear in unexpected configurations and objects we think we recognize turn out to be something else entirely. An abstract wall painting emerges from beneath a layer of peeling plaster. A group of minimalist sculptures turn out to be the pieces of an enlarged Soma cube. This uncertainty is central to the experience of Dybbroe MÃ¸ller's work\, where an initial misrecognition leads to a moment of aesthetic discovery.\n\nDybbroe MÃ¸ller's penchant for puzzles and paradoxes reflects his interest in modernism's theoretical aspirations as well as its practical failings. Similarly\, his frequent adoption of “outmoded” media both provides him with a diverse artistic palette and a means of questioning the past century's faith in progress through technology and the avant-garde promise of continual artistic development.\n\nFor Dybbroe MÃ¸ller's first solo exhibition in a North American museum\, UMMA will present a new body of work that continues his ongoing engagement with and critique of the modernist paradigm of transparency.
UID:4185-921757@events.umich.edu
URL:https://events.umich.edu/event/4185
CLASS:PUBLIC
STATUS:CONFIRMED
CATEGORIES:visual arts
LOCATION:Museum of Art - Projects Gallery
CONTACT:
END:VEVENT
BEGIN:VEVENT
DTSTAMP:20101012T155028
DTSTART;TZID=America/Detroit:20101114T130000
SUMMARY:Exhibition:UMMA Tour: Political and Social Expressions in Art
DESCRIPTION:This is one of two new tours that looks at UMMA collections through the lens of a particular theme. \"Political and Social Expressions in Art\" considers art displaying political and social issues. Both new tours are offered in conjunction with the UM theme semester \"What Makes Life Worth Living?\"
UID:4054-914282@events.umich.edu
URL:https://events.umich.edu/event/4054
CLASS:PUBLIC
STATUS:CONFIRMED
CATEGORIES:visual arts
LOCATION:Museum of Art
CONTACT:
END:VEVENT
BEGIN:VEVENT
DTSTAMP:20101111T175820
DTSTART;TZID=America/Detroit:20101114T140000
SUMMARY:Exhibition:UMMA Tour
DESCRIPTION:Explore two extraordinary UMMA collections on extended view–the Robert M. and Lillian Montalto Bohlen Collection of Wood Art and the Daniel and Harriet Fusfeld Folk Art Collection.
UID:4064-919123@events.umich.edu
URL:https://events.umich.edu/event/4064
CLASS:PUBLIC
STATUS:CONFIRMED
CATEGORIES:visual arts
LOCATION:Museum of Art
CONTACT:
END:VEVENT
BEGIN:VEVENT
DTSTAMP:20101020T134522
DTSTART;TZID=America/Detroit:20101114T150000
SUMMARY:Presentation:The 2010 Doris E. Sloan Memorial Lecture
DESCRIPTION:Dr. Glazer's lecture will consider Whistler's approach to depicting architecture in his prints\, beginning with his etchings of Venice and will focus particularly on the artist's 1880s images of Chelsea\, exploring the social realities and aesthetic transformation of a Victorian neighborhood in transition. She will also reflect on the place of these motifs in the collecting habits of UMMA benefactor Margaret Watson Parker. Dr. Glazer is Associate Curator of American Art at the Smithsonian Institution's Freer Gallery of Art and the Arthur M. Sackler Gallery in Washington\, DC\, home of one of the foremost Whistler collections in the world. She is the editor of the recent volume James McNeill Whistler in Context: Essays from the Whistler Centenary Symposium.\n\nThe Sloan Memorial Lecture honors one of the Museum's most ardent friends and supporters\, Doris Sloan\, a longtime Museum docent. Established through the generosity of Dr. Herbert Sloan\, the annual lecture is a tribute to Dr. and Mrs. Sloan's shared passion for collecting art and fostering its appreciation.
UID:4061-912180@events.umich.edu
URL:https://events.umich.edu/event/4061
CLASS:PUBLIC
STATUS:CONFIRMED
CATEGORIES:visual arts
LOCATION:Museum of Art - Helmut Stern Auditorium
CONTACT:
END:VEVENT
BEGIN:VEVENT
DTSTAMP:20101111T175745
DTSTART;TZID=America/Detroit:20101114T173000
SUMMARY:Film Screening:Passing Strange
DESCRIPTION:Singer-songwriter and performance artist Stew was commissioned by the Public Theater of New York to develop Passing Strange\, a heartfelt and hilarious story of a young bohemian who charts a course for \"the real\" through sex\, drugs\, and rock and roll. Loaded with soulful lyrics and overflowing with passion\, the story takes the audience from black\, middle-class America to Amsterdam\, Berlin\, and beyond on a journey towards personal and artistic authenticity. After its move from the Public Theater to Broadway\, director Spike Lee and cinematographer Matthew Libatique committed the musical to film\, shooting a live production on high definition cameras from multiple angles.
UID:4062-916641@events.umich.edu
URL:https://events.umich.edu/event/4062
CLASS:PUBLIC
STATUS:CONFIRMED
CATEGORIES:music,film
LOCATION:Museum of Art - Helmut Stern Auditorium
CONTACT:
END:VEVENT
BEGIN:VEVENT
DTSTAMP:20101111T175805
DTSTART;TZID=America/Detroit:20101114T193000
SUMMARY:Performance:The Flatlanders
DESCRIPTION:
UID:3157-918085@events.umich.edu
URL:https://events.umich.edu/event/3157
CLASS:PUBLIC
STATUS:CONFIRMED
CATEGORIES:music
LOCATION:
CONTACT:
END:VEVENT
BEGIN:VEVENT
DTSTAMP:20101111T175905
DTSTART;TZID=America/Detroit:20101114T200000
SUMMARY:Performance:Behind Closed Doors II: Settings of Anderson and Dickinson by Logan Skelton
DESCRIPTION:Logan Skelton\, composer and UM professor of piano\, presents settings of American artists-poets working largely behind closed doors. In this second and final concert\, Skelton presents his 2003 Anderson Songs\, on the writings of American artist Walter Anderson\, with projected images of his art. A noted eccentric and hermit\, his writings speak of the artist communing with nature and of the relationship of the human condition to the natural world. Skelton also premieres a new collection of Emily Dickinson settings. Anderson and Dickinson\, working \"behind closed doors\,\" were able to develop unimpeded along their own unique paths\, pursuing a pure\, all-consuming artistic vision. Skelton is joined again by longtime collaborators Jennifer Goltz\, soprano and Professor Stephen Lusmann\, baritone.
UID:4063-921867@events.umich.edu
URL:https://events.umich.edu/event/4063
CLASS:PUBLIC
STATUS:CONFIRMED
CATEGORIES:music,literary arts
LOCATION:Museum of Art - Apse
CONTACT:
END:VEVENT
END:VCALENDAR