BEGIN:VCALENDAR
VERSION:2.0
PRODID:-//UM//UM*Events//EN
CALSCALE:GREGORIAN
BEGIN:VTIMEZONE
TZID:America/Detroit
TZURL:http://tzurl.org/zoneinfo/America/Detroit
X-LIC-LOCATION:America/Detroit
BEGIN:DAYLIGHT
TZOFFSETFROM:-0500
TZOFFSETTO:-0400
TZNAME:EDT
DTSTART:20070311T020000
RRULE:FREQ=YEARLY;BYMONTH=3;BYDAY=2SU
END:DAYLIGHT
BEGIN:STANDARD
TZOFFSETFROM:-0400
TZOFFSETTO:-0500
TZNAME:EST
DTSTART:20071104T020000
RRULE:FREQ=YEARLY;BYMONTH=11;BYDAY=1SU
END:STANDARD
END:VTIMEZONE
BEGIN:VEVENT
DTSTAMP:20101111T175607
DTSTART;TZID=America/Detroit:20101115T000000
SUMMARY:Exhibition:U-M and the Peace Corps: It All Started Here
DESCRIPTION:This dynamic exhibit showcases the unique role of University of Michigan students and faculty in the creation and popularizing of the Peace Corps. As Sargent Shriver said\, \"It might still be just an idea but for”¦those Michigan students and faculty.\" The exhibit highlights the development of student activism as well as important historical events.\n\nNormal Library Hours: http://www.lib.umich.edu/hours/list.php?singlebuilding=4
UID:3498-909761@events.umich.edu
URL:https://events.umich.edu/event/3498
CLASS:PUBLIC
STATUS:CONFIRMED
CATEGORIES:
LOCATION:Hatcher Graduate Library - Library Gallery (Room 100)
CONTACT:
END:VEVENT
BEGIN:VEVENT
DTSTAMP:20100909T114609
DTSTART;TZID=America/Detroit:20101115T083000
DTEND;TZID=America/Detroit:20101115T190000
SUMMARY:Exhibition:From Trace to Text: Highlights from the U-M Papyrus Collection
DESCRIPTION:This exhibit provides a behind-the-scenes look at the work of papyrologists: how they conserve scraps of often badly damaged papyri\, decipher traces of ink\, read and translate the resulting text\, edit and interpret its contents\, and make this available to both scholars and the general public. Modern technology\, such as digitization and multi-spectral imaging\, is aiding papyrologists in all of these efforts.\n\nTexts on display are some of the highlights of the collection. They include a wonderful drawing of an elephant\, a letter from a newly enlisted soldier to his mother\, and\, of course\, some pages of the oldest manuscript with letters of St. Paul (one of the most famous texts of the collection).\n\nIn its 90-year history\, the University of Michigan Papyrus Collection has trained more students and scholars in the field of papyrology than any other institution in North America. Founded by the visionary Francis W. Kelsey\, the Papyrus Collection has been the training ground for papyrologists from around the world and home to many great resident scholars\, such as Herbert and Louise Youtie\, Ludwig Koenen\, and Traianos Gagos\, who died on April 26\, 2010.\n\nPapyrology is the field of scholarship that deciphers and studies the texts written –primarily on papyrus– by people living in the ancient Mediterranean world between 2\,500 BCE and 1\,000 CE. Most of these texts are found in Egypt where the climate is dry enough to preserve this fragile material. It is a highly specialized and technical field\, requiring intensive training in language (Egyptian\, ancient Greek\, Latin\, Arabic)\, history\, and the unique set of skills necessary for reading original documents.\n\nThe exhibit is open during Audubon Room hours: Sun 1-7pm\, Mon-Fri 8:30-7pm\, Sat 10am-6pm.\n\nThis Exhibit is in Honor of Traianos Gagos (1960-2010).
UID:3497-917772@events.umich.edu
URL:https://events.umich.edu/event/3497
CLASS:PUBLIC
STATUS:CONFIRMED
CATEGORIES:
LOCATION:Hatcher Graduate Library - Audubon Room
CONTACT:
END:VEVENT
BEGIN:VEVENT
DTSTAMP:20100826T223421
DTSTART;TZID=America/Detroit:20101115T090000
SUMMARY:Exhibition:The View From Below
DESCRIPTION:Curator: Sara Blair\, University of Michigan
UID:3384-917831@events.umich.edu
URL:https://events.umich.edu/event/3384
CLASS:PUBLIC
STATUS:CONFIRMED
CATEGORIES:visual arts
LOCATION:202 S. Thayer - Humanities Gallery
CONTACT:
END:VEVENT
BEGIN:VEVENT
DTSTAMP:20101111T175847
DTSTART;TZID=America/Detroit:20101115T113000
DTEND;TZID=America/Detroit:20101115T130000
SUMMARY:Lecture / Discussion:The Limits of Alignment: Southeast Asia and the Great Powers since 1975
DESCRIPTION:John D. Ciorciari\, Assistant Professor of Public Policy will discuss his book\, The Limits of Alignment: Southeast Asia and the Great Powers since 1975\, published September 2010 by the Georgetown University Press. His research interests are international politics\, law\, and finance. From 2004-07\, he served as a policy official in the U.S. Treasury Department's Office of International Affairs. Since 1999\, he has been a legal advisor to the Documentation Center of Cambodia\, which promotes historical memory and justice for the atrocities of the Pol Pot regime. He holds an A.B. and J.D. from Harvard and an M.Phil. and D.Phil. from Oxford\, where he was a Fulbright Scholar.
UID:3771-920701@events.umich.edu
URL:https://events.umich.edu/event/3771
CLASS:PUBLIC
STATUS:CONFIRMED
CATEGORIES:
LOCATION:Weill Hall (Ford School) - 1210
CONTACT:
END:VEVENT
BEGIN:VEVENT
DTSTAMP:20101021T160517
DTSTART;TZID=America/Detroit:20101115T160000
DTEND;TZID=America/Detroit:20101115T180000
SUMMARY:Lecture / Discussion:\"Wench Fever\" and \"Sable Lotharios\"
DESCRIPTION:Most studies of emancipation's consequences have focused on the South and the former Confederacy. This talk moves our focus northward\, and explores northern collisions over citizenship\, segregation\, civil rights\, and the more informal politics of race among whites and African Americans\, men and women\, in the North. In particular\, this talk explores how gender shaped the politics of race during the era of emancipation and how gender relations were contested and negotiated within northern black communities.\n\nThis lecture is part of IRWG's Gender\, Race and History program area. It is free and open to the public.
UID:4122-921006@events.umich.edu
URL:https://events.umich.edu/event/4122
CLASS:PUBLIC
STATUS:CONFIRMED
CATEGORIES:
LOCATION:Lane Hall - 2239
CONTACT:
END:VEVENT
BEGIN:VEVENT
DTSTAMP:20101118T230152
DTSTART;TZID=America/Detroit:20101115T164500
DTEND;TZID=America/Detroit:20101115T180000
SUMMARY:Lecture / Discussion:Tom Baumann\, Erb Speaker Series.
DESCRIPTION:\"Sustainability and Innovation supported with Web 2.0 Collaboration and Accountability  Infrastructure.\" Refreshments will be served.
UID:4248-973402@events.umich.edu
URL:https://events.umich.edu/event/4248
CLASS:PUBLIC
STATUS:CONFIRMED
CATEGORIES:
LOCATION:Ross School of Business - R1210
CONTACT:
END:VEVENT
BEGIN:VEVENT
DTSTAMP:20100929T102837
DTSTART;TZID=America/Detroit:20101115T180000
DTEND;TZID=America/Detroit:20101115T200000
SUMMARY:Well-being:Free and Anonymous HIV Testing
DESCRIPTION:Every Monday during the academic year\, a counselor from HARC\, the HIV/AIDS Resource Center\, is at the Spectrum Center from 6-8 pm offering free and anonymous HIV testing. The Spectrum Center is a welcoming and safe space for all seeking testing. For more information on HARC and testing\, call 800.578.2300\, 734.572.9355\, or visit them on the web at http://hivaidsresource.org/
UID:3894-909581@events.umich.edu
URL:https://events.umich.edu/event/3894
CLASS:PUBLIC
STATUS:CONFIRMED
CATEGORIES:respect,social justice
LOCATION:Michigan Union - Spectrum Center - 3200
CONTACT:
END:VEVENT
BEGIN:VEVENT
DTSTAMP:20101111T110849
DTSTART;TZID=America/Detroit:20101115T180000
DTEND;TZID=America/Detroit:20101115T193000
SUMMARY:Other:Transpartner Drop-in Support Group
DESCRIPTION:The group meets bi-weekly in an open\, drop-in forum format.  Our goal is to provide support and community for people of all genders to discuss and explore their relationships with trans-identified or gender non-conforming individuals in a safe environment. The group is open to people currently or formerly in partnerships with trans-people.  \n\nThe meeting on the 15th will be open for (Trans)gender Awareness Week.
UID:4245-973393@events.umich.edu
URL:https://events.umich.edu/event/4245
CLASS:PUBLIC
STATUS:CONFIRMED
CATEGORIES:
LOCATION:Michigan Union - 3200
CONTACT:
END:VEVENT
BEGIN:VEVENT
DTSTAMP:20100816T153945
DTSTART;TZID=America/Detroit:20101115T180000
DTEND;TZID=America/Detroit:20101115T200000
SUMMARY:Exercise / Fitness:UMove Class: Intro to Technique 201
DESCRIPTION:In this eight week class\, each class session will focus specifically on a new technique  and build on the previous sessions. Techniques include: Introduction to footwork and  climbing technique\; weight shifting and hip movement\; fundamental footwork: foot  switches and smearing\; sit starts\, mantles and one-armed mantles\; back-stepping and  flagging\; sidepulls\, underclings\, slopers and crimpers\; heel hooks\; reading sequences  and working problems.
UID:3281-914979@events.umich.edu
URL:https://events.umich.edu/event/3281
CLASS:PUBLIC
STATUS:CONFIRMED
CATEGORIES:
LOCATION:Intramural Sports Building - Climbing Wall
CONTACT:
END:VEVENT
END:VCALENDAR