BEGIN:VCALENDAR
VERSION:2.0
PRODID:-//UM//UM*Events//EN
CALSCALE:GREGORIAN
BEGIN:VTIMEZONE
TZID:America/Detroit
TZURL:http://tzurl.org/zoneinfo/America/Detroit
X-LIC-LOCATION:America/Detroit
BEGIN:DAYLIGHT
TZOFFSETFROM:-0500
TZOFFSETTO:-0400
TZNAME:EDT
DTSTART:20070311T020000
RRULE:FREQ=YEARLY;BYMONTH=3;BYDAY=2SU
END:DAYLIGHT
BEGIN:STANDARD
TZOFFSETFROM:-0400
TZOFFSETTO:-0500
TZNAME:EST
DTSTART:20071104T020000
RRULE:FREQ=YEARLY;BYMONTH=11;BYDAY=1SU
END:STANDARD
END:VTIMEZONE
BEGIN:VEVENT
DTSTAMP:20101111T175607
DTSTART;TZID=America/Detroit:20101116T000000
SUMMARY:Exhibition:U-M and the Peace Corps: It All Started Here
DESCRIPTION:This dynamic exhibit showcases the unique role of University of Michigan students and faculty in the creation and popularizing of the Peace Corps. As Sargent Shriver said\, \"It might still be just an idea but for”¦those Michigan students and faculty.\" The exhibit highlights the development of student activism as well as important historical events.\n\nNormal Library Hours: http://www.lib.umich.edu/hours/list.php?singlebuilding=4
UID:3498-909762@events.umich.edu
URL:https://events.umich.edu/event/3498
CLASS:PUBLIC
STATUS:CONFIRMED
CATEGORIES:
LOCATION:Hatcher Graduate Library - Library Gallery (Room 100)
CONTACT:
END:VEVENT
BEGIN:VEVENT
DTSTAMP:20101111T175739
DTSTART;TZID=America/Detroit:20101116T083000
DTEND;TZID=America/Detroit:20101116T143000
SUMMARY:Conference / Symposium:A Veteran Friendly Campus:
DESCRIPTION:The Student Veterans Assistance Program invites Faculty and Staff of the University to join us as we hear from student veterans and students serving in the military about their experiences on the U-M campus.  You will also hear from campus experts and those from the Veterans Administration who currently assist our students who have served in the U.S. military.  This event is open to all Faculty and Staff at the University of Michigan and special invited guests at no charge.\n\nLunch and Breakfast will be served!\n\nPlease visit the symposium website to register.
UID:4023-916248@events.umich.edu
URL:https://events.umich.edu/event/4023
CLASS:PUBLIC
STATUS:CONFIRMED
CATEGORIES:
LOCATION:Michigan Union
CONTACT:
END:VEVENT
BEGIN:VEVENT
DTSTAMP:20100909T114609
DTSTART;TZID=America/Detroit:20101116T083000
DTEND;TZID=America/Detroit:20101116T190000
SUMMARY:Exhibition:From Trace to Text: Highlights from the U-M Papyrus Collection
DESCRIPTION:This exhibit provides a behind-the-scenes look at the work of papyrologists: how they conserve scraps of often badly damaged papyri\, decipher traces of ink\, read and translate the resulting text\, edit and interpret its contents\, and make this available to both scholars and the general public. Modern technology\, such as digitization and multi-spectral imaging\, is aiding papyrologists in all of these efforts.\n\nTexts on display are some of the highlights of the collection. They include a wonderful drawing of an elephant\, a letter from a newly enlisted soldier to his mother\, and\, of course\, some pages of the oldest manuscript with letters of St. Paul (one of the most famous texts of the collection).\n\nIn its 90-year history\, the University of Michigan Papyrus Collection has trained more students and scholars in the field of papyrology than any other institution in North America. Founded by the visionary Francis W. Kelsey\, the Papyrus Collection has been the training ground for papyrologists from around the world and home to many great resident scholars\, such as Herbert and Louise Youtie\, Ludwig Koenen\, and Traianos Gagos\, who died on April 26\, 2010.\n\nPapyrology is the field of scholarship that deciphers and studies the texts written –primarily on papyrus– by people living in the ancient Mediterranean world between 2\,500 BCE and 1\,000 CE. Most of these texts are found in Egypt where the climate is dry enough to preserve this fragile material. It is a highly specialized and technical field\, requiring intensive training in language (Egyptian\, ancient Greek\, Latin\, Arabic)\, history\, and the unique set of skills necessary for reading original documents.\n\nThe exhibit is open during Audubon Room hours: Sun 1-7pm\, Mon-Fri 8:30-7pm\, Sat 10am-6pm.\n\nThis Exhibit is in Honor of Traianos Gagos (1960-2010).
UID:3497-917773@events.umich.edu
URL:https://events.umich.edu/event/3497
CLASS:PUBLIC
STATUS:CONFIRMED
CATEGORIES:
LOCATION:Hatcher Graduate Library - Audubon Room
CONTACT:
END:VEVENT
BEGIN:VEVENT
DTSTAMP:20100826T223421
DTSTART;TZID=America/Detroit:20101116T090000
SUMMARY:Exhibition:The View From Below
DESCRIPTION:Curator: Sara Blair\, University of Michigan
UID:3384-917832@events.umich.edu
URL:https://events.umich.edu/event/3384
CLASS:PUBLIC
STATUS:CONFIRMED
CATEGORIES:visual arts
LOCATION:202 S. Thayer - Humanities Gallery
CONTACT:
END:VEVENT
BEGIN:VEVENT
DTSTAMP:20101111T175631
DTSTART;TZID=America/Detroit:20101116T100000
DTEND;TZID=America/Detroit:20101116T113000
SUMMARY:Other:Ask the IC: Q&A Open Forum (students)
DESCRIPTION:Are you looking for an answer to a question (either regulatory or non-regulatory) in relation to working with F-1/J-1 international students? Come to the Q&A Open Forum to learn with your colleagues and return to your department with an answer to those nagging questions. \n\nO&A Open Forum provides you with an opportunity to meet and network with colleagues working with international students. The format will be informal and interactive.  \n\nWorkshop registration: please register by Friday November 12th at http://uuis.umich.edu/workshop2/workshopdet.cfm?wid=573 \n\nPlease send us your specific question(s) for this workshop in advance via http://www.surveymonkey.com/s/BCFK3N9.
UID:4181-911549@events.umich.edu
URL:https://events.umich.edu/event/4181
CLASS:PUBLIC
STATUS:CONFIRMED
CATEGORIES:
LOCATION:School of Public Health Bldg I and Crossroads and Tower - 1655
CONTACT:
END:VEVENT
BEGIN:VEVENT
DTSTAMP:20100817T114436
DTSTART;TZID=America/Detroit:20101116T100000
SUMMARY:Exhibition:On Beauty and the Everyday: The Prints of James McNeill Whistler
DESCRIPTION:UMMA's rare and important collection of James McNeill Whistler works on paper represents  one of the finest holdings of Whistler's graphic output in North America. This major exhibition  features more than 100 works of art from UMMA's Whistler collection\, which covers the  artist's entire career in Europe\, ranging from his student days and exposure to the vanguard  artistic movements of the 19th century to the groundbreaking and atmospheric lithographs  and etchings of his mature style. It is the first exhibition devoted to Whistler's works at  UMMA since 1994.\n\nNearly all of the Whistler works came to the Museum through the bequest of Margaret  Watson Parker\, an early collector of both Whistler's prints as well as Japanese art. The  exhibition explores Whistler's illustrious life and career\; his artistic themes and concerns\,  including portraiture and his well-known series from England\, Italy\, and France\; the interests  and legacy of early-20th-century Whistler collector Margaret Watson Parker\; and the tools  and techniques that Whistler employed as a printmaker.
UID:3291-921212@events.umich.edu
URL:https://events.umich.edu/event/3291
CLASS:PUBLIC
STATUS:CONFIRMED
CATEGORIES:visual arts
LOCATION:Museum of Art
CONTACT:
END:VEVENT
BEGIN:VEVENT
DTSTAMP:20101111T175737
DTSTART;TZID=America/Detroit:20101116T100000
SUMMARY:Exhibition:Out of the Ordinary: Selections from the Bohlen Wood Art and Fusfeld Folk Art Collections
DESCRIPTION:This exhibition\, which runs from September 11 through Spring of 2011\, allows visitors to  explore two extraordinary collections of art–the Robert M. and Lillian Montalto Bohlen  Collection of Wood Art and the Daniel and Harriet Fusfeld Folk Art Collection. The Bohlen  collection presents an astonishing range of contemporary artworks fashioned from wood and  includes works that explores traditional and non-traditional vessel forms as well as works that  are more purely sculptural. The outstanding objects that make up the Fusfeld collection are both  geographically and historically wide-ranging\, including work by early nineteenth-century  itinerant folk portraitists as well as late twentieth-century sculpture and painting by “outsider”  artists from the American South\, Midwest\, and Northeast.
UID:3293-916140@events.umich.edu
URL:https://events.umich.edu/event/3293
CLASS:PUBLIC
STATUS:CONFIRMED
CATEGORIES:visual arts
LOCATION:Museum of Art
CONTACT:
END:VEVENT
BEGIN:VEVENT
DTSTAMP:20101111T175904
DTSTART;TZID=America/Detroit:20101116T100000
SUMMARY:Exhibition:UMMA Projects: Simon Dybbroe MÃ¸ller
DESCRIPTION:Things are not always as they seem in the work of Simon Dybbroe MÃ¸ller. Indeed\, the Danish artist's works can at times appear to have been teleported from a slightly askew\, alternate version of the past. Seemingly familiar forms often appear in unexpected configurations and objects we think we recognize turn out to be something else entirely. An abstract wall painting emerges from beneath a layer of peeling plaster. A group of minimalist sculptures turn out to be the pieces of an enlarged Soma cube. This uncertainty is central to the experience of Dybbroe MÃ¸ller's work\, where an initial misrecognition leads to a moment of aesthetic discovery.\n\nDybbroe MÃ¸ller's penchant for puzzles and paradoxes reflects his interest in modernism's theoretical aspirations as well as its practical failings. Similarly\, his frequent adoption of “outmoded” media both provides him with a diverse artistic palette and a means of questioning the past century's faith in progress through technology and the avant-garde promise of continual artistic development.\n\nFor Dybbroe MÃ¸ller's first solo exhibition in a North American museum\, UMMA will present a new body of work that continues his ongoing engagement with and critique of the modernist paradigm of transparency.
UID:4185-921758@events.umich.edu
URL:https://events.umich.edu/event/4185
CLASS:PUBLIC
STATUS:CONFIRMED
CATEGORIES:visual arts
LOCATION:Museum of Art - Projects Gallery
CONTACT:
END:VEVENT
BEGIN:VEVENT
DTSTAMP:20101116T230151
DTSTART;TZID=America/Detroit:20101116T120000
DTEND;TZID=America/Detroit:20101116T133000
SUMMARY:Lecture / Discussion:Brown Bag Lecture: Animals\, Mothers\, and Medieval France
DESCRIPTION:Peggy McCracken is professor of French and women's studies and associate dean for academic initiatives\, Rackham Graduate School. Her teaching and research interests are\, broadly defined\, in the intersections of medieval literature\, history\, and theory. Her research focuses on romance narratives as well as on medieval theatre\, poetry\, chansons de geste\, and medical and theological discourses. In earlier projects she has explored the intersections of medieval theories and practices of queenship with romances about adulterous queens\, and the ways in which gendered cultural values are mapped onto representations of blood. Current projects include a book on Marie de France\, co-authored with Sharon Kinoshita\, and a book on animality and embodiment. She is also co-editing\, with Karl Steel\, an issue of postmedieval devoted to the animal turn in medieval studies\, and with E. Jane Burns\, a collection of essays titled\, Stones\, Worms\, and Skin: Gender and Embodiment in Medieval Europe.
UID:4219-959558@events.umich.edu
URL:https://events.umich.edu/event/4219
CLASS:PUBLIC
STATUS:CONFIRMED
CATEGORIES:
LOCATION:202 S. Thayer - 2022
CONTACT:
END:VEVENT
BEGIN:VEVENT
DTSTAMP:20101025T092418
DTSTART;TZID=America/Detroit:20101116T180000
DTEND;TZID=America/Detroit:20101116T193000
SUMMARY:Workshop / Seminar:Roads Less Travelled: Graduate and Professional Programs for Science Concentrators
DESCRIPTION:Sure you can pursue the “ordinary” health careers after you graduate from UM–medicine\, dentistry\, pharmacy\, veterinary medicine\, etc.– but why be ordinary? There are many other exciting graduate school opportunities for science students. Find out about the graduate and professional programs from a panel of presenters from Kinesiology\, Public Health\, Program in Biomedical Sciences\, School of Natural Resources\, Public Policy\, and Forensic Science program at MSU. Panelists will discuss admissions requirements\, program highlights\, and career opportunities.\n\nPlease register at the website below in order to attend.
UID:4115-914606@events.umich.edu
URL:https://events.umich.edu/event/4115
CLASS:PUBLIC
STATUS:CONFIRMED
CATEGORIES:
LOCATION:Palmer Commons
CONTACT:
END:VEVENT
BEGIN:VEVENT
DTSTAMP:20101111T175656
DTSTART;TZID=America/Detroit:20101116T190000
DTEND;TZID=America/Detroit:20101116T210000
SUMMARY:Exhibition:Gleek Out @ Pierpont
DESCRIPTION:Join your fellow Michigan \"Gleeks\" at our weekly Glee watch party! Held every Tuesday\, from 7-9 pm in the Pierpont Commons TV lounge (near UGo's)\, this event will become a regular favorite for all the UM Glee fans out there.\n\nEach week we'll have a different competition to find Michigan's biggest Gleeks\, then watch the show together. (Because we get it. It's awesome.)\n\nHere's the schedule of Gleek Competitions:\n\n10/12-Best McKinley HS Cheer 10/26-Sue Sylvester Zing-Off 11/2-Dress as Your Fave Character Costume Contest 11/9-Name that Glee Tune 11/16-Slushie Eating Contest 11/30-Glee Karaoke Contest 12/7-Extreme Glee Trivia\n\nCome prepared to show your stuff\, and be crowned Michigan's Biggest Gleek!
UID:4007-913345@events.umich.edu
URL:https://events.umich.edu/event/4007
CLASS:PUBLIC
STATUS:CONFIRMED
CATEGORIES:visual arts
LOCATION:Pierpont Commons - TV Lounge (Near UGo&#039;s)
CONTACT:
END:VEVENT
BEGIN:VEVENT
DTSTAMP:20101111T175725
DTSTART;TZID=America/Detroit:20101116T190000
DTEND;TZID=America/Detroit:20101116T203000
SUMMARY:Lecture / Discussion:Omaha Beach to the River Elbe
DESCRIPTION:Closely following his deceased father's detailed\, typewritten journal from June 1944  to May 1945\, Joe DeMatio used a 2011 Cadillac CTS-V coupe to retrace his father's  WWII battalion's path through France\, Belgium\, Holland\, and Germany. He talked  to people who remember American GIs in their villages and fields. At one point\, the  Caddy was surrounded by people taking pictures of the only CTS coupe in Europe.  DeMatio\, Deputy Editor of Ann Arbor-based Automobile Magazine\, will recount his  story\, “My Father's Footsteps\,” that was published in the September 2010 issue of  Automobile Magazine. \n\nThis will be an informal talk with a slide show and Q&A. Sorry\, no test drives of the  CTS-V coupe....\n\nFree and open to the public.
UID:4136-915192@events.umich.edu
URL:https://events.umich.edu/event/4136
CLASS:PUBLIC
STATUS:CONFIRMED
CATEGORIES:
LOCATION:Hatcher Graduate Library - Gallery in Room 100
CONTACT:
END:VEVENT
BEGIN:VEVENT
DTSTAMP:20101118T230147
DTSTART;TZID=America/Detroit:20101116T190000
DTEND;TZID=America/Detroit:20101116T210000
SUMMARY:Performance:Ring of Steel Action Theatre
DESCRIPTION:Theatrical combat is a multidisciplinary art that combines acting with elements of  fencing\, martial arts\, dance\, and music to develop a safe and effective  performance. It is a distinct area of study\; essentially a marital art where the focus  is not to injure your partner. As with any martial art\, years of training are needed  before an individual is prepared to safely share their skills on the stage.\n\nThe Ring of Steel offers theatrical combat training in a wide range of weapons and  combat styles\, based in large part on Aikido and late period rapier.
UID:4252-973237@events.umich.edu
URL:https://events.umich.edu/event/4252
CLASS:PUBLIC
STATUS:CONFIRMED
CATEGORIES:music,literary arts,film,dance,architecture,theater,visual arts
LOCATION:
CONTACT:
END:VEVENT
BEGIN:VEVENT
DTSTAMP:20101012T110440
DTSTART;TZID=America/Detroit:20101116T193000
DTEND;TZID=America/Detroit:20101116T210000
SUMMARY:Presentation:Doing Science... Anytime\, Anyplace
DESCRIPTION:UM School of Education Associate Professor Christopher Quintana discusses the  Zydeco system which helps expand scientific inquiry beyond the  classroom and into museums\, nature parks\, etc. Such \"nomadic inquiry\" helps  students incorporate a broader range of information and explore scientific  questions. The system uses mobile devices and a web-based component to  coordinate data and observations as students gather museum information \"on-the- go.\"
UID:4042-919639@events.umich.edu
URL:https://events.umich.edu/event/4042
CLASS:PUBLIC
STATUS:CONFIRMED
CATEGORIES:
LOCATION:Museum of Art - Stern Auditorium
CONTACT:
END:VEVENT
BEGIN:VEVENT
DTSTAMP:20100902T201924
DTSTART;TZID=America/Detroit:20101116T200000
DTEND;TZID=America/Detroit:20101116T230000
SUMMARY:Exhibition:ArtsBreak
DESCRIPTION:Come explore your creative side and make free crafts at ArtsBreak! Held every Tuesday night\, these drop-in events give you the chance to relieve some stress by making a cool\, totally free craft project. Stop by anytime between 8-11 p.m.\n\nFor the most up-to-date list of projects\, check out our website at: http://www.umich.edu/~uuap.
UID:3466-918982@events.umich.edu
URL:https://events.umich.edu/event/3466
CLASS:PUBLIC
STATUS:CONFIRMED
CATEGORIES:visual arts
LOCATION:Michigan Union - MUG (Ground Floor)
CONTACT:
END:VEVENT
BEGIN:VEVENT
DTSTAMP:20101111T175612
DTSTART;TZID=America/Detroit:20101116T200000
SUMMARY:Film Screening:Film Series: International Development Issues–Four Countries
DESCRIPTION:Issues\, problems\, successes and failures of international development will be explored by viewing films about four countries followed by discussion. Taking Root: The Vision of Wangari Maathai is the inspiring story of the Green Belt Movement and its Nobel Laureate founder (Oct. 26). End of the Rainbow is about the impact of gold mining in Guinea (Nov. 2). Poto Mitan is the story of five Haitian women who struggle against huge obstacles to create change through collective action (Nov. 9). Once in Afghanistan  is a film about the work of female Peace Corps vaccinators and its impact on them and Afghans (Nov. 16). This program is co-sponsored by the Global Scholars Program\, LSA Theme Semester and the International Center.
UID:3564-910077@events.umich.edu
URL:https://events.umich.edu/event/3564
CLASS:PUBLIC
STATUS:CONFIRMED
CATEGORIES:
LOCATION:North Quad
CONTACT:
END:VEVENT
BEGIN:VEVENT
DTSTAMP:20101111T175613
DTSTART;TZID=America/Detroit:20101116T200000
SUMMARY:Performance:Melissa Manchester
DESCRIPTION:
UID:191-910119@events.umich.edu
URL:https://events.umich.edu/event/191
CLASS:PUBLIC
STATUS:CONFIRMED
CATEGORIES:music
LOCATION:
CONTACT:
END:VEVENT
END:VCALENDAR