BEGIN:VCALENDAR
VERSION:2.0
PRODID:-//UM//UM*Events//EN
CALSCALE:GREGORIAN
BEGIN:VTIMEZONE
TZID:America/Detroit
TZURL:http://tzurl.org/zoneinfo/America/Detroit
X-LIC-LOCATION:America/Detroit
BEGIN:DAYLIGHT
TZOFFSETFROM:-0500
TZOFFSETTO:-0400
TZNAME:EDT
DTSTART:20070311T020000
RRULE:FREQ=YEARLY;BYMONTH=3;BYDAY=2SU
END:DAYLIGHT
BEGIN:STANDARD
TZOFFSETFROM:-0400
TZOFFSETTO:-0500
TZNAME:EST
DTSTART:20071104T020000
RRULE:FREQ=YEARLY;BYMONTH=11;BYDAY=1SU
END:STANDARD
END:VTIMEZONE
BEGIN:VEVENT
DTSTAMP:20101111T175607
DTSTART;TZID=America/Detroit:20101117T000000
SUMMARY:Exhibition:U-M and the Peace Corps: It All Started Here
DESCRIPTION:This dynamic exhibit showcases the unique role of University of Michigan students and faculty in the creation and popularizing of the Peace Corps. As Sargent Shriver said\, \"It might still be just an idea but for”¦those Michigan students and faculty.\" The exhibit highlights the development of student activism as well as important historical events.\n\nNormal Library Hours: http://www.lib.umich.edu/hours/list.php?singlebuilding=4
UID:3498-909763@events.umich.edu
URL:https://events.umich.edu/event/3498
CLASS:PUBLIC
STATUS:CONFIRMED
CATEGORIES:
LOCATION:Hatcher Graduate Library - Library Gallery (Room 100)
CONTACT:
END:VEVENT
BEGIN:VEVENT
DTSTAMP:20100909T114609
DTSTART;TZID=America/Detroit:20101117T083000
DTEND;TZID=America/Detroit:20101117T190000
SUMMARY:Exhibition:From Trace to Text: Highlights from the U-M Papyrus Collection
DESCRIPTION:This exhibit provides a behind-the-scenes look at the work of papyrologists: how they conserve scraps of often badly damaged papyri\, decipher traces of ink\, read and translate the resulting text\, edit and interpret its contents\, and make this available to both scholars and the general public. Modern technology\, such as digitization and multi-spectral imaging\, is aiding papyrologists in all of these efforts.\n\nTexts on display are some of the highlights of the collection. They include a wonderful drawing of an elephant\, a letter from a newly enlisted soldier to his mother\, and\, of course\, some pages of the oldest manuscript with letters of St. Paul (one of the most famous texts of the collection).\n\nIn its 90-year history\, the University of Michigan Papyrus Collection has trained more students and scholars in the field of papyrology than any other institution in North America. Founded by the visionary Francis W. Kelsey\, the Papyrus Collection has been the training ground for papyrologists from around the world and home to many great resident scholars\, such as Herbert and Louise Youtie\, Ludwig Koenen\, and Traianos Gagos\, who died on April 26\, 2010.\n\nPapyrology is the field of scholarship that deciphers and studies the texts written –primarily on papyrus– by people living in the ancient Mediterranean world between 2\,500 BCE and 1\,000 CE. Most of these texts are found in Egypt where the climate is dry enough to preserve this fragile material. It is a highly specialized and technical field\, requiring intensive training in language (Egyptian\, ancient Greek\, Latin\, Arabic)\, history\, and the unique set of skills necessary for reading original documents.\n\nThe exhibit is open during Audubon Room hours: Sun 1-7pm\, Mon-Fri 8:30-7pm\, Sat 10am-6pm.\n\nThis Exhibit is in Honor of Traianos Gagos (1960-2010).
UID:3497-917774@events.umich.edu
URL:https://events.umich.edu/event/3497
CLASS:PUBLIC
STATUS:CONFIRMED
CATEGORIES:
LOCATION:Hatcher Graduate Library - Audubon Room
CONTACT:
END:VEVENT
BEGIN:VEVENT
DTSTAMP:20100826T223421
DTSTART;TZID=America/Detroit:20101117T090000
SUMMARY:Exhibition:The View From Below
DESCRIPTION:Curator: Sara Blair\, University of Michigan
UID:3384-917833@events.umich.edu
URL:https://events.umich.edu/event/3384
CLASS:PUBLIC
STATUS:CONFIRMED
CATEGORIES:visual arts
LOCATION:202 S. Thayer - Humanities Gallery
CONTACT:
END:VEVENT
BEGIN:VEVENT
DTSTAMP:20101028T130025
DTSTART;TZID=America/Detroit:20101117T100000
DTEND;TZID=America/Detroit:20101117T140000
SUMMARY:Other:Great American Smokeout (GASO) Prepare to Quit Events
DESCRIPTION:Are you ready to quit tobacco? Pick up a GASO Quit Kit\, Smoke-Free Campus  information\, apples and cider from 10 a.m. to 2 p.m. on November 17 at GASO  Prepare to Quit Events on all Ann Arbor campuses. Quit tobacco for a day\, or longer\,  during the American Cancer Society's 35th Great American Smokeout (GASO) the  next day and be ready when U-M goes smoke-free in July 2011. \n\nSmokers who turn in a pack of at least ten cigarettes will receive a free coupon for a free  sandwich.  GASO Quit Kits also can be picked up from participating U-M out-patient  clinics.  For more information\, visit: www.mhealthy.umich.edu/gaso.  To sign up for  a tobacco treatment program\, call 734-998-6222.
UID:4167-921097@events.umich.edu
URL:https://events.umich.edu/event/4167
CLASS:PUBLIC
STATUS:CONFIRMED
CATEGORIES:
LOCATION:Michigan Union - Ground Floor
CONTACT:
END:VEVENT
BEGIN:VEVENT
DTSTAMP:20100817T114436
DTSTART;TZID=America/Detroit:20101117T100000
SUMMARY:Exhibition:On Beauty and the Everyday: The Prints of James McNeill Whistler
DESCRIPTION:UMMA's rare and important collection of James McNeill Whistler works on paper represents  one of the finest holdings of Whistler's graphic output in North America. This major exhibition  features more than 100 works of art from UMMA's Whistler collection\, which covers the  artist's entire career in Europe\, ranging from his student days and exposure to the vanguard  artistic movements of the 19th century to the groundbreaking and atmospheric lithographs  and etchings of his mature style. It is the first exhibition devoted to Whistler's works at  UMMA since 1994.\n\nNearly all of the Whistler works came to the Museum through the bequest of Margaret  Watson Parker\, an early collector of both Whistler's prints as well as Japanese art. The  exhibition explores Whistler's illustrious life and career\; his artistic themes and concerns\,  including portraiture and his well-known series from England\, Italy\, and France\; the interests  and legacy of early-20th-century Whistler collector Margaret Watson Parker\; and the tools  and techniques that Whistler employed as a printmaker.
UID:3291-921213@events.umich.edu
URL:https://events.umich.edu/event/3291
CLASS:PUBLIC
STATUS:CONFIRMED
CATEGORIES:visual arts
LOCATION:Museum of Art
CONTACT:
END:VEVENT
BEGIN:VEVENT
DTSTAMP:20101111T175737
DTSTART;TZID=America/Detroit:20101117T100000
SUMMARY:Exhibition:Out of the Ordinary: Selections from the Bohlen Wood Art and Fusfeld Folk Art Collections
DESCRIPTION:This exhibition\, which runs from September 11 through Spring of 2011\, allows visitors to  explore two extraordinary collections of art–the Robert M. and Lillian Montalto Bohlen  Collection of Wood Art and the Daniel and Harriet Fusfeld Folk Art Collection. The Bohlen  collection presents an astonishing range of contemporary artworks fashioned from wood and  includes works that explores traditional and non-traditional vessel forms as well as works that  are more purely sculptural. The outstanding objects that make up the Fusfeld collection are both  geographically and historically wide-ranging\, including work by early nineteenth-century  itinerant folk portraitists as well as late twentieth-century sculpture and painting by “outsider”  artists from the American South\, Midwest\, and Northeast.
UID:3293-916141@events.umich.edu
URL:https://events.umich.edu/event/3293
CLASS:PUBLIC
STATUS:CONFIRMED
CATEGORIES:visual arts
LOCATION:Museum of Art
CONTACT:
END:VEVENT
BEGIN:VEVENT
DTSTAMP:20101118T230153
DTSTART;TZID=America/Detroit:20101117T100000
DTEND;TZID=America/Detroit:20101117T143000
SUMMARY:Other:TransTrivia!
DESCRIPTION:Learn about Transgender Health Disparities! Find out about the barriers to health faced by the transgender community and everything else you wanted to know about transgender identity but were afraid to ask. Prizes include gift cards to Starbucks! Sponsored by OUTbreak and Spectrum Center.
UID:4246-973437@events.umich.edu
URL:https://events.umich.edu/event/4246
CLASS:PUBLIC
STATUS:CONFIRMED
CATEGORIES:
LOCATION:School of Public Health Bldg I and Crossroads and Tower - Front Lobby
CONTACT:
END:VEVENT
BEGIN:VEVENT
DTSTAMP:20101111T175904
DTSTART;TZID=America/Detroit:20101117T100000
SUMMARY:Exhibition:UMMA Projects: Simon Dybbroe MÃ¸ller
DESCRIPTION:Things are not always as they seem in the work of Simon Dybbroe MÃ¸ller. Indeed\, the Danish artist's works can at times appear to have been teleported from a slightly askew\, alternate version of the past. Seemingly familiar forms often appear in unexpected configurations and objects we think we recognize turn out to be something else entirely. An abstract wall painting emerges from beneath a layer of peeling plaster. A group of minimalist sculptures turn out to be the pieces of an enlarged Soma cube. This uncertainty is central to the experience of Dybbroe MÃ¸ller's work\, where an initial misrecognition leads to a moment of aesthetic discovery.\n\nDybbroe MÃ¸ller's penchant for puzzles and paradoxes reflects his interest in modernism's theoretical aspirations as well as its practical failings. Similarly\, his frequent adoption of “outmoded” media both provides him with a diverse artistic palette and a means of questioning the past century's faith in progress through technology and the avant-garde promise of continual artistic development.\n\nFor Dybbroe MÃ¸ller's first solo exhibition in a North American museum\, UMMA will present a new body of work that continues his ongoing engagement with and critique of the modernist paradigm of transparency.
UID:4185-921759@events.umich.edu
URL:https://events.umich.edu/event/4185
CLASS:PUBLIC
STATUS:CONFIRMED
CATEGORIES:visual arts
LOCATION:Museum of Art - Projects Gallery
CONTACT:
END:VEVENT
BEGIN:VEVENT
DTSTAMP:20101115T150847
DTSTART;TZID=America/Detroit:20101117T160000
DTEND;TZID=America/Detroit:20101117T170000
SUMMARY:Presentation:The Clash of Science and Politics in Water Policy
DESCRIPTION:In June 2010\, President Barack Obama appointed the Honorable Lana Pollack to be  co-chair of the International Joint Commission\, a U. S. and Canadian institution  established by the Boundary Waters Treaty of 1909.  Ms. Pollack is responsible for  ensuring that any conflict over shared waters be dealt with in a cooperative manner.\n\nShe will speak to the U of M community about the often contentious clash between  science and politics in managing shared waters.\n\nReception to follow. This event is free and open to public.
UID:4267-995699@events.umich.edu
URL:https://events.umich.edu/event/4267
CLASS:PUBLIC
STATUS:CONFIRMED
CATEGORIES:
LOCATION:Dana Natural Resources  Building - Ford Commons
CONTACT:
END:VEVENT
BEGIN:VEVENT
DTSTAMP:20101111T175815
DTSTART;TZID=America/Detroit:20101117T173000
DTEND;TZID=America/Detroit:20101117T190000
SUMMARY:Lecture / Discussion:Dakota: Or\, What's a Heaven For?
DESCRIPTION:This evening's conversation explores writing\, inspiration\, history\, and author Brenda Marshall's \"sprawling tale of desire\, ambition\, and transformation.\"
UID:4113-918953@events.umich.edu
URL:https://events.umich.edu/event/4113
CLASS:PUBLIC
STATUS:CONFIRMED
CATEGORIES:
LOCATION:Hatcher Graduate Library - Library Gallery, room 100
CONTACT:
END:VEVENT
BEGIN:VEVENT
DTSTAMP:20101123T230151
DTSTART;TZID=America/Detroit:20101117T190000
SUMMARY:Rally / Mass Meeting:Orientation Leader Mass Meeting
DESCRIPTION:The Office of New Student Programs is seeking orientation leaders to assist with 2011 summer parent and student orientation programs.\n\nBeing an Orientation Leader is more than giving campus tours and assisting with registration - it is an honor and a great way to add a new dimension to your experiences at U of M! Leaders gain knowledge and abilities that can help earn a great job or admission to graduate programs\, such as teamwork and communication skills. Come to a mass meeting to learn more about the position.
UID:4268-1000953@events.umich.edu
URL:https://events.umich.edu/event/4268
CLASS:PUBLIC
STATUS:CONFIRMED
CATEGORIES:
LOCATION:Michigan League - Kalamazoo Room
CONTACT:
END:VEVENT
BEGIN:VEVENT
DTSTAMP:20101111T175619
DTSTART;TZID=America/Detroit:20101117T200000
SUMMARY:Performance:Danielle Ate The Sandwich
DESCRIPTION:
UID:4035-910520@events.umich.edu
URL:https://events.umich.edu/event/4035
CLASS:PUBLIC
STATUS:CONFIRMED
CATEGORIES:music
LOCATION:
CONTACT:
END:VEVENT
BEGIN:VEVENT
DTSTAMP:20101111T175718
DTSTART;TZID=America/Detroit:20101117T200000
SUMMARY:Performance:Robert Hurst
DESCRIPTION:Robert L. Hurst III\, is a composer\, bassist\, educator\, and recording artist. His Grammy Award winning recordings feature such greats as Charles Lloyd\, Wynton Marsalis\, Branford Marsalis\, Dave Brubeck\, Harry Connick Jr\, Terrence Blanchard\, Tony Williams\, Nicholas Payton\, Sting\, Carl Allen\, the legendary Pharaoh Sanders\, Chris Botti and Diana Krall. Hurst has won four Emmy Awards\, five Grammy Awards\, performed on several RIAA- Gold recordings\, and has received Top Ten and Five Star recognition around the globe. Robert has also enjoyed directing\, arranging\, and composing for The Tonight Show with Jay Leno on NBC for nearly a decade.
UID:4093-914818@events.umich.edu
URL:https://events.umich.edu/event/4093
CLASS:PUBLIC
STATUS:CONFIRMED
CATEGORIES:music
LOCATION:Museum of Art - Forum
CONTACT:
END:VEVENT
END:VCALENDAR