BEGIN:VCALENDAR
VERSION:2.0
PRODID:-//UM//UM*Events//EN
CALSCALE:GREGORIAN
BEGIN:VTIMEZONE
TZID:America/Detroit
TZURL:http://tzurl.org/zoneinfo/America/Detroit
X-LIC-LOCATION:America/Detroit
BEGIN:DAYLIGHT
TZOFFSETFROM:-0500
TZOFFSETTO:-0400
TZNAME:EDT
DTSTART:20070311T020000
RRULE:FREQ=YEARLY;BYMONTH=3;BYDAY=2SU
END:DAYLIGHT
BEGIN:STANDARD
TZOFFSETFROM:-0400
TZOFFSETTO:-0500
TZNAME:EST
DTSTART:20071104T020000
RRULE:FREQ=YEARLY;BYMONTH=11;BYDAY=1SU
END:STANDARD
END:VTIMEZONE
BEGIN:VEVENT
DTSTAMP:20101111T175607
DTSTART;TZID=America/Detroit:20101118T000000
SUMMARY:Exhibition:U-M and the Peace Corps: It All Started Here
DESCRIPTION:This dynamic exhibit showcases the unique role of University of Michigan students and faculty in the creation and popularizing of the Peace Corps. As Sargent Shriver said\, \"It might still be just an idea but for”¦those Michigan students and faculty.\" The exhibit highlights the development of student activism as well as important historical events.\n\nNormal Library Hours: http://www.lib.umich.edu/hours/list.php?singlebuilding=4
UID:3498-909764@events.umich.edu
URL:https://events.umich.edu/event/3498
CLASS:PUBLIC
STATUS:CONFIRMED
CATEGORIES:
LOCATION:Hatcher Graduate Library - Library Gallery (Room 100)
CONTACT:
END:VEVENT
BEGIN:VEVENT
DTSTAMP:20100909T114609
DTSTART;TZID=America/Detroit:20101118T083000
DTEND;TZID=America/Detroit:20101118T190000
SUMMARY:Exhibition:From Trace to Text: Highlights from the U-M Papyrus Collection
DESCRIPTION:This exhibit provides a behind-the-scenes look at the work of papyrologists: how they conserve scraps of often badly damaged papyri\, decipher traces of ink\, read and translate the resulting text\, edit and interpret its contents\, and make this available to both scholars and the general public. Modern technology\, such as digitization and multi-spectral imaging\, is aiding papyrologists in all of these efforts.\n\nTexts on display are some of the highlights of the collection. They include a wonderful drawing of an elephant\, a letter from a newly enlisted soldier to his mother\, and\, of course\, some pages of the oldest manuscript with letters of St. Paul (one of the most famous texts of the collection).\n\nIn its 90-year history\, the University of Michigan Papyrus Collection has trained more students and scholars in the field of papyrology than any other institution in North America. Founded by the visionary Francis W. Kelsey\, the Papyrus Collection has been the training ground for papyrologists from around the world and home to many great resident scholars\, such as Herbert and Louise Youtie\, Ludwig Koenen\, and Traianos Gagos\, who died on April 26\, 2010.\n\nPapyrology is the field of scholarship that deciphers and studies the texts written –primarily on papyrus– by people living in the ancient Mediterranean world between 2\,500 BCE and 1\,000 CE. Most of these texts are found in Egypt where the climate is dry enough to preserve this fragile material. It is a highly specialized and technical field\, requiring intensive training in language (Egyptian\, ancient Greek\, Latin\, Arabic)\, history\, and the unique set of skills necessary for reading original documents.\n\nThe exhibit is open during Audubon Room hours: Sun 1-7pm\, Mon-Fri 8:30-7pm\, Sat 10am-6pm.\n\nThis Exhibit is in Honor of Traianos Gagos (1960-2010).
UID:3497-917775@events.umich.edu
URL:https://events.umich.edu/event/3497
CLASS:PUBLIC
STATUS:CONFIRMED
CATEGORIES:
LOCATION:Hatcher Graduate Library - Audubon Room
CONTACT:
END:VEVENT
BEGIN:VEVENT
DTSTAMP:20100826T223421
DTSTART;TZID=America/Detroit:20101118T090000
SUMMARY:Exhibition:The View From Below
DESCRIPTION:Curator: Sara Blair\, University of Michigan
UID:3384-917834@events.umich.edu
URL:https://events.umich.edu/event/3384
CLASS:PUBLIC
STATUS:CONFIRMED
CATEGORIES:visual arts
LOCATION:202 S. Thayer - Humanities Gallery
CONTACT:
END:VEVENT
BEGIN:VEVENT
DTSTAMP:20100817T114436
DTSTART;TZID=America/Detroit:20101118T100000
SUMMARY:Exhibition:On Beauty and the Everyday: The Prints of James McNeill Whistler
DESCRIPTION:UMMA's rare and important collection of James McNeill Whistler works on paper represents  one of the finest holdings of Whistler's graphic output in North America. This major exhibition  features more than 100 works of art from UMMA's Whistler collection\, which covers the  artist's entire career in Europe\, ranging from his student days and exposure to the vanguard  artistic movements of the 19th century to the groundbreaking and atmospheric lithographs  and etchings of his mature style. It is the first exhibition devoted to Whistler's works at  UMMA since 1994.\n\nNearly all of the Whistler works came to the Museum through the bequest of Margaret  Watson Parker\, an early collector of both Whistler's prints as well as Japanese art. The  exhibition explores Whistler's illustrious life and career\; his artistic themes and concerns\,  including portraiture and his well-known series from England\, Italy\, and France\; the interests  and legacy of early-20th-century Whistler collector Margaret Watson Parker\; and the tools  and techniques that Whistler employed as a printmaker.
UID:3291-921214@events.umich.edu
URL:https://events.umich.edu/event/3291
CLASS:PUBLIC
STATUS:CONFIRMED
CATEGORIES:visual arts
LOCATION:Museum of Art
CONTACT:
END:VEVENT
BEGIN:VEVENT
DTSTAMP:20101111T175737
DTSTART;TZID=America/Detroit:20101118T100000
SUMMARY:Exhibition:Out of the Ordinary: Selections from the Bohlen Wood Art and Fusfeld Folk Art Collections
DESCRIPTION:This exhibition\, which runs from September 11 through Spring of 2011\, allows visitors to  explore two extraordinary collections of art–the Robert M. and Lillian Montalto Bohlen  Collection of Wood Art and the Daniel and Harriet Fusfeld Folk Art Collection. The Bohlen  collection presents an astonishing range of contemporary artworks fashioned from wood and  includes works that explores traditional and non-traditional vessel forms as well as works that  are more purely sculptural. The outstanding objects that make up the Fusfeld collection are both  geographically and historically wide-ranging\, including work by early nineteenth-century  itinerant folk portraitists as well as late twentieth-century sculpture and painting by “outsider”  artists from the American South\, Midwest\, and Northeast.
UID:3293-916142@events.umich.edu
URL:https://events.umich.edu/event/3293
CLASS:PUBLIC
STATUS:CONFIRMED
CATEGORIES:visual arts
LOCATION:Museum of Art
CONTACT:
END:VEVENT
BEGIN:VEVENT
DTSTAMP:20101111T175904
DTSTART;TZID=America/Detroit:20101118T100000
SUMMARY:Exhibition:UMMA Projects: Simon Dybbroe MÃ¸ller
DESCRIPTION:Things are not always as they seem in the work of Simon Dybbroe MÃ¸ller. Indeed\, the Danish artist's works can at times appear to have been teleported from a slightly askew\, alternate version of the past. Seemingly familiar forms often appear in unexpected configurations and objects we think we recognize turn out to be something else entirely. An abstract wall painting emerges from beneath a layer of peeling plaster. A group of minimalist sculptures turn out to be the pieces of an enlarged Soma cube. This uncertainty is central to the experience of Dybbroe MÃ¸ller's work\, where an initial misrecognition leads to a moment of aesthetic discovery.\n\nDybbroe MÃ¸ller's penchant for puzzles and paradoxes reflects his interest in modernism's theoretical aspirations as well as its practical failings. Similarly\, his frequent adoption of “outmoded” media both provides him with a diverse artistic palette and a means of questioning the past century's faith in progress through technology and the avant-garde promise of continual artistic development.\n\nFor Dybbroe MÃ¸ller's first solo exhibition in a North American museum\, UMMA will present a new body of work that continues his ongoing engagement with and critique of the modernist paradigm of transparency.
UID:4185-921760@events.umich.edu
URL:https://events.umich.edu/event/4185
CLASS:PUBLIC
STATUS:CONFIRMED
CATEGORIES:visual arts
LOCATION:Museum of Art - Projects Gallery
CONTACT:
END:VEVENT
BEGIN:VEVENT
DTSTAMP:20101111T175757
DTSTART;TZID=America/Detroit:20101118T120000
DTEND;TZID=America/Detroit:20101118T130000
SUMMARY:Lecture / Discussion:CJS Fall 2010 Noon Lecture Series
DESCRIPTION:Sadashi Inuzuka\, Professor\, Art\, The University of Michigan
UID:3687-917440@events.umich.edu
URL:https://events.umich.edu/event/3687
CLASS:PUBLIC
STATUS:CONFIRMED
CATEGORIES:visual arts
LOCATION:School of Social Work Building - 1636
CONTACT:
END:VEVENT
BEGIN:VEVENT
DTSTAMP:20100827T222518
DTSTART;TZID=America/Detroit:20101118T120000
DTEND;TZID=America/Detroit:20101118T130000
SUMMARY:Lecture / Discussion:Dos Pintele Yod
DESCRIPTION:Lecturer: Elliot Ginsburg\, University of Michigan
UID:3405-911859@events.umich.edu
URL:https://events.umich.edu/event/3405
CLASS:PUBLIC
STATUS:CONFIRMED
CATEGORIES:
LOCATION:Alumni Center - A &amp; B
CONTACT:
END:VEVENT
BEGIN:VEVENT
DTSTAMP:20101115T230156
DTSTART;TZID=America/Detroit:20101118T163000
DTEND;TZID=America/Detroit:20101118T180000
SUMMARY:Lecture / Discussion:For-Profit Colleges:  Education or Exploitation?
DESCRIPTION:Panelists: Thomas H. Howlett\, Attorney\, The Googasian Firm\, P.C. Andy Jacob\, Board Member\, New Horizons Worldwide\, Inc. Christopher Mullin\, Program Director\, Policy Analysis at the American Association of  Community Colleges (AACC) Richard Vedder\, Distinguished Professor of Economics\, Ohio University in Athens\n\nModerator: Susan Dynarski\, Associate Professor of Public Policy and Education\, University of Michigan\n\nSponsored by the Education Policy Initiative (EPI) at the Center for Local\, State\, and  Urban Policy (CLOSUP).    EPI is a program of coordinated activities designed to bring the latest academic  knowledge to issues of education policy.\n\nFor more information visit www.closup.umich.edu or call (734) 647-4091\n\n ABSTRACT For-profit colleges are under fire. Critics point to students' low earnings and high debt  loads as evidence that these schools do not provide a quality education.  Defenders of  the sector note that the schools serve a population of low-skilled\, low-income students  that traditional colleges ignore. Congress is now considering legislation that   would bar  from the federal aid programs any schools whose graduates' earnings fall below a  minimum threshold. This panel promises to be a lively discussion of an important topic in  public policy.
UID:4210-952424@events.umich.edu
URL:https://events.umich.edu/event/4210
CLASS:PUBLIC
STATUS:CONFIRMED
CATEGORIES:
LOCATION:Weill Hall (Ford School) - Annenberg Auditorium 1120
CONTACT:
END:VEVENT
BEGIN:VEVENT
DTSTAMP:20101111T175723
DTSTART;TZID=America/Detroit:20101118T170000
DTEND;TZID=America/Detroit:20101118T183000
SUMMARY:Lecture / Discussion:Penny Stamps Presents: Wangechi Mutu
DESCRIPTION:Wangechi Mutu\, a Kenyan-born artist based in New York\, makes luscious yet unsettling pictures of female figures. Her painted and collaged works on Mylar function as potent social critique while simultaneously exploring more poetic strains of mythology and allegory as well as the sensuousness of form\, color\, and pattern. Particularly interested in myths about gender and ethnicity that have long circulated in Africa and the West\, Mutu has adopted the medium of collage – which by its nature evokes rupture and collision – to depict the monstrous\, the exotic\, and the feminine.
UID:1447-915155@events.umich.edu
URL:https://events.umich.edu/event/1447
CLASS:PUBLIC
STATUS:CONFIRMED
CATEGORIES:multicultural,visual arts
LOCATION:
CONTACT:
END:VEVENT
BEGIN:VEVENT
DTSTAMP:20101111T175713
DTSTART;TZID=America/Detroit:20101118T170000
SUMMARY:Film Screening:School of Social Work screening of Transgeneration
DESCRIPTION:The TGBL Dean's Initiative of the School of Social Work invites you to a documentary screening of Transgeneration as part of campus wide Transgender Awareness Week activities. Transgeneration is an eight part documentary series illuminating both the hopes and struggles of four transgender college students who are transitioning. November 18\, 2010 at 5:00 PM at School of Social Work Room 2752. Movie snacks will be provided.
UID:4177-914562@events.umich.edu
URL:https://events.umich.edu/event/4177
CLASS:PUBLIC
STATUS:CONFIRMED
CATEGORIES:multicultural,respect,social justice
LOCATION:School of Social Work Building - 2752
CONTACT:
END:VEVENT
BEGIN:VEVENT
DTSTAMP:20100818T100344
DTSTART;TZID=America/Detroit:20101118T171500
DTEND;TZID=America/Detroit:20101118T180000
SUMMARY:Presentation:Zell Visiting Writers Series: ZZ Packer
DESCRIPTION:ZZ Packer is the author of the short story collection\, Drinking Coffee Elsewhere\, a  PEN/Faulkner finalist and a New York Times Notable Book. Her stories have  appeared in The New Yorker\, Harper's\, Story\, Ploughshares\, Zoetrope and The Best  American Short Stories 2000 and 2004\, and have been read on NPR's Selected  Shorts. She is the recipient of a Guggenheim Fellowship and was recently named  one of  America's Young Innovators by Smithsonian Magazine\, as well as one of  America's Best Young Novelists by Granta.
UID:486-910914@events.umich.edu
URL:https://events.umich.edu/event/486
CLASS:PUBLIC
STATUS:CONFIRMED
CATEGORIES:literary arts
LOCATION:Museum of Art - Helmut Stern Auditorium
CONTACT:
END:VEVENT
BEGIN:VEVENT
DTSTAMP:20101118T230150
DTSTART;TZID=America/Detroit:20101118T173000
DTEND;TZID=America/Detroit:20101118T200000
SUMMARY:Film Screening:Film screening of Southern Comfort
DESCRIPTION:A winner at Sundance Film Festival for Grand Jury Prize (Documentary)\, Southern Comfort chronicles the final year in the life of Robert Eads\, a transman with ovarian cancer living in rural Georgia. His story is one of love and resilience in the face of discrimination. The film follows his personal struggle as he is refused treatment and highlights his colorful life in the transgender community. Documentary is 90 min. with free dinner and post-viewing discussion. Sponsored by OUTbreak and Spectrum Center.  Dinner is provided.
UID:4247-973359@events.umich.edu
URL:https://events.umich.edu/event/4247
CLASS:PUBLIC
STATUS:CONFIRMED
CATEGORIES:
LOCATION:School of Public Health Bldg I and Crossroads and Tower - 1655
CONTACT:
END:VEVENT
BEGIN:VEVENT
DTSTAMP:20100908T112436
DTSTART;TZID=America/Detroit:20101118T180000
DTEND;TZID=America/Detroit:20101118T193000
SUMMARY:Meeting:LGBT Student Organization Roundtable
DESCRIPTION:LGBT Student Organization Roundtable was kicked off last fall in order to bring  cohesiveness to the more than 20 LGBTQ-related undergraduate and graduate  student organizations planning programs across campus throughout the year. This  group is facilitated by a Spectrum Center staff member and meets on the third  Thursday of each month in the Spectrum Center.  If your student organization is interested in networking\, collaborating\, and being a  part of a wider movement of LGBTQ student organizations\, please email Ariana  Bostian-Kentes at abostian@umich.edu to be added to the listserv.
UID:3488-916536@events.umich.edu
URL:https://events.umich.edu/event/3488
CLASS:PUBLIC
STATUS:CONFIRMED
CATEGORIES:
LOCATION:Michigan Union - 3200
CONTACT:
END:VEVENT
BEGIN:VEVENT
DTSTAMP:20100730T124119
DTSTART;TZID=America/Detroit:20101118T183000
DTEND;TZID=America/Detroit:20101118T210000
SUMMARY:Workshop / Seminar:Making Munchies: Backcountry Baking Clinic
DESCRIPTION:You never knew backcountry food could taste so good! Come prepared to whip up some delicious treats with the help of yeast and some proven wilderness baking secrets. This  clinic seeks to demonstrate that you can in fact eat well in the backcountry\, and will  help expand your backcountry menu options through satisfying hands–on experience.
UID:3080-919641@events.umich.edu
URL:https://events.umich.edu/event/3080
CLASS:PUBLIC
STATUS:CONFIRMED
CATEGORIES:
LOCATION:Elbel Field Locker Building - Outdoor Adventures Rental Center
CONTACT:
END:VEVENT
BEGIN:VEVENT
DTSTAMP:20101110T205615
DTSTART;TZID=America/Detroit:20101118T190000
DTEND;TZID=America/Detroit:20101118T210000
SUMMARY:Other:Eat to Educate
DESCRIPTION:Venue: First floor Psychology/North Atrium\; 530 Church Street\, Ann Arbor\, MI  48109 Date: November 18th\, 2010 Time: 7:00-9:00 PM. Price : $10 (early\, for first 200 registrants or till Nov 14\, 9PM EST) after that and on  day of the event $12   You will get 2 dinner boxes from each restaurant with choices of both vegetarian and  non-vegetarian dishes along with desserts.   Please register online at http://www.ashanet.org/annarbor   Contributions through your participation in this event go to support our projects and  help underprivileged children in India. For further questions or interest in joining the  Ann Arbor chapter please email annarbor@ashanet.org.   We look forward to seeing you at the event. Please pass on the message to your  friends and family.   Regards\, Asha-Ann Arbor Chapter
UID:4240-966406@events.umich.edu
URL:https://events.umich.edu/event/4240
CLASS:PUBLIC
STATUS:CONFIRMED
CATEGORIES:
LOCATION:East Hall - First floor Psychology/North Atrium
CONTACT:
END:VEVENT
BEGIN:VEVENT
DTSTAMP:20101111T175623
DTSTART;TZID=America/Detroit:20101118T190000
SUMMARY:Lecture / Discussion:Quick Study: Food Allergies
DESCRIPTION:Food allergies affect approximately 12 million Americans including approximately 5  percent of children and 3-4 percent of adults. Eight foods (milk\, egg\, wheat\, soy\,  peanut\, tree nut\, fish and shellfish) comprise 90 percent of food allergies. During  this evening we will discuss basic information about food allergies\, possible reasons  for the increase in food allergies\, methods for evaluation and the importance of  education to empower patients and families to cope with the impact of food  allergies on daily life. This event will be held at the Kellogg Eye Center Auditorium  in Ann Arbor. Register at http://alumni.umich.edu/get-informed/lifelong- learning/quick-study-lectures.
UID:4155-911036@events.umich.edu
URL:https://events.umich.edu/event/4155
CLASS:PUBLIC
STATUS:CONFIRMED
CATEGORIES:
LOCATION:Kellogg Eye Center - Auditorium
CONTACT:
END:VEVENT
BEGIN:VEVENT
DTSTAMP:20101118T230147
DTSTART;TZID=America/Detroit:20101118T190000
DTEND;TZID=America/Detroit:20101118T210000
SUMMARY:Performance:Ring of Steel Action Theatre
DESCRIPTION:Theatrical combat is a multidisciplinary art that combines acting with elements of  fencing\, martial arts\, dance\, and music to develop a safe and effective  performance. It is a distinct area of study\; essentially a marital art where the focus  is not to injure your partner. As with any martial art\, years of training are needed  before an individual is prepared to safely share their skills on the stage.\n\nThe Ring of Steel offers theatrical combat training in a wide range of weapons and  combat styles\, based in large part on Aikido and late period rapier.
UID:4252-973238@events.umich.edu
URL:https://events.umich.edu/event/4252
CLASS:PUBLIC
STATUS:CONFIRMED
CATEGORIES:architecture,dance,film,literary arts,music,theater,visual arts
LOCATION:
CONTACT:
END:VEVENT
BEGIN:VEVENT
DTSTAMP:20101111T175839
DTSTART;TZID=America/Detroit:20101118T190000
SUMMARY:Performance:The Sound of Music
DESCRIPTION:The Sound of Music Theater Production by Young People's Theater.  Features 80 Young People from South East Michigan between the ages of 5 and 18 years old.
UID:4080-920271@events.umich.edu
URL:https://events.umich.edu/event/4080
CLASS:PUBLIC
STATUS:CONFIRMED
CATEGORIES:theater,music
LOCATION:Lydia Mendelssohn Theatre
CONTACT:
END:VEVENT
BEGIN:VEVENT
DTSTAMP:20101111T175724
DTSTART;TZID=America/Detroit:20101118T193000
SUMMARY:Film Screening:Dead Man Walking
DESCRIPTION:Superbly adapted and directed by Tim Robbins from the nonfiction book of the same name by Sister Helen Prejean\, this spiritually enlightened drama is too intelligent to traffic in polemics or self-righteous pontifications against the death penalty. But in examining the issue of capital punishment from a humanitarian perspective\, the film urges thoughtful reflection on the justifications for legally ending a human life. Although it features a fine supporting cast\, the film maintains its sharp focus through flawless lead performances by Oscar-winner Susan Sarandon as the Catholic nun Prejean\, and Sean Penn as the death-row killer she struggles to save. The real-life Sister Helen Prejean will be speaking on campus about her life and work on Thursday\, December 2 at 7 pm in the Blau Auditorium\, Ross School of Business.
UID:4094-915162@events.umich.edu
URL:https://events.umich.edu/event/4094
CLASS:PUBLIC
STATUS:CONFIRMED
CATEGORIES:film,social justice
LOCATION:Museum of Art - Helmut Stern Auditorium
CONTACT:
END:VEVENT
BEGIN:VEVENT
DTSTAMP:20101111T230157
DTSTART;TZID=America/Detroit:20101118T200000
DTEND;TZID=America/Detroit:20101118T213000
SUMMARY:Lecture / Discussion:CFS Lecture:  The Wound of Beauty
DESCRIPTION:Greg Wolfe\, editor of the arts journal Image and director of the creative writing program  at Seattle Pacific University\, will speak on \"The Wound of Beauty.\"  Wolfe has been a  pioneer in the resurgence of interest in the relationship between art and religion–a  resurgence that has had widespread impact both on religious communities and the  public square. As an advocate for and exemplar of the tradition of Christian Humanism\,  Wolfe has established a reputation as an independent\, non-ideological thinker.
UID:4191-923712@events.umich.edu
URL:https://events.umich.edu/event/4191
CLASS:PUBLIC
STATUS:CONFIRMED
CATEGORIES:literary arts
LOCATION:Rackham Graduate School (Horace H.) - Amphitheater
CONTACT:
END:VEVENT
BEGIN:VEVENT
DTSTAMP:20101111T175741
DTSTART;TZID=America/Detroit:20101118T200000
SUMMARY:Performance:Graham Colton
DESCRIPTION:Graham Colton calls himself a \"songwriter-singer\,\" and he merges grassroots inspiration with pop-rock accessibility. In the words of Fuzz\, Graham \"has the writing talents of Chris Carrabba and the musical abilities of Rob Thomas\, but he melds the two in a style that differs greatly from Dashboard melodrama and Matchbox Twenty pop-sadness.\" His CD \"Here Right Now\" is a stunning collection of pop-rock melodies\, lyrics\, and emotions in 12 tracks that move easily among love\, heartbreak\, trials\, and sweet relief. And with three EPs to his credit within the last year he'll have lots of new tunes on hand. An Oklahoma City native\, Graham broke through with his song \"Best Days\,\" an iTunes single of the week that was featured on American Idol. He has toured with Sheryl Crow\, John Mayer\, Kelly Clarkson\, Maroon 5\, the Dave Matthews Band\, and Counting Crows.
UID:3751-916467@events.umich.edu
URL:https://events.umich.edu/event/3751
CLASS:PUBLIC
STATUS:CONFIRMED
CATEGORIES:music
LOCATION:
CONTACT:
END:VEVENT
BEGIN:VEVENT
DTSTAMP:20101111T175633
DTSTART;TZID=America/Detroit:20101118T203000
DTEND;TZID=America/Detroit:20101118T230000
SUMMARY:Performance:Poetry Slam
DESCRIPTION:Doors open at 8:30\, and the event starts PROMPTLY at 9pm.\n\nCost is $5 per person.\n\nThere is an OPEN MIC session from 9-9:30pm where poets showcase their skills  without being judged.\n\nThe SLAM is a competition wherein 7 poets have 3 minutes to give the crowd their  best work. The winner of the slam will be photographed\, automatically entered into  the GRAND SLAM\, and will receive a special prize!\n\nFrom 10:15-11pm\, there will be a featured poet!\n\nCome...Listen...Perform...ENJOY!!!
UID:3696-911693@events.umich.edu
URL:https://events.umich.edu/event/3696
CLASS:PUBLIC
STATUS:CONFIRMED
CATEGORIES:literary arts
LOCATION:Michigan Union - The University Club (U-Club)
CONTACT:
END:VEVENT
END:VCALENDAR