BEGIN:VCALENDAR
VERSION:2.0
PRODID:-//UM//UM*Events//EN
CALSCALE:GREGORIAN
BEGIN:VTIMEZONE
TZID:America/Detroit
TZURL:http://tzurl.org/zoneinfo/America/Detroit
X-LIC-LOCATION:America/Detroit
BEGIN:DAYLIGHT
TZOFFSETFROM:-0500
TZOFFSETTO:-0400
TZNAME:EDT
DTSTART:20070311T020000
RRULE:FREQ=YEARLY;BYMONTH=3;BYDAY=2SU
END:DAYLIGHT
BEGIN:STANDARD
TZOFFSETFROM:-0400
TZOFFSETTO:-0500
TZNAME:EST
DTSTART:20071104T020000
RRULE:FREQ=YEARLY;BYMONTH=11;BYDAY=1SU
END:STANDARD
END:VTIMEZONE
BEGIN:VEVENT
DTSTAMP:20101111T175607
DTSTART;TZID=America/Detroit:20101119T000000
SUMMARY:Exhibition:U-M and the Peace Corps: It All Started Here
DESCRIPTION:This dynamic exhibit showcases the unique role of University of Michigan students and faculty in the creation and popularizing of the Peace Corps. As Sargent Shriver said\, \"It might still be just an idea but for”¦those Michigan students and faculty.\" The exhibit highlights the development of student activism as well as important historical events.\n\nNormal Library Hours: http://www.lib.umich.edu/hours/list.php?singlebuilding=4
UID:3498-909765@events.umich.edu
URL:https://events.umich.edu/event/3498
CLASS:PUBLIC
STATUS:CONFIRMED
CATEGORIES:
LOCATION:Hatcher Graduate Library - Library Gallery (Room 100)
CONTACT:
END:VEVENT
BEGIN:VEVENT
DTSTAMP:20100909T114609
DTSTART;TZID=America/Detroit:20101119T083000
DTEND;TZID=America/Detroit:20101119T190000
SUMMARY:Exhibition:From Trace to Text: Highlights from the U-M Papyrus Collection
DESCRIPTION:This exhibit provides a behind-the-scenes look at the work of papyrologists: how they conserve scraps of often badly damaged papyri\, decipher traces of ink\, read and translate the resulting text\, edit and interpret its contents\, and make this available to both scholars and the general public. Modern technology\, such as digitization and multi-spectral imaging\, is aiding papyrologists in all of these efforts.\n\nTexts on display are some of the highlights of the collection. They include a wonderful drawing of an elephant\, a letter from a newly enlisted soldier to his mother\, and\, of course\, some pages of the oldest manuscript with letters of St. Paul (one of the most famous texts of the collection).\n\nIn its 90-year history\, the University of Michigan Papyrus Collection has trained more students and scholars in the field of papyrology than any other institution in North America. Founded by the visionary Francis W. Kelsey\, the Papyrus Collection has been the training ground for papyrologists from around the world and home to many great resident scholars\, such as Herbert and Louise Youtie\, Ludwig Koenen\, and Traianos Gagos\, who died on April 26\, 2010.\n\nPapyrology is the field of scholarship that deciphers and studies the texts written –primarily on papyrus– by people living in the ancient Mediterranean world between 2\,500 BCE and 1\,000 CE. Most of these texts are found in Egypt where the climate is dry enough to preserve this fragile material. It is a highly specialized and technical field\, requiring intensive training in language (Egyptian\, ancient Greek\, Latin\, Arabic)\, history\, and the unique set of skills necessary for reading original documents.\n\nThe exhibit is open during Audubon Room hours: Sun 1-7pm\, Mon-Fri 8:30-7pm\, Sat 10am-6pm.\n\nThis Exhibit is in Honor of Traianos Gagos (1960-2010).
UID:3497-917776@events.umich.edu
URL:https://events.umich.edu/event/3497
CLASS:PUBLIC
STATUS:CONFIRMED
CATEGORIES:
LOCATION:Hatcher Graduate Library - Audubon Room
CONTACT:
END:VEVENT
BEGIN:VEVENT
DTSTAMP:20100826T223421
DTSTART;TZID=America/Detroit:20101119T090000
SUMMARY:Exhibition:The View From Below
DESCRIPTION:Curator: Sara Blair\, University of Michigan
UID:3384-917835@events.umich.edu
URL:https://events.umich.edu/event/3384
CLASS:PUBLIC
STATUS:CONFIRMED
CATEGORIES:visual arts
LOCATION:202 S. Thayer - Humanities Gallery
CONTACT:
END:VEVENT
BEGIN:VEVENT
DTSTAMP:20100817T114436
DTSTART;TZID=America/Detroit:20101119T100000
SUMMARY:Exhibition:On Beauty and the Everyday: The Prints of James McNeill Whistler
DESCRIPTION:UMMA's rare and important collection of James McNeill Whistler works on paper represents  one of the finest holdings of Whistler's graphic output in North America. This major exhibition  features more than 100 works of art from UMMA's Whistler collection\, which covers the  artist's entire career in Europe\, ranging from his student days and exposure to the vanguard  artistic movements of the 19th century to the groundbreaking and atmospheric lithographs  and etchings of his mature style. It is the first exhibition devoted to Whistler's works at  UMMA since 1994.\n\nNearly all of the Whistler works came to the Museum through the bequest of Margaret  Watson Parker\, an early collector of both Whistler's prints as well as Japanese art. The  exhibition explores Whistler's illustrious life and career\; his artistic themes and concerns\,  including portraiture and his well-known series from England\, Italy\, and France\; the interests  and legacy of early-20th-century Whistler collector Margaret Watson Parker\; and the tools  and techniques that Whistler employed as a printmaker.
UID:3291-921215@events.umich.edu
URL:https://events.umich.edu/event/3291
CLASS:PUBLIC
STATUS:CONFIRMED
CATEGORIES:visual arts
LOCATION:Museum of Art
CONTACT:
END:VEVENT
BEGIN:VEVENT
DTSTAMP:20101111T175737
DTSTART;TZID=America/Detroit:20101119T100000
SUMMARY:Exhibition:Out of the Ordinary: Selections from the Bohlen Wood Art and Fusfeld Folk Art Collections
DESCRIPTION:This exhibition\, which runs from September 11 through Spring of 2011\, allows visitors to  explore two extraordinary collections of art–the Robert M. and Lillian Montalto Bohlen  Collection of Wood Art and the Daniel and Harriet Fusfeld Folk Art Collection. The Bohlen  collection presents an astonishing range of contemporary artworks fashioned from wood and  includes works that explores traditional and non-traditional vessel forms as well as works that  are more purely sculptural. The outstanding objects that make up the Fusfeld collection are both  geographically and historically wide-ranging\, including work by early nineteenth-century  itinerant folk portraitists as well as late twentieth-century sculpture and painting by “outsider”  artists from the American South\, Midwest\, and Northeast.
UID:3293-916143@events.umich.edu
URL:https://events.umich.edu/event/3293
CLASS:PUBLIC
STATUS:CONFIRMED
CATEGORIES:visual arts
LOCATION:Museum of Art
CONTACT:
END:VEVENT
BEGIN:VEVENT
DTSTAMP:20101111T175904
DTSTART;TZID=America/Detroit:20101119T100000
SUMMARY:Exhibition:UMMA Projects: Simon Dybbroe MÃ¸ller
DESCRIPTION:Things are not always as they seem in the work of Simon Dybbroe MÃ¸ller. Indeed\, the Danish artist's works can at times appear to have been teleported from a slightly askew\, alternate version of the past. Seemingly familiar forms often appear in unexpected configurations and objects we think we recognize turn out to be something else entirely. An abstract wall painting emerges from beneath a layer of peeling plaster. A group of minimalist sculptures turn out to be the pieces of an enlarged Soma cube. This uncertainty is central to the experience of Dybbroe MÃ¸ller's work\, where an initial misrecognition leads to a moment of aesthetic discovery.\n\nDybbroe MÃ¸ller's penchant for puzzles and paradoxes reflects his interest in modernism's theoretical aspirations as well as its practical failings. Similarly\, his frequent adoption of “outmoded” media both provides him with a diverse artistic palette and a means of questioning the past century's faith in progress through technology and the avant-garde promise of continual artistic development.\n\nFor Dybbroe MÃ¸ller's first solo exhibition in a North American museum\, UMMA will present a new body of work that continues his ongoing engagement with and critique of the modernist paradigm of transparency.
UID:4185-921761@events.umich.edu
URL:https://events.umich.edu/event/4185
CLASS:PUBLIC
STATUS:CONFIRMED
CATEGORIES:visual arts
LOCATION:Museum of Art - Projects Gallery
CONTACT:
END:VEVENT
BEGIN:VEVENT
DTSTAMP:20101106T000021
DTSTART;TZID=America/Detroit:20101119T120000
DTEND;TZID=America/Detroit:20101119T140000
SUMMARY:Other:Senior Day Spirit Fest
DESCRIPTION:Get spirited for the last home football game of the season and Senior Day at the  Big House with FREE food\, games\, and giveaways at the Union from 12 - 2.
UID:4199-938420@events.umich.edu
URL:https://events.umich.edu/event/4199
CLASS:PUBLIC
STATUS:CONFIRMED
CATEGORIES:
LOCATION:Michigan Union - Lawn
CONTACT:
END:VEVENT
BEGIN:VEVENT
DTSTAMP:20101111T175750
DTSTART;TZID=America/Detroit:20101119T130000
DTEND;TZID=America/Detroit:20101119T143000
SUMMARY:Lecture / Discussion:Genital herpes infections in women
DESCRIPTION:This talk is part of the series Gender\, Sexual and Reproductive Health: A Global Perspective. Genital herpes remains one of the most prevalent STDs in the U.S. and the world. Minor and major morbidity and\, rarely\, mortality can occur following infections. HSV (Herpes simple virus) can also be a major factor which facilitates HIV transmission\, and may infect newborns via perinatal transmission. There are effective methods to prevent transmission through behavioral\, barrier or pharmaceutical means. This session will discuss the epidemiology\, transmissibility\, natural history\, and management of the HSV infections.
UID:4127-916919@events.umich.edu
URL:https://events.umich.edu/event/4127
CLASS:PUBLIC
STATUS:CONFIRMED
CATEGORIES:
LOCATION:Lane Hall - 2239
CONTACT:
END:VEVENT
BEGIN:VEVENT
DTSTAMP:20100810T180252
DTSTART;TZID=America/Detroit:20101119T160000
DTEND;TZID=America/Detroit:20101119T173000
SUMMARY:Lecture / Discussion:International Migration and Development Policy
DESCRIPTION:Over 200 million individuals worldwide live outside their countries of birth. Remittances sent home to developing countries by migrants amount to $300 billion per year\, far exceeding foreign aid flows and roughly equaling foreign direct investment. As a result\, policymakers are increasingly interested in what policies can be pursued to enhance migration's development impacts. Yet much of the research on this topic to date has been largely removed from direct engagement with policy\, and suffers from severe data limitations. In this panel\, leading migration researchers and policymakers will discuss the frontier of research on this topic and some of the most promising efforts at maximizing the development impact of migration and remittances.
UID:3257-909416@events.umich.edu
URL:https://events.umich.edu/event/3257
CLASS:PUBLIC
STATUS:CONFIRMED
CATEGORIES:
LOCATION:Weill Hall (Ford School) - 1120 Annenberg Auditorium
CONTACT:
END:VEVENT
BEGIN:VEVENT
DTSTAMP:20101111T175904
DTSTART;TZID=America/Detroit:20101119T180000
DTEND;TZID=America/Detroit:20101119T210000
SUMMARY:Ceremony / Service:Transgender Day of Remembrance Ceremony
DESCRIPTION:The Transgender Day of Remembrance was set aside to memorialize those who were killed due  to anti-transgender hatred or prejudice. The event is held in November to honor Rita Hester\,  whose murder on November 28th\, 1998 kicked off the “Remembering Our Dead” web project  and a San Francisco candlelight vigil in 1999. Rita Hester's murder – like most anti-transgender  murder cases – has yet to be solved. The Spectrum Center holds a TDOR Ceremony each year  in order to recognize this national day of remembrance.
UID:3693-921837@events.umich.edu
URL:https://events.umich.edu/event/3693
CLASS:PUBLIC
STATUS:CONFIRMED
CATEGORIES:multicultural,social justice
LOCATION:Palmer Commons - Great Lakes Room
CONTACT:
END:VEVENT
BEGIN:VEVENT
DTSTAMP:20101123T230152
DTSTART;TZID=America/Detroit:20101119T183000
DTEND;TZID=America/Detroit:20101119T200000
SUMMARY:Lecture / Discussion:Lecture: Lisa Iwamoto\, IwamotoScott
DESCRIPTION:November 19\, 2010 06:30 PM A+A Auditorium (Rm 2104) Art + Architecture Building\n\nLisa Iwamoto is partner of IwamotoScott\, a practice formed in partnership with Craig Scott. Committed to pursuing architecture as a form of applied design research\, IwamotoScott engages in projects at multiple scales and in a variety of contexts consisting of full-scale fabrications\, museum installations and exhibitions\, theoretical proposals\, competitions and commissioned design projects. \n\nIwamotoScott's work has been published widely nationally and internationally. Iwamoto is an Associate Professor in the Department of Architecture at The University of California\, Berkeley. Her research focuses on digital fabrication and material technologies for architecture. \n\nThis research can be found in her book Digital Fabrications: Architectural and Material Techniques published by Princeton Architectural Press as part of their series Architecture Briefs.
UID:4271-1000970@events.umich.edu
URL:https://events.umich.edu/event/4271
CLASS:PUBLIC
STATUS:CONFIRMED
CATEGORIES:
LOCATION:Art and Architecture Building - 2104
CONTACT:
END:VEVENT
BEGIN:VEVENT
DTSTAMP:20101111T175839
DTSTART;TZID=America/Detroit:20101119T190000
SUMMARY:Performance:The Sound of Music
DESCRIPTION:The Sound of Music Theater Production by Young People's Theater.  Features 80 Young People from South East Michigan between the ages of 5 and 18 years old.
UID:4080-920272@events.umich.edu
URL:https://events.umich.edu/event/4080
CLASS:PUBLIC
STATUS:CONFIRMED
CATEGORIES:music,theater
LOCATION:Lydia Mendelssohn Theatre
CONTACT:
END:VEVENT
BEGIN:VEVENT
DTSTAMP:20101105T235936
DTSTART;TZID=America/Detroit:20101119T203000
DTEND;TZID=America/Detroit:20101119T223000
SUMMARY:Performance:Open Mic Night
DESCRIPTION:Sign-up for performers begins at 7:30 pm. The show begins at 8:30 pm.\n\nThis open mic will feature the theme: Go Blue! in conjunction with the last home football game  weekend of the season. Performers are encouraged to show their spirit in their performance and  attire. The audience will vote on the \"most spirited\" performer and the winner will get a prize.  There will also be a judged contest and prize for the best re-make of Hail to the Victors! \n\nOpen Mic Nights provide a venue for musicians\, singer-songwriters\, and spoken-word artists to perform in a diverse show of creative expression. Each semester culminates in the Best of Best Show (Dec 10 for the Fall semester)\, where performers from previous events who impressed our judges perform and earn a $40 prize.
UID:3927-931116@events.umich.edu
URL:https://events.umich.edu/event/3927
CLASS:PUBLIC
STATUS:CONFIRMED
CATEGORIES:
LOCATION:Michigan League - Underground
CONTACT:
END:VEVENT
END:VCALENDAR