BEGIN:VCALENDAR
VERSION:2.0
PRODID:-//UM//UM*Events//EN
CALSCALE:GREGORIAN
BEGIN:VTIMEZONE
TZID:America/Detroit
TZURL:http://tzurl.org/zoneinfo/America/Detroit
X-LIC-LOCATION:America/Detroit
BEGIN:DAYLIGHT
TZOFFSETFROM:-0500
TZOFFSETTO:-0400
TZNAME:EDT
DTSTART:20070311T020000
RRULE:FREQ=YEARLY;BYMONTH=3;BYDAY=2SU
END:DAYLIGHT
BEGIN:STANDARD
TZOFFSETFROM:-0400
TZOFFSETTO:-0500
TZNAME:EST
DTSTART:20071104T020000
RRULE:FREQ=YEARLY;BYMONTH=11;BYDAY=1SU
END:STANDARD
END:VTIMEZONE
BEGIN:VEVENT
DTSTAMP:20101111T175607
DTSTART;TZID=America/Detroit:20101120T000000
SUMMARY:Exhibition:U-M and the Peace Corps: It All Started Here
DESCRIPTION:This dynamic exhibit showcases the unique role of University of Michigan students and faculty in the creation and popularizing of the Peace Corps. As Sargent Shriver said\, \"It might still be just an idea but for”¦those Michigan students and faculty.\" The exhibit highlights the development of student activism as well as important historical events.\n\nNormal Library Hours: http://www.lib.umich.edu/hours/list.php?singlebuilding=4
UID:3498-909766@events.umich.edu
URL:https://events.umich.edu/event/3498
CLASS:PUBLIC
STATUS:CONFIRMED
CATEGORIES:
LOCATION:Hatcher Graduate Library - Library Gallery (Room 100)
CONTACT:
END:VEVENT
BEGIN:VEVENT
DTSTAMP:20100909T114609
DTSTART;TZID=America/Detroit:20101120T083000
DTEND;TZID=America/Detroit:20101120T190000
SUMMARY:Exhibition:From Trace to Text: Highlights from the U-M Papyrus Collection
DESCRIPTION:This exhibit provides a behind-the-scenes look at the work of papyrologists: how they conserve scraps of often badly damaged papyri\, decipher traces of ink\, read and translate the resulting text\, edit and interpret its contents\, and make this available to both scholars and the general public. Modern technology\, such as digitization and multi-spectral imaging\, is aiding papyrologists in all of these efforts.\n\nTexts on display are some of the highlights of the collection. They include a wonderful drawing of an elephant\, a letter from a newly enlisted soldier to his mother\, and\, of course\, some pages of the oldest manuscript with letters of St. Paul (one of the most famous texts of the collection).\n\nIn its 90-year history\, the University of Michigan Papyrus Collection has trained more students and scholars in the field of papyrology than any other institution in North America. Founded by the visionary Francis W. Kelsey\, the Papyrus Collection has been the training ground for papyrologists from around the world and home to many great resident scholars\, such as Herbert and Louise Youtie\, Ludwig Koenen\, and Traianos Gagos\, who died on April 26\, 2010.\n\nPapyrology is the field of scholarship that deciphers and studies the texts written –primarily on papyrus– by people living in the ancient Mediterranean world between 2\,500 BCE and 1\,000 CE. Most of these texts are found in Egypt where the climate is dry enough to preserve this fragile material. It is a highly specialized and technical field\, requiring intensive training in language (Egyptian\, ancient Greek\, Latin\, Arabic)\, history\, and the unique set of skills necessary for reading original documents.\n\nThe exhibit is open during Audubon Room hours: Sun 1-7pm\, Mon-Fri 8:30-7pm\, Sat 10am-6pm.\n\nThis Exhibit is in Honor of Traianos Gagos (1960-2010).
UID:3497-917777@events.umich.edu
URL:https://events.umich.edu/event/3497
CLASS:PUBLIC
STATUS:CONFIRMED
CATEGORIES:
LOCATION:Hatcher Graduate Library - Audubon Room
CONTACT:
END:VEVENT
BEGIN:VEVENT
DTSTAMP:20100826T223421
DTSTART;TZID=America/Detroit:20101120T090000
SUMMARY:Exhibition:The View From Below
DESCRIPTION:Curator: Sara Blair\, University of Michigan
UID:3384-917836@events.umich.edu
URL:https://events.umich.edu/event/3384
CLASS:PUBLIC
STATUS:CONFIRMED
CATEGORIES:visual arts
LOCATION:202 S. Thayer - Humanities Gallery
CONTACT:
END:VEVENT
BEGIN:VEVENT
DTSTAMP:20101111T175613
DTSTART;TZID=America/Detroit:20101120T100000
SUMMARY:Workshop / Seminar:Drawing into Painting
DESCRIPTION:If you've always wanted to try to draw and paint but never knew where to start\, this is the course for you! Explore the fundamental principals of drawing and painting and learn how to transition from drawing into painting in the inspiring environment of the museum. Lab fee includes basic painting materials. Please bring 11 x 14 inch or larger drawing pad\; HB\, 4B\, or 6B drawing pencils\; and kneaded eraser to the first class. All levels welcome.
UID:4053-910102@events.umich.edu
URL:https://events.umich.edu/event/4053
CLASS:PUBLIC
STATUS:CONFIRMED
CATEGORIES:visual arts
LOCATION:Museum of Art - Multipurpose Room
CONTACT:
END:VEVENT
BEGIN:VEVENT
DTSTAMP:20100817T114436
DTSTART;TZID=America/Detroit:20101120T100000
SUMMARY:Exhibition:On Beauty and the Everyday: The Prints of James McNeill Whistler
DESCRIPTION:UMMA's rare and important collection of James McNeill Whistler works on paper represents  one of the finest holdings of Whistler's graphic output in North America. This major exhibition  features more than 100 works of art from UMMA's Whistler collection\, which covers the  artist's entire career in Europe\, ranging from his student days and exposure to the vanguard  artistic movements of the 19th century to the groundbreaking and atmospheric lithographs  and etchings of his mature style. It is the first exhibition devoted to Whistler's works at  UMMA since 1994.\n\nNearly all of the Whistler works came to the Museum through the bequest of Margaret  Watson Parker\, an early collector of both Whistler's prints as well as Japanese art. The  exhibition explores Whistler's illustrious life and career\; his artistic themes and concerns\,  including portraiture and his well-known series from England\, Italy\, and France\; the interests  and legacy of early-20th-century Whistler collector Margaret Watson Parker\; and the tools  and techniques that Whistler employed as a printmaker.
UID:3291-921216@events.umich.edu
URL:https://events.umich.edu/event/3291
CLASS:PUBLIC
STATUS:CONFIRMED
CATEGORIES:visual arts
LOCATION:Museum of Art
CONTACT:
END:VEVENT
BEGIN:VEVENT
DTSTAMP:20101111T175737
DTSTART;TZID=America/Detroit:20101120T100000
SUMMARY:Exhibition:Out of the Ordinary: Selections from the Bohlen Wood Art and Fusfeld Folk Art Collections
DESCRIPTION:This exhibition\, which runs from September 11 through Spring of 2011\, allows visitors to  explore two extraordinary collections of art–the Robert M. and Lillian Montalto Bohlen  Collection of Wood Art and the Daniel and Harriet Fusfeld Folk Art Collection. The Bohlen  collection presents an astonishing range of contemporary artworks fashioned from wood and  includes works that explores traditional and non-traditional vessel forms as well as works that  are more purely sculptural. The outstanding objects that make up the Fusfeld collection are both  geographically and historically wide-ranging\, including work by early nineteenth-century  itinerant folk portraitists as well as late twentieth-century sculpture and painting by “outsider”  artists from the American South\, Midwest\, and Northeast.
UID:3293-916144@events.umich.edu
URL:https://events.umich.edu/event/3293
CLASS:PUBLIC
STATUS:CONFIRMED
CATEGORIES:visual arts
LOCATION:Museum of Art
CONTACT:
END:VEVENT
BEGIN:VEVENT
DTSTAMP:20101111T175904
DTSTART;TZID=America/Detroit:20101120T100000
SUMMARY:Exhibition:UMMA Projects: Simon Dybbroe MÃ¸ller
DESCRIPTION:Things are not always as they seem in the work of Simon Dybbroe MÃ¸ller. Indeed\, the Danish artist's works can at times appear to have been teleported from a slightly askew\, alternate version of the past. Seemingly familiar forms often appear in unexpected configurations and objects we think we recognize turn out to be something else entirely. An abstract wall painting emerges from beneath a layer of peeling plaster. A group of minimalist sculptures turn out to be the pieces of an enlarged Soma cube. This uncertainty is central to the experience of Dybbroe MÃ¸ller's work\, where an initial misrecognition leads to a moment of aesthetic discovery.\n\nDybbroe MÃ¸ller's penchant for puzzles and paradoxes reflects his interest in modernism's theoretical aspirations as well as its practical failings. Similarly\, his frequent adoption of “outmoded” media both provides him with a diverse artistic palette and a means of questioning the past century's faith in progress through technology and the avant-garde promise of continual artistic development.\n\nFor Dybbroe MÃ¸ller's first solo exhibition in a North American museum\, UMMA will present a new body of work that continues his ongoing engagement with and critique of the modernist paradigm of transparency.
UID:4185-921762@events.umich.edu
URL:https://events.umich.edu/event/4185
CLASS:PUBLIC
STATUS:CONFIRMED
CATEGORIES:visual arts
LOCATION:Museum of Art - Projects Gallery
CONTACT:
END:VEVENT
BEGIN:VEVENT
DTSTAMP:20101012T155028
DTSTART;TZID=America/Detroit:20101120T130000
SUMMARY:Exhibition:UMMA Tour: Political and Social Expressions in Art
DESCRIPTION:This is one of two new tours that looks at UMMA collections through the lens of a particular theme. \"Political and Social Expressions in Art\" considers art displaying political and social issues. Both new tours are offered in conjunction with the UM theme semester \"What Makes Life Worth Living?\"
UID:4054-914283@events.umich.edu
URL:https://events.umich.edu/event/4054
CLASS:PUBLIC
STATUS:CONFIRMED
CATEGORIES:visual arts
LOCATION:Museum of Art
CONTACT:
END:VEVENT
BEGIN:VEVENT
DTSTAMP:20101111T175614
DTSTART;TZID=America/Detroit:20101120T133000
SUMMARY:Exhibition:UMMA: Collections
DESCRIPTION:Collections: UMMA is a video score created by UM Art and Design MFA candidate John Kannenberg for a site-specific sound and video performance based on the architecture of the Museum. This silent\, ten-minute video will serve as the guiding structure for a series of improvisational sound performances that will take place every 20 minutes\, alternating between the Apse and the Vertical Gallery between 1:30 and 3pm. Performers will include visiting sound artists Mike Hallenbeck and James Warchol\, along with current graduate students in the School of Art and Design and the School of Music\, Theatre\, and Dance and with special guest SMTD Professor Stephen J. Rush\, Director of the UM Digital Music Ensemble.
UID:4095-910184@events.umich.edu
URL:https://events.umich.edu/event/4095
CLASS:PUBLIC
STATUS:CONFIRMED
CATEGORIES:music,visual arts
LOCATION:Museum of Art - Vertical Gallery
CONTACT:
END:VEVENT
BEGIN:VEVENT
DTSTAMP:20101111T175640
DTSTART;TZID=America/Detroit:20101120T140000
SUMMARY:Performance:The Sound of Music
DESCRIPTION:The Sound of Music Theater Production by Young People's Theater.  Features 80 Young People from South East Michigan between the ages of 5 and 18 years old.
UID:4081-912350@events.umich.edu
URL:https://events.umich.edu/event/4081
CLASS:PUBLIC
STATUS:CONFIRMED
CATEGORIES:music,theater
LOCATION:Lydia Mendelssohn Theatre
CONTACT:
END:VEVENT
BEGIN:VEVENT
DTSTAMP:20101111T175824
DTSTART;TZID=America/Detroit:20101120T140000
SUMMARY:Exhibition:UMMA Tour: On Beauty and the Everyday: The Prints of James McNeill Whistler
DESCRIPTION:Tour this major exhibition of more than 100 works of art from UMMA's rare and important Whistler collection\, including portraits and his well-known series from England\, Italy\, and France.
UID:4060-919260@events.umich.edu
URL:https://events.umich.edu/event/4060
CLASS:PUBLIC
STATUS:CONFIRMED
CATEGORIES:visual arts
LOCATION:Museum of Art
CONTACT:
END:VEVENT
BEGIN:VEVENT
DTSTAMP:20101115T230156
DTSTART;TZID=America/Detroit:20101120T190000
DTEND;TZID=America/Detroit:20101120T220000
SUMMARY:Performance:10th Annual One Love Show
DESCRIPTION:The 10th Annual One Love Show will take place Saturday\, November 20\, 2010 at 7:00pm in the Michigan League Ballroom. This year\, Zeta Sigma Chi  Multicultural Sorority\, Inc. is using the show as a means of informing the audience  of global issues\, which are affecting different regions of the world.  Each group of  performers has been instructed to showcase an issue that is affecting a region or  country in the world that may not be relayed through the media.  This year?s One  Love show will employ film\, music\, dance\, stepping\, and poetry to aid in the  presentation of these global issues.
UID:4208-952422@events.umich.edu
URL:https://events.umich.edu/event/4208
CLASS:PUBLIC
STATUS:CONFIRMED
CATEGORIES:dance,film,multicultural,music,theater,visual arts
LOCATION:Michigan League - Ballroom
CONTACT:
END:VEVENT
BEGIN:VEVENT
DTSTAMP:20101111T175623
DTSTART;TZID=America/Detroit:20101120T190000
DTEND;TZID=America/Detroit:20101120T210000
SUMMARY:Film Screening:I Am Cuba (Mikhail Kalatozov\, 1964)
DESCRIPTION:Filmed by the great Russian director Mikhail Kalatozov (The Cranes are Flying)\, I  AM CUBA is an epic poem to Communist kitsch–a whirling\, feverish dance through  the sensuous decadence of Batista's Havana and the grinding poverty and  oppression of the Cuban people.  In four main stories showing the rise of the  revolution\, Kalatozov's astonishingly acrobatic camera takes the viewer on a  rapturous roller-coaster ride of bathing beauties\, landless peasants and student  revolutionaries.  Presented by Francis Ford Coppola and Martin Scorsese.  35mm  restored print.
UID:4141-911029@events.umich.edu
URL:https://events.umich.edu/event/4141
CLASS:PUBLIC
STATUS:CONFIRMED
CATEGORIES:
LOCATION:
CONTACT:
END:VEVENT
BEGIN:VEVENT
DTSTAMP:20101124T230148
DTSTART;TZID=America/Detroit:20101120T190000
DTEND;TZID=America/Detroit:20101120T203000
SUMMARY:Film Screening:TCCA Movie Night
DESCRIPTION:Free admission! Free snacks! \n\nMandarin with English subtitles.\n\n\"A documentary film about children of migrant workers in rural China.\"\n\nThe word \"poverty\" has become synonymous with the peasant villages in the Western frontier of China. Many peasant parents leave their children behind as they travel to cities in search of better-paying jobs. These children are known as the \"left-behind children\"\, or \"orphans of China's economic restructuring\" as a result of the booming economy in coastal provinces. There are nearly 58 million \"left-behind children\" in China. Although they are taken care of by their grandparents\, they tend to close up and shut the world out due to the lack of parental company. Without their parents\, they will learn to persevere. However\, they will also experience a lonely and helpless childhood.
UID:4274-1006079@events.umich.edu
URL:https://events.umich.edu/event/4274
CLASS:PUBLIC
STATUS:CONFIRMED
CATEGORIES:film,social justice
LOCATION:Mason Hall - 3463
CONTACT:
END:VEVENT
BEGIN:VEVENT
DTSTAMP:20101111T175839
DTSTART;TZID=America/Detroit:20101120T190000
SUMMARY:Performance:The Sound of Music
DESCRIPTION:The Sound of Music Theater Production by Young People's Theater.  Features 80 Young People from South East Michigan between the ages of 5 and 18 years old.
UID:4080-920273@events.umich.edu
URL:https://events.umich.edu/event/4080
CLASS:PUBLIC
STATUS:CONFIRMED
CATEGORIES:music,theater
LOCATION:Lydia Mendelssohn Theatre
CONTACT:
END:VEVENT
BEGIN:VEVENT
DTSTAMP:20101111T175735
DTSTART;TZID=America/Detroit:20101120T200000
SUMMARY:Performance:Gandalf Murphy and the Slambovian Circus of Dreams
DESCRIPTION:This Sleepy Hollow\, New York quintet plays music that harks back to the idealistic\, catchy folk rock of the 1960s and 1970s. But they're not a nostalgia act. \"Instead of rehashing the old stuff\, we went back to the well\,\" says lead singer Joziah Longo. Almost anything (think purple pancakes) can happen at a Gandalf show\, and usually does. The band cites influences as diverse as Hank Williams\, Dylan\, Bowie\, Incredible String Band and early Pink Floyd\, and Joziah's background growing up among Philadelphia's Mummers' parades may have a little (or a lot) to do with the pure theatrical appeal of the Slambovian universe as well. This is a show that's fun\, mind-expanding\, and irresistibly melodic\, all at the same time.
UID:1837-915996@events.umich.edu
URL:https://events.umich.edu/event/1837
CLASS:PUBLIC
STATUS:CONFIRMED
CATEGORIES:music
LOCATION:
CONTACT:
END:VEVENT
END:VCALENDAR