BEGIN:VCALENDAR
VERSION:2.0
PRODID:-//UM//UM*Events//EN
CALSCALE:GREGORIAN
BEGIN:VTIMEZONE
TZID:America/Detroit
TZURL:http://tzurl.org/zoneinfo/America/Detroit
X-LIC-LOCATION:America/Detroit
BEGIN:DAYLIGHT
TZOFFSETFROM:-0500
TZOFFSETTO:-0400
TZNAME:EDT
DTSTART:20070311T020000
RRULE:FREQ=YEARLY;BYMONTH=3;BYDAY=2SU
END:DAYLIGHT
BEGIN:STANDARD
TZOFFSETFROM:-0400
TZOFFSETTO:-0500
TZNAME:EST
DTSTART:20071104T020000
RRULE:FREQ=YEARLY;BYMONTH=11;BYDAY=1SU
END:STANDARD
END:VTIMEZONE
BEGIN:VEVENT
DTSTAMP:20100909T114609
DTSTART;TZID=America/Detroit:20101121T083000
DTEND;TZID=America/Detroit:20101121T190000
SUMMARY:Exhibition:From Trace to Text: Highlights from the U-M Papyrus Collection
DESCRIPTION:This exhibit provides a behind-the-scenes look at the work of papyrologists: how they conserve scraps of often badly damaged papyri\, decipher traces of ink\, read and translate the resulting text\, edit and interpret its contents\, and make this available to both scholars and the general public. Modern technology\, such as digitization and multi-spectral imaging\, is aiding papyrologists in all of these efforts.\n\nTexts on display are some of the highlights of the collection. They include a wonderful drawing of an elephant\, a letter from a newly enlisted soldier to his mother\, and\, of course\, some pages of the oldest manuscript with letters of St. Paul (one of the most famous texts of the collection).\n\nIn its 90-year history\, the University of Michigan Papyrus Collection has trained more students and scholars in the field of papyrology than any other institution in North America. Founded by the visionary Francis W. Kelsey\, the Papyrus Collection has been the training ground for papyrologists from around the world and home to many great resident scholars\, such as Herbert and Louise Youtie\, Ludwig Koenen\, and Traianos Gagos\, who died on April 26\, 2010.\n\nPapyrology is the field of scholarship that deciphers and studies the texts written –primarily on papyrus– by people living in the ancient Mediterranean world between 2\,500 BCE and 1\,000 CE. Most of these texts are found in Egypt where the climate is dry enough to preserve this fragile material. It is a highly specialized and technical field\, requiring intensive training in language (Egyptian\, ancient Greek\, Latin\, Arabic)\, history\, and the unique set of skills necessary for reading original documents.\n\nThe exhibit is open during Audubon Room hours: Sun 1-7pm\, Mon-Fri 8:30-7pm\, Sat 10am-6pm.\n\nThis Exhibit is in Honor of Traianos Gagos (1960-2010).
UID:3497-917778@events.umich.edu
URL:https://events.umich.edu/event/3497
CLASS:PUBLIC
STATUS:CONFIRMED
CATEGORIES:
LOCATION:Hatcher Graduate Library - Audubon Room
CONTACT:
END:VEVENT
BEGIN:VEVENT
DTSTAMP:20100826T223421
DTSTART;TZID=America/Detroit:20101121T090000
SUMMARY:Exhibition:The View From Below
DESCRIPTION:Curator: Sara Blair\, University of Michigan
UID:3384-917837@events.umich.edu
URL:https://events.umich.edu/event/3384
CLASS:PUBLIC
STATUS:CONFIRMED
CATEGORIES:visual arts
LOCATION:202 S. Thayer - Humanities Gallery
CONTACT:
END:VEVENT
BEGIN:VEVENT
DTSTAMP:20100817T114436
DTSTART;TZID=America/Detroit:20101121T100000
SUMMARY:Exhibition:On Beauty and the Everyday: The Prints of James McNeill Whistler
DESCRIPTION:UMMA's rare and important collection of James McNeill Whistler works on paper represents  one of the finest holdings of Whistler's graphic output in North America. This major exhibition  features more than 100 works of art from UMMA's Whistler collection\, which covers the  artist's entire career in Europe\, ranging from his student days and exposure to the vanguard  artistic movements of the 19th century to the groundbreaking and atmospheric lithographs  and etchings of his mature style. It is the first exhibition devoted to Whistler's works at  UMMA since 1994.\n\nNearly all of the Whistler works came to the Museum through the bequest of Margaret  Watson Parker\, an early collector of both Whistler's prints as well as Japanese art. The  exhibition explores Whistler's illustrious life and career\; his artistic themes and concerns\,  including portraiture and his well-known series from England\, Italy\, and France\; the interests  and legacy of early-20th-century Whistler collector Margaret Watson Parker\; and the tools  and techniques that Whistler employed as a printmaker.
UID:3291-921217@events.umich.edu
URL:https://events.umich.edu/event/3291
CLASS:PUBLIC
STATUS:CONFIRMED
CATEGORIES:visual arts
LOCATION:Museum of Art
CONTACT:
END:VEVENT
BEGIN:VEVENT
DTSTAMP:20101111T175737
DTSTART;TZID=America/Detroit:20101121T100000
SUMMARY:Exhibition:Out of the Ordinary: Selections from the Bohlen Wood Art and Fusfeld Folk Art Collections
DESCRIPTION:This exhibition\, which runs from September 11 through Spring of 2011\, allows visitors to  explore two extraordinary collections of art–the Robert M. and Lillian Montalto Bohlen  Collection of Wood Art and the Daniel and Harriet Fusfeld Folk Art Collection. The Bohlen  collection presents an astonishing range of contemporary artworks fashioned from wood and  includes works that explores traditional and non-traditional vessel forms as well as works that  are more purely sculptural. The outstanding objects that make up the Fusfeld collection are both  geographically and historically wide-ranging\, including work by early nineteenth-century  itinerant folk portraitists as well as late twentieth-century sculpture and painting by “outsider”  artists from the American South\, Midwest\, and Northeast.
UID:3293-916145@events.umich.edu
URL:https://events.umich.edu/event/3293
CLASS:PUBLIC
STATUS:CONFIRMED
CATEGORIES:visual arts
LOCATION:Museum of Art
CONTACT:
END:VEVENT
BEGIN:VEVENT
DTSTAMP:20101118T230149
DTSTART;TZID=America/Detroit:20101121T100000
DTEND;TZID=America/Detroit:20101121T130000
SUMMARY:Performance:Ring of Steel Action Theatre
DESCRIPTION:Theatrical combat is a multidisciplinary art that combines acting with elements of  fencing\, martial arts\, dance\, and music to develop a safe and effective  performance. It is a distinct area of study\; essentially a marital art where the focus  is not to injure your partner. As with any martial art\, years of training are needed  before an individual is prepared to safely share their skills on the stage.\n\nThe Ring of Steel offers theatrical combat training in a wide range of weapons and  combat styles\, based in large part on Aikido and late period rapier.
UID:4253-973310@events.umich.edu
URL:https://events.umich.edu/event/4253
CLASS:PUBLIC
STATUS:CONFIRMED
CATEGORIES:visual arts,theater,music,literary arts,film,dance,architecture
LOCATION:
CONTACT:
END:VEVENT
BEGIN:VEVENT
DTSTAMP:20101111T175904
DTSTART;TZID=America/Detroit:20101121T100000
SUMMARY:Exhibition:UMMA Projects: Simon Dybbroe MÃ¸ller
DESCRIPTION:Things are not always as they seem in the work of Simon Dybbroe MÃ¸ller. Indeed\, the Danish artist's works can at times appear to have been teleported from a slightly askew\, alternate version of the past. Seemingly familiar forms often appear in unexpected configurations and objects we think we recognize turn out to be something else entirely. An abstract wall painting emerges from beneath a layer of peeling plaster. A group of minimalist sculptures turn out to be the pieces of an enlarged Soma cube. This uncertainty is central to the experience of Dybbroe MÃ¸ller's work\, where an initial misrecognition leads to a moment of aesthetic discovery.\n\nDybbroe MÃ¸ller's penchant for puzzles and paradoxes reflects his interest in modernism's theoretical aspirations as well as its practical failings. Similarly\, his frequent adoption of “outmoded” media both provides him with a diverse artistic palette and a means of questioning the past century's faith in progress through technology and the avant-garde promise of continual artistic development.\n\nFor Dybbroe MÃ¸ller's first solo exhibition in a North American museum\, UMMA will present a new body of work that continues his ongoing engagement with and critique of the modernist paradigm of transparency.
UID:4185-921763@events.umich.edu
URL:https://events.umich.edu/event/4185
CLASS:PUBLIC
STATUS:CONFIRMED
CATEGORIES:visual arts
LOCATION:Museum of Art - Projects Gallery
CONTACT:
END:VEVENT
BEGIN:VEVENT
DTSTAMP:20101111T175607
DTSTART;TZID=America/Detroit:20101121T130000
SUMMARY:Exhibition:UMMA Tour: The Collector's Eye
DESCRIPTION:This is one of two new tours that looks at UMMA collections through the lens of a particular theme. \"The Collector's Eye\" considers donors and collectors who have shaped UMMA holdings. Both new tours are offered in conjunction with the UM theme semester \"What Makes Life Worth Living?\"
UID:4052-909721@events.umich.edu
URL:https://events.umich.edu/event/4052
CLASS:PUBLIC
STATUS:CONFIRMED
CATEGORIES:visual arts
LOCATION:Museum of Art
CONTACT:
END:VEVENT
BEGIN:VEVENT
DTSTAMP:20101111T175640
DTSTART;TZID=America/Detroit:20101121T140000
SUMMARY:Performance:The Sound of Music
DESCRIPTION:The Sound of Music Theater Production by Young People's Theater.  Features 80 Young People from South East Michigan between the ages of 5 and 18 years old.
UID:4081-912351@events.umich.edu
URL:https://events.umich.edu/event/4081
CLASS:PUBLIC
STATUS:CONFIRMED
CATEGORIES:music,theater
LOCATION:Lydia Mendelssohn Theatre
CONTACT:
END:VEVENT
BEGIN:VEVENT
DTSTAMP:20101111T175824
DTSTART;TZID=America/Detroit:20101121T140000
SUMMARY:Exhibition:UMMA Tour: On Beauty and the Everyday: The Prints of James McNeill Whistler
DESCRIPTION:Tour this major exhibition of more than 100 works of art from UMMA's rare and important Whistler collection\, including portraits and his well-known series from England\, Italy\, and France.
UID:4060-919261@events.umich.edu
URL:https://events.umich.edu/event/4060
CLASS:PUBLIC
STATUS:CONFIRMED
CATEGORIES:visual arts
LOCATION:Museum of Art
CONTACT:
END:VEVENT
BEGIN:VEVENT
DTSTAMP:20101111T175708
DTSTART;TZID=America/Detroit:20101121T150000
SUMMARY:Lecture / Discussion:Curator's Talk: The Prints of James McNeill Whistler
DESCRIPTION:Join Senior Curator of Western Art Carole McNamara as she shares how Whistler's distinctive vision evolved through his technical and artistic mastery of printmaking.
UID:4096-914184@events.umich.edu
URL:https://events.umich.edu/event/4096
CLASS:PUBLIC
STATUS:CONFIRMED
CATEGORIES:visual arts
LOCATION:Museum of Art - A. Alfred Taubman Gallery I
CONTACT:
END:VEVENT
BEGIN:VEVENT
DTSTAMP:20101111T175818
DTSTART;TZID=America/Detroit:20101121T190000
DTEND;TZID=America/Detroit:20101121T210000
SUMMARY:Exercise / Fitness:UMove Class: Rock Climbing 101
DESCRIPTION:The Introduction to Movement on Rock class is a eight week long course covering the  basics of indoor rock climbing\, movement\, and balance. This course is geared toward  beginner and novice climbers\, no experience required. The fundamental purpose of the  course is to introduce students to rock climbing in a safe manner\, while providing  instruction on proper knot tying\, belaying\, rope management\, and basic rock climbing  technique.
UID:3282-919097@events.umich.edu
URL:https://events.umich.edu/event/3282
CLASS:PUBLIC
STATUS:CONFIRMED
CATEGORIES:
LOCATION:Intramural Sports Building - Climbing Wall
CONTACT:
END:VEVENT
BEGIN:VEVENT
DTSTAMP:20101111T175740
DTSTART;TZID=America/Detroit:20101121T190000
SUMMARY:Performance:Where in the World is Michigan Pops
DESCRIPTION:Led by Music Director Yaniv Segal\, the Michigan Pops Orchestra presents WHERE IN  THE WORLD IS MICHIGAN POPS? on Sunday\, November 21\, 2010 at 7:00 PM at the  Michigan Theater. Fall is here and the Michigan Pops Orchestra is going around the  world. Come along with the University's only student-run\, student-directed orchestra  as they perform a concert program showcasing fantastic film scores\, legendary  themes\, and quintessential classics from countries all over the world. The program  brings to life the powerful music from Bright Cheng's China Fanfares\, Flying  Dutchman Overture\, and Moncayo's Huapango\, as well as selections from Mulan\,  the Lion King\, and much more.  By combining multimedia\, antics\, and much more\,  WHERE IN THE WORLD IS MICHIGAN POPS? promises to be a spectacular show.\n\nThe Michigan Pops Orchestra again promises an engaging performance\, utilizing  unique themes and programming to combine the contemporary and the classical  from all over the world. Pops appeals to the music lover in everyone\, with its  extensive repertoire including classical\, rock\, jazz\, and popular film scores. Working  with the University Activities Center\, the Michigan Pops Orchestra continues to  promote diversity in both club participation and song selection. The 100-member  ensemble will again\, demonstrate commitment and passion to community musical  collaboration in this fall's concert\, WHERE IN THE WORLD IS MICHIGAN POPS?.
UID:4180-916260@events.umich.edu
URL:https://events.umich.edu/event/4180
CLASS:PUBLIC
STATUS:CONFIRMED
CATEGORIES:music
LOCATION:
CONTACT:
END:VEVENT
BEGIN:VEVENT
DTSTAMP:20100721T085019
DTSTART;TZID=America/Detroit:20101121T193000
SUMMARY:Performance:Shawn Colvin
DESCRIPTION:Just about every young singer-songwriter has imitated Shawn Colvin musically at one time or another. This South Dakota-born folk-rocker puts herself under the microscope and then backs off and boils it all down to a set of memorable pop hooks. Shawn's recent \"Live\" album won a Grammy nomination for Best Contemporary Folk Recording along with a rave from Thom Jurek of the All Music Guide\, who called it \"a delightful\, intimate overview of her career.\" But Shawn's live shows always include some surprises and flashes of new insight as well. Shawn is at work on her memoir\, \"A Few Small Repairs\,\" and she's been turning to the confessional monologues of Spalding Gray for inspiration. So\, expect an especially introspective show from the artist who does introspection best.
UID:3019-920922@events.umich.edu
URL:https://events.umich.edu/event/3019
CLASS:PUBLIC
STATUS:CONFIRMED
CATEGORIES:music
LOCATION:
CONTACT:
END:VEVENT
END:VCALENDAR