BEGIN:VCALENDAR
VERSION:2.0
PRODID:-//UM//UM*Events//EN
CALSCALE:GREGORIAN
BEGIN:VTIMEZONE
TZID:America/Detroit
TZURL:http://tzurl.org/zoneinfo/America/Detroit
X-LIC-LOCATION:America/Detroit
BEGIN:DAYLIGHT
TZOFFSETFROM:-0500
TZOFFSETTO:-0400
TZNAME:EDT
DTSTART:20070311T020000
RRULE:FREQ=YEARLY;BYMONTH=3;BYDAY=2SU
END:DAYLIGHT
BEGIN:STANDARD
TZOFFSETFROM:-0400
TZOFFSETTO:-0500
TZNAME:EST
DTSTART:20071104T020000
RRULE:FREQ=YEARLY;BYMONTH=11;BYDAY=1SU
END:STANDARD
END:VTIMEZONE
BEGIN:VEVENT
DTSTAMP:20101111T175607
DTSTART;TZID=America/Detroit:20101122T000000
SUMMARY:Exhibition:U-M and the Peace Corps: It All Started Here
DESCRIPTION:This dynamic exhibit showcases the unique role of University of Michigan students and faculty in the creation and popularizing of the Peace Corps. As Sargent Shriver said\, \"It might still be just an idea but for”¦those Michigan students and faculty.\" The exhibit highlights the development of student activism as well as important historical events.\n\nNormal Library Hours: http://www.lib.umich.edu/hours/list.php?singlebuilding=4
UID:3498-909767@events.umich.edu
URL:https://events.umich.edu/event/3498
CLASS:PUBLIC
STATUS:CONFIRMED
CATEGORIES:
LOCATION:Hatcher Graduate Library - Library Gallery (Room 100)
CONTACT:
END:VEVENT
BEGIN:VEVENT
DTSTAMP:20100909T114609
DTSTART;TZID=America/Detroit:20101122T083000
DTEND;TZID=America/Detroit:20101122T190000
SUMMARY:Exhibition:From Trace to Text: Highlights from the U-M Papyrus Collection
DESCRIPTION:This exhibit provides a behind-the-scenes look at the work of papyrologists: how they conserve scraps of often badly damaged papyri\, decipher traces of ink\, read and translate the resulting text\, edit and interpret its contents\, and make this available to both scholars and the general public. Modern technology\, such as digitization and multi-spectral imaging\, is aiding papyrologists in all of these efforts.\n\nTexts on display are some of the highlights of the collection. They include a wonderful drawing of an elephant\, a letter from a newly enlisted soldier to his mother\, and\, of course\, some pages of the oldest manuscript with letters of St. Paul (one of the most famous texts of the collection).\n\nIn its 90-year history\, the University of Michigan Papyrus Collection has trained more students and scholars in the field of papyrology than any other institution in North America. Founded by the visionary Francis W. Kelsey\, the Papyrus Collection has been the training ground for papyrologists from around the world and home to many great resident scholars\, such as Herbert and Louise Youtie\, Ludwig Koenen\, and Traianos Gagos\, who died on April 26\, 2010.\n\nPapyrology is the field of scholarship that deciphers and studies the texts written –primarily on papyrus– by people living in the ancient Mediterranean world between 2\,500 BCE and 1\,000 CE. Most of these texts are found in Egypt where the climate is dry enough to preserve this fragile material. It is a highly specialized and technical field\, requiring intensive training in language (Egyptian\, ancient Greek\, Latin\, Arabic)\, history\, and the unique set of skills necessary for reading original documents.\n\nThe exhibit is open during Audubon Room hours: Sun 1-7pm\, Mon-Fri 8:30-7pm\, Sat 10am-6pm.\n\nThis Exhibit is in Honor of Traianos Gagos (1960-2010).
UID:3497-917779@events.umich.edu
URL:https://events.umich.edu/event/3497
CLASS:PUBLIC
STATUS:CONFIRMED
CATEGORIES:
LOCATION:Hatcher Graduate Library - Audubon Room
CONTACT:
END:VEVENT
BEGIN:VEVENT
DTSTAMP:20100826T223421
DTSTART;TZID=America/Detroit:20101122T090000
SUMMARY:Exhibition:The View From Below
DESCRIPTION:Curator: Sara Blair\, University of Michigan
UID:3384-917838@events.umich.edu
URL:https://events.umich.edu/event/3384
CLASS:PUBLIC
STATUS:CONFIRMED
CATEGORIES:visual arts
LOCATION:202 S. Thayer - Humanities Gallery
CONTACT:
END:VEVENT
BEGIN:VEVENT
DTSTAMP:20101111T175835
DTSTART;TZID=America/Detroit:20101122T120000
DTEND;TZID=America/Detroit:20101122T133000
SUMMARY:Other:Ming Xu\, Erb Colloquium
DESCRIPTION:Dr. Ming Xu joins the School of Natural Resources and Environment Faculty from  Georgia Tech this fall.  12 - 1:30 pm\, Dana 2024. Open to the University Community.\n\n Erb Institute Colloquium A bi-weekly research seminar featuring the latest insights and state of the art  knowledge in the broad field of sustainable enterprise. Faculty spanning Economists\,  Legal and Management Scholars as well as Natural Scientists from both within U of M  and other leading Institutions present and discuss their work in an interdisciplinary  and interactive framework. The general structure of the seminar allows the speaker  45 minutes\, then an assigned discussant from a different discipline adds comments  and ideas\, followed by general discussion.  In our experience\, the Colloquium  proves to be a valuable source of new ideas for faculty\, graduate students and  practitioners alike. Past speakers have included such scholars as Geoffrey Heal\,  Stuart Hart\, Jim Walsh\, Steve Salant\, Tima Bansal\, Mike Lenox\, Magali Delmas\,  John Maxwell\, Andy King\, Mike Toffel\, David Popp\, Madhu Khanna\, and Jay Golden\,  and David Ulhmann.
UID:3899-920081@events.umich.edu
URL:https://events.umich.edu/event/3899
CLASS:PUBLIC
STATUS:CONFIRMED
CATEGORIES:
LOCATION:Dana Natural Resources  Building - 2024
CONTACT:
END:VEVENT
BEGIN:VEVENT
DTSTAMP:20101104T143217
DTSTART;TZID=America/Detroit:20101122T160000
DTEND;TZID=America/Detroit:20101122T173000
SUMMARY:Lecture / Discussion:Threading a Very Fine Needle: Race\, Gender\, and the Public Policy of Reproductive Genetic Technolgies
DESCRIPTION:When talking about emerging reproductive genetic technologies\, popular imagination and public anxieties invariably turn to fears about ”˜designer babies' with sex selection\, considered by many to be the gateway technology. While sex selective technologies are relatively simple\, issues of race\, gender equality\, and abortion politics\, and polarized debates about reproductive freedom and regulation complicate the discussions about them. When it comes to public policy on sex selection (and other reproductive genetic technologies)\, how do we stand for race and gender equality\, and reproductive autonomy all at the same time? It will require threading some very\, very fine political and social needles.\n\nSUJATHA JESUDASON\, Ph.D.\, leads Generations Ahead\, a non-profit organization that shapes and informs our policies on genetic technology\, advocating for its equitable and wise use.
UID:4190-923711@events.umich.edu
URL:https://events.umich.edu/event/4190
CLASS:PUBLIC
STATUS:CONFIRMED
CATEGORIES:social justice
LOCATION:Weill Hall (Ford School) - 1110 (Betty Ford Classroom)
CONTACT:
END:VEVENT
BEGIN:VEVENT
DTSTAMP:20101124T230148
DTSTART;TZID=America/Detroit:20101122T173000
DTEND;TZID=America/Detroit:20101122T193000
SUMMARY:Film Screening:\"It's Elementary\" Film Screening
DESCRIPTION:The Spectrum Center and Intergroup Relations present the film It's Elementary.  The film  addresses anti-gay prejudice by providing adults with practical lessons on how to talk to children  about lesbian\, gay\, bisexual\, and transgender people.   There will be popcorn during the film\, and a discussion will follow.
UID:4288-1006078@events.umich.edu
URL:https://events.umich.edu/event/4288
CLASS:PUBLIC
STATUS:CONFIRMED
CATEGORIES:
LOCATION:
CONTACT:
END:VEVENT
BEGIN:VEVENT
DTSTAMP:20100929T102837
DTSTART;TZID=America/Detroit:20101122T180000
DTEND;TZID=America/Detroit:20101122T200000
SUMMARY:Well-being:Free and Anonymous HIV Testing
DESCRIPTION:Every Monday during the academic year\, a counselor from HARC\, the HIV/AIDS Resource Center\, is at the Spectrum Center from 6-8 pm offering free and anonymous HIV testing. The Spectrum Center is a welcoming and safe space for all seeking testing. For more information on HARC and testing\, call 800.578.2300\, 734.572.9355\, or visit them on the web at http://hivaidsresource.org/
UID:3894-909582@events.umich.edu
URL:https://events.umich.edu/event/3894
CLASS:PUBLIC
STATUS:CONFIRMED
CATEGORIES:respect,social justice
LOCATION:Michigan Union - Spectrum Center - 3200
CONTACT:
END:VEVENT
BEGIN:VEVENT
DTSTAMP:20100910T164015
DTSTART;TZID=America/Detroit:20101122T180000
DTEND;TZID=America/Detroit:20101122T193000
SUMMARY:Workshop / Seminar:Partners of Transfolk
DESCRIPTION:The Spectrum Center is excited to announce our new Partners of Transfolk Support Group. This is a bi-weekly open forum drop-in group to provide support and community for people of all genders to discuss and explore their relationships with trans-identified or gender non-conforming individuals in a safe environment. Group is open to people currently or formerly in partnerships with trans-people.  The group will meet on the first and third Mondays of the month in the Spectrum Center\, which is located at 3200 Michigan Union (3rd Floor)\, 530 South State Street\, Ann Arbor. If you have any questions please contact partnersoftransfolk@umich.edu.
UID:3591-916044@events.umich.edu
URL:https://events.umich.edu/event/3591
CLASS:PUBLIC
STATUS:CONFIRMED
CATEGORIES:
LOCATION:Michigan Union - 3200
CONTACT:
END:VEVENT
BEGIN:VEVENT
DTSTAMP:20100816T153945
DTSTART;TZID=America/Detroit:20101122T180000
DTEND;TZID=America/Detroit:20101122T200000
SUMMARY:Exercise / Fitness:UMove Class: Intro to Technique 201
DESCRIPTION:In this eight week class\, each class session will focus specifically on a new technique  and build on the previous sessions. Techniques include: Introduction to footwork and  climbing technique\; weight shifting and hip movement\; fundamental footwork: foot  switches and smearing\; sit starts\, mantles and one-armed mantles\; back-stepping and  flagging\; sidepulls\, underclings\, slopers and crimpers\; heel hooks\; reading sequences  and working problems.
UID:3281-914980@events.umich.edu
URL:https://events.umich.edu/event/3281
CLASS:PUBLIC
STATUS:CONFIRMED
CATEGORIES:
LOCATION:Intramural Sports Building - Climbing Wall
CONTACT:
END:VEVENT
BEGIN:VEVENT
DTSTAMP:20101123T230148
DTSTART;TZID=America/Detroit:20101122T190000
SUMMARY:Film Screening:Yossi and Jagger
DESCRIPTION:Join AMI (American Movement for Israel) as we watch and discuss Israel's fantastic gift to the  cinema world: Yossi and Jagger Directed by Eytan Fox. This film is \"A sociological study of two  men in the Israeli army who are lovers. The others in the unit react to their situation\,  suspecting\, but not always understanding. One will leave the military soon\, a few months away\,  as a snowy and desolute outpost is guarded from attack.\" The night will include the movie  screening\, enjoying snacks\, and engaging in a discussion about the issues raised in the film  afterwards.
UID:4273-1000890@events.umich.edu
URL:https://events.umich.edu/event/4273
CLASS:PUBLIC
STATUS:CONFIRMED
CATEGORIES:
LOCATION:Hillel (Mandell L Berman Center)
CONTACT:
END:VEVENT
BEGIN:VEVENT
DTSTAMP:20100929T110405
DTSTART;TZID=America/Detroit:20101122T200000
DTEND;TZID=America/Detroit:20101122T220000
SUMMARY:Meeting:Gender Explorers
DESCRIPTION:A social and support group for transgender\, transsexual\, genderqueer\, TG-questioning people and those who transgress gender binaries.\n\nThis safe\, open\, and affirming space includes discussion\, fellowship\, and significant others.\n\nThe group meets on the 2nd and 4th Monday of each month in the Spectrum Center.  To participate and to learn more\, email PJ at pajeho@umich.edu
UID:2680-920400@events.umich.edu
URL:https://events.umich.edu/event/2680
CLASS:PUBLIC
STATUS:CONFIRMED
CATEGORIES:multicultural,social justice,spectrumcenter
LOCATION:Michigan Union - 3200
CONTACT:
END:VEVENT
END:VCALENDAR