BEGIN:VCALENDAR
VERSION:2.0
PRODID:-//UM//UM*Events//EN
CALSCALE:GREGORIAN
BEGIN:VTIMEZONE
TZID:America/Detroit
TZURL:http://tzurl.org/zoneinfo/America/Detroit
X-LIC-LOCATION:America/Detroit
BEGIN:DAYLIGHT
TZOFFSETFROM:-0500
TZOFFSETTO:-0400
TZNAME:EDT
DTSTART:20070311T020000
RRULE:FREQ=YEARLY;BYMONTH=3;BYDAY=2SU
END:DAYLIGHT
BEGIN:STANDARD
TZOFFSETFROM:-0400
TZOFFSETTO:-0500
TZNAME:EST
DTSTART:20071104T020000
RRULE:FREQ=YEARLY;BYMONTH=11;BYDAY=1SU
END:STANDARD
END:VTIMEZONE
BEGIN:VEVENT
DTSTAMP:20101111T175607
DTSTART;TZID=America/Detroit:20101129T000000
SUMMARY:Exhibition:U-M and the Peace Corps: It All Started Here
DESCRIPTION:This dynamic exhibit showcases the unique role of University of Michigan students and faculty in the creation and popularizing of the Peace Corps. As Sargent Shriver said\, \"It might still be just an idea but for”¦those Michigan students and faculty.\" The exhibit highlights the development of student activism as well as important historical events.\n\nNormal Library Hours: http://www.lib.umich.edu/hours/list.php?singlebuilding=4
UID:3498-909773@events.umich.edu
URL:https://events.umich.edu/event/3498
CLASS:PUBLIC
STATUS:CONFIRMED
CATEGORIES:
LOCATION:Hatcher Graduate Library - Library Gallery (Room 100)
CONTACT:
END:VEVENT
BEGIN:VEVENT
DTSTAMP:20100909T114609
DTSTART;TZID=America/Detroit:20101129T083000
DTEND;TZID=America/Detroit:20101129T190000
SUMMARY:Exhibition:From Trace to Text: Highlights from the U-M Papyrus Collection
DESCRIPTION:This exhibit provides a behind-the-scenes look at the work of papyrologists: how they conserve scraps of often badly damaged papyri\, decipher traces of ink\, read and translate the resulting text\, edit and interpret its contents\, and make this available to both scholars and the general public. Modern technology\, such as digitization and multi-spectral imaging\, is aiding papyrologists in all of these efforts.\n\nTexts on display are some of the highlights of the collection. They include a wonderful drawing of an elephant\, a letter from a newly enlisted soldier to his mother\, and\, of course\, some pages of the oldest manuscript with letters of St. Paul (one of the most famous texts of the collection).\n\nIn its 90-year history\, the University of Michigan Papyrus Collection has trained more students and scholars in the field of papyrology than any other institution in North America. Founded by the visionary Francis W. Kelsey\, the Papyrus Collection has been the training ground for papyrologists from around the world and home to many great resident scholars\, such as Herbert and Louise Youtie\, Ludwig Koenen\, and Traianos Gagos\, who died on April 26\, 2010.\n\nPapyrology is the field of scholarship that deciphers and studies the texts written –primarily on papyrus– by people living in the ancient Mediterranean world between 2\,500 BCE and 1\,000 CE. Most of these texts are found in Egypt where the climate is dry enough to preserve this fragile material. It is a highly specialized and technical field\, requiring intensive training in language (Egyptian\, ancient Greek\, Latin\, Arabic)\, history\, and the unique set of skills necessary for reading original documents.\n\nThe exhibit is open during Audubon Room hours: Sun 1-7pm\, Mon-Fri 8:30-7pm\, Sat 10am-6pm.\n\nThis Exhibit is in Honor of Traianos Gagos (1960-2010).
UID:3497-917784@events.umich.edu
URL:https://events.umich.edu/event/3497
CLASS:PUBLIC
STATUS:CONFIRMED
CATEGORIES:
LOCATION:Hatcher Graduate Library - Audubon Room
CONTACT:
END:VEVENT
BEGIN:VEVENT
DTSTAMP:20100826T223421
DTSTART;TZID=America/Detroit:20101129T090000
SUMMARY:Exhibition:The View From Below
DESCRIPTION:Curator: Sara Blair\, University of Michigan
UID:3384-917845@events.umich.edu
URL:https://events.umich.edu/event/3384
CLASS:PUBLIC
STATUS:CONFIRMED
CATEGORIES:visual arts
LOCATION:202 S. Thayer - Humanities Gallery
CONTACT:
END:VEVENT
BEGIN:VEVENT
DTSTAMP:20100810T180447
DTSTART;TZID=America/Detroit:20101129T160000
DTEND;TZID=America/Detroit:20101129T173000
SUMMARY:Lecture / Discussion:Professor Jeffrey D. Sachs
DESCRIPTION:Jeffrey D. Sachs is the Director of The Earth Institute\, Quetelet Professor of Sustainable Development\, and Professor of Health Policy and Management at Columbia University. He is also Special Advisor to United Nations Secretary-General Ban Ki-moon. From 2002 to 2006\, he was Director of the UN Millennium Project and Special Advisor to United Nations Secretary-General Kofi Annan on the Millennium Development Goals\, the internationally agreed goals to reduce extreme poverty\, disease\, and hunger by the year 2015. Sachs is also President and Co-Founder of Millennium Promise Alliance\, a nonprofit organization aimed at ending extreme global poverty.\n\nThis lecture is made possible by a generous gift from the Citigroup Foundation. The lecture series brings prominent policymakers from the national and international arenas to the Ford School each year to engage students and faculty in dialogue and to give a public address.
UID:3258-914194@events.umich.edu
URL:https://events.umich.edu/event/3258
CLASS:PUBLIC
STATUS:CONFIRMED
CATEGORIES:social justice
LOCATION:Rackham Graduate School (Horace H.) - Auditorium
CONTACT:
END:VEVENT
BEGIN:VEVENT
DTSTAMP:20101111T175743
DTSTART;TZID=America/Detroit:20101129T170000
DTEND;TZID=America/Detroit:20101129T180000
SUMMARY:Presentation:Marjorie AgosÃ­n Reading
DESCRIPTION:Marjorie AgosÃ­n has authored almost twenty books of poetry and memoir\, most  recently The Light of Desire / La Luz del Deseo\, and Secrets in the Sand: The  Young Women of JuÃ¡rez.  She was nominated for the Neustad Prize for World  Literature in 2003 and 2005\, and in 1998 she was honored by the United  Nations for her human rights work.
UID:4186-916559@events.umich.edu
URL:https://events.umich.edu/event/4186
CLASS:PUBLIC
STATUS:CONFIRMED
CATEGORIES:literary arts
LOCATION:Angell Hall - 3222
CONTACT:
END:VEVENT
BEGIN:VEVENT
DTSTAMP:20100929T102837
DTSTART;TZID=America/Detroit:20101129T180000
DTEND;TZID=America/Detroit:20101129T200000
SUMMARY:Well-being:Free and Anonymous HIV Testing
DESCRIPTION:Every Monday during the academic year\, a counselor from HARC\, the HIV/AIDS Resource Center\, is at the Spectrum Center from 6-8 pm offering free and anonymous HIV testing. The Spectrum Center is a welcoming and safe space for all seeking testing. For more information on HARC and testing\, call 800.578.2300\, 734.572.9355\, or visit them on the web at http://hivaidsresource.org/
UID:3894-909583@events.umich.edu
URL:https://events.umich.edu/event/3894
CLASS:PUBLIC
STATUS:CONFIRMED
CATEGORIES:respect,social justice
LOCATION:Michigan Union - Spectrum Center - 3200
CONTACT:
END:VEVENT
END:VCALENDAR