BEGIN:VCALENDAR
VERSION:2.0
PRODID:-//UM//UM*Events//EN
CALSCALE:GREGORIAN
BEGIN:VTIMEZONE
TZID:America/Detroit
TZURL:http://tzurl.org/zoneinfo/America/Detroit
X-LIC-LOCATION:America/Detroit
BEGIN:DAYLIGHT
TZOFFSETFROM:-0500
TZOFFSETTO:-0400
TZNAME:EDT
DTSTART:20070311T020000
RRULE:FREQ=YEARLY;BYMONTH=3;BYDAY=2SU
END:DAYLIGHT
BEGIN:STANDARD
TZOFFSETFROM:-0400
TZOFFSETTO:-0500
TZNAME:EST
DTSTART:20071104T020000
RRULE:FREQ=YEARLY;BYMONTH=11;BYDAY=1SU
END:STANDARD
END:VTIMEZONE
BEGIN:VEVENT
DTSTAMP:20101111T175607
DTSTART;TZID=America/Detroit:20101130T000000
SUMMARY:Exhibition:U-M and the Peace Corps: It All Started Here
DESCRIPTION:This dynamic exhibit showcases the unique role of University of Michigan students and faculty in the creation and popularizing of the Peace Corps. As Sargent Shriver said\, \"It might still be just an idea but for”¦those Michigan students and faculty.\" The exhibit highlights the development of student activism as well as important historical events.\n\nNormal Library Hours: http://www.lib.umich.edu/hours/list.php?singlebuilding=4
UID:3498-909774@events.umich.edu
URL:https://events.umich.edu/event/3498
CLASS:PUBLIC
STATUS:CONFIRMED
CATEGORIES:
LOCATION:Hatcher Graduate Library - Library Gallery (Room 100)
CONTACT:
END:VEVENT
BEGIN:VEVENT
DTSTAMP:20100909T114609
DTSTART;TZID=America/Detroit:20101130T083000
DTEND;TZID=America/Detroit:20101130T190000
SUMMARY:Exhibition:From Trace to Text: Highlights from the U-M Papyrus Collection
DESCRIPTION:This exhibit provides a behind-the-scenes look at the work of papyrologists: how they conserve scraps of often badly damaged papyri\, decipher traces of ink\, read and translate the resulting text\, edit and interpret its contents\, and make this available to both scholars and the general public. Modern technology\, such as digitization and multi-spectral imaging\, is aiding papyrologists in all of these efforts.\n\nTexts on display are some of the highlights of the collection. They include a wonderful drawing of an elephant\, a letter from a newly enlisted soldier to his mother\, and\, of course\, some pages of the oldest manuscript with letters of St. Paul (one of the most famous texts of the collection).\n\nIn its 90-year history\, the University of Michigan Papyrus Collection has trained more students and scholars in the field of papyrology than any other institution in North America. Founded by the visionary Francis W. Kelsey\, the Papyrus Collection has been the training ground for papyrologists from around the world and home to many great resident scholars\, such as Herbert and Louise Youtie\, Ludwig Koenen\, and Traianos Gagos\, who died on April 26\, 2010.\n\nPapyrology is the field of scholarship that deciphers and studies the texts written –primarily on papyrus– by people living in the ancient Mediterranean world between 2\,500 BCE and 1\,000 CE. Most of these texts are found in Egypt where the climate is dry enough to preserve this fragile material. It is a highly specialized and technical field\, requiring intensive training in language (Egyptian\, ancient Greek\, Latin\, Arabic)\, history\, and the unique set of skills necessary for reading original documents.\n\nThe exhibit is open during Audubon Room hours: Sun 1-7pm\, Mon-Fri 8:30-7pm\, Sat 10am-6pm.\n\nThis Exhibit is in Honor of Traianos Gagos (1960-2010).
UID:3497-917785@events.umich.edu
URL:https://events.umich.edu/event/3497
CLASS:PUBLIC
STATUS:CONFIRMED
CATEGORIES:
LOCATION:Hatcher Graduate Library - Audubon Room
CONTACT:
END:VEVENT
BEGIN:VEVENT
DTSTAMP:20100826T223421
DTSTART;TZID=America/Detroit:20101130T090000
SUMMARY:Exhibition:The View From Below
DESCRIPTION:Curator: Sara Blair\, University of Michigan
UID:3384-917846@events.umich.edu
URL:https://events.umich.edu/event/3384
CLASS:PUBLIC
STATUS:CONFIRMED
CATEGORIES:visual arts
LOCATION:202 S. Thayer - Humanities Gallery
CONTACT:
END:VEVENT
BEGIN:VEVENT
DTSTAMP:20101111T175737
DTSTART;TZID=America/Detroit:20101130T100000
SUMMARY:Exhibition:Out of the Ordinary: Selections from the Bohlen Wood Art and Fusfeld Folk Art Collections
DESCRIPTION:This exhibition\, which runs from September 11 through Spring of 2011\, allows visitors to  explore two extraordinary collections of art–the Robert M. and Lillian Montalto Bohlen  Collection of Wood Art and the Daniel and Harriet Fusfeld Folk Art Collection. The Bohlen  collection presents an astonishing range of contemporary artworks fashioned from wood and  includes works that explores traditional and non-traditional vessel forms as well as works that  are more purely sculptural. The outstanding objects that make up the Fusfeld collection are both  geographically and historically wide-ranging\, including work by early nineteenth-century  itinerant folk portraitists as well as late twentieth-century sculpture and painting by “outsider”  artists from the American South\, Midwest\, and Northeast.
UID:3293-916152@events.umich.edu
URL:https://events.umich.edu/event/3293
CLASS:PUBLIC
STATUS:CONFIRMED
CATEGORIES:visual arts
LOCATION:Museum of Art
CONTACT:
END:VEVENT
BEGIN:VEVENT
DTSTAMP:20101111T175904
DTSTART;TZID=America/Detroit:20101130T100000
SUMMARY:Exhibition:UMMA Projects: Simon Dybbroe MÃ¸ller
DESCRIPTION:Things are not always as they seem in the work of Simon Dybbroe MÃ¸ller. Indeed\, the Danish artist's works can at times appear to have been teleported from a slightly askew\, alternate version of the past. Seemingly familiar forms often appear in unexpected configurations and objects we think we recognize turn out to be something else entirely. An abstract wall painting emerges from beneath a layer of peeling plaster. A group of minimalist sculptures turn out to be the pieces of an enlarged Soma cube. This uncertainty is central to the experience of Dybbroe MÃ¸ller's work\, where an initial misrecognition leads to a moment of aesthetic discovery.\n\nDybbroe MÃ¸ller's penchant for puzzles and paradoxes reflects his interest in modernism's theoretical aspirations as well as its practical failings. Similarly\, his frequent adoption of “outmoded” media both provides him with a diverse artistic palette and a means of questioning the past century's faith in progress through technology and the avant-garde promise of continual artistic development.\n\nFor Dybbroe MÃ¸ller's first solo exhibition in a North American museum\, UMMA will present a new body of work that continues his ongoing engagement with and critique of the modernist paradigm of transparency.
UID:4185-921770@events.umich.edu
URL:https://events.umich.edu/event/4185
CLASS:PUBLIC
STATUS:CONFIRMED
CATEGORIES:visual arts
LOCATION:Museum of Art - Projects Gallery
CONTACT:
END:VEVENT
BEGIN:VEVENT
DTSTAMP:20101111T175656
DTSTART;TZID=America/Detroit:20101130T190000
DTEND;TZID=America/Detroit:20101130T210000
SUMMARY:Exhibition:Gleek Out @ Pierpont
DESCRIPTION:Join your fellow Michigan \"Gleeks\" at our weekly Glee watch party! Held every Tuesday\, from 7-9 pm in the Pierpont Commons TV lounge (near UGo's)\, this event will become a regular favorite for all the UM Glee fans out there.\n\nEach week we'll have a different competition to find Michigan's biggest Gleeks\, then watch the show together. (Because we get it. It's awesome.)\n\nHere's the schedule of Gleek Competitions:\n\n10/12-Best McKinley HS Cheer 10/26-Sue Sylvester Zing-Off 11/2-Dress as Your Fave Character Costume Contest 11/9-Name that Glee Tune 11/16-Slushie Eating Contest 11/30-Glee Karaoke Contest 12/7-Extreme Glee Trivia\n\nCome prepared to show your stuff\, and be crowned Michigan's Biggest Gleek!
UID:4007-913346@events.umich.edu
URL:https://events.umich.edu/event/4007
CLASS:PUBLIC
STATUS:CONFIRMED
CATEGORIES:visual arts
LOCATION:Pierpont Commons - TV Lounge (Near UGo&#039;s)
CONTACT:
END:VEVENT
BEGIN:VEVENT
DTSTAMP:20101118T230147
DTSTART;TZID=America/Detroit:20101130T190000
DTEND;TZID=America/Detroit:20101130T210000
SUMMARY:Performance:Ring of Steel Action Theatre
DESCRIPTION:Theatrical combat is a multidisciplinary art that combines acting with elements of  fencing\, martial arts\, dance\, and music to develop a safe and effective  performance. It is a distinct area of study\; essentially a marital art where the focus  is not to injure your partner. As with any martial art\, years of training are needed  before an individual is prepared to safely share their skills on the stage.\n\nThe Ring of Steel offers theatrical combat training in a wide range of weapons and  combat styles\, based in large part on Aikido and late period rapier.
UID:4252-973240@events.umich.edu
URL:https://events.umich.edu/event/4252
CLASS:PUBLIC
STATUS:CONFIRMED
CATEGORIES:architecture,dance,film,literary arts,music,theater,visual arts
LOCATION:
CONTACT:
END:VEVENT
BEGIN:VEVENT
DTSTAMP:20101201T230156
DTSTART;TZID=America/Detroit:20101130T190000
SUMMARY:Lecture / Discussion:What Makes Gay Life Worth Living?
DESCRIPTION:The recent spate of gay teen suicides has led\, among other things\, to Dan Savage's \"It Gets  Better\" project--suggesting that\, although being \"different\" as a teenager can be challenging\,  such challenges eventually retreat in the face of a rewarding life. In this new talk\, veteran  gay speaker\, writer\, and philosopher John Corvino critically explores this theme by raising a  series of questions: What gets better\, and why? Are there distinctive things that give \"gay  life\" meaning\, or are gay lives really no different from others? What is the value of  relationship? Of gender?  Of sexual activity? The program will include a substantial  Q&A/discussion.\n\n Dr. John Corvino has been speaking and writing on GLBT issues since the early 1990s. He  has educated and entertained professional organizations\, government contractors\, churches\,  and hundreds of college and university audiences.\n\nJohn holds a Ph.D. in philosophy from the University of Texas at Austin and is the editor of  Same Sex: Debating the Ethics\, Science and Culture of Homosexuality and the author of  over 100 articles and opinion pieces\, which have appeared in regional and national print  media\, at the online Independent Gay Forum (www.indegayforum.org)\, and in numerous  academic journals and anthologies.\n\nJohn's column \"The Gay Moralist\" appears every Friday at LOGO Online's 365gay.com\,  \"America's Most Read Gay News Source.\" They are also available on his website:   http://johncorvino.com/wp/.  His DVD presentation of \"What?s Morally Wrong With  Homosexuality?\" is available at www.gaymoralist.com.\n\nSponsored by the Center for Ethics in Public Life\, the LSA Theme Semester on \"What Makes  Life Worth Living?\"\, the Department of Philosophy\, the Spectrum Center\, the Lesbian-Gay- Queer Research Initiative at the Institute for Research on Women and Gender\, and the  Michigan Political Union.
UID:4321-1035676@events.umich.edu
URL:https://events.umich.edu/event/4321
CLASS:PUBLIC
STATUS:CONFIRMED
CATEGORIES:
LOCATION:Rackham Graduate School (Horace H.) - Apitheatre
CONTACT:
END:VEVENT
BEGIN:VEVENT
DTSTAMP:20100902T201924
DTSTART;TZID=America/Detroit:20101130T200000
DTEND;TZID=America/Detroit:20101130T230000
SUMMARY:Exhibition:ArtsBreak
DESCRIPTION:Come explore your creative side and make free crafts at ArtsBreak! Held every Tuesday night\, these drop-in events give you the chance to relieve some stress by making a cool\, totally free craft project. Stop by anytime between 8-11 p.m.\n\nFor the most up-to-date list of projects\, check out our website at: http://www.umich.edu/~uuap.
UID:3466-918984@events.umich.edu
URL:https://events.umich.edu/event/3466
CLASS:PUBLIC
STATUS:CONFIRMED
CATEGORIES:visual arts
LOCATION:Michigan Union - MUG (Ground Floor)
CONTACT:
END:VEVENT
BEGIN:VEVENT
DTSTAMP:20101111T175727
DTSTART;TZID=America/Detroit:20101130T200000
SUMMARY:Performance:Matt White
DESCRIPTION:
UID:4039-915427@events.umich.edu
URL:https://events.umich.edu/event/4039
CLASS:PUBLIC
STATUS:CONFIRMED
CATEGORIES:music
LOCATION:
CONTACT:
END:VEVENT
END:VCALENDAR